BEGIN:VCALENDAR
VERSION:2.0
PRODID:-//Finding Freedom - ECPv6.15.20//NONSGML v1.0//EN
CALSCALE:GREGORIAN
METHOD:PUBLISH
X-ORIGINAL-URL:https://findingfreedom.solutions
X-WR-CALDESC:Events for Finding Freedom
REFRESH-INTERVAL;VALUE=DURATION:PT1H
X-Robots-Tag:noindex
X-PUBLISHED-TTL:PT1H
BEGIN:VTIMEZONE
TZID:America/Denver
BEGIN:DAYLIGHT
TZOFFSETFROM:-0700
TZOFFSETTO:-0600
TZNAME:MDT
DTSTART:20190310T090000
END:DAYLIGHT
BEGIN:STANDARD
TZOFFSETFROM:-0600
TZOFFSETTO:-0700
TZNAME:MST
DTSTART:20191103T080000
END:STANDARD
BEGIN:DAYLIGHT
TZOFFSETFROM:-0700
TZOFFSETTO:-0600
TZNAME:MDT
DTSTART:20200308T090000
END:DAYLIGHT
BEGIN:STANDARD
TZOFFSETFROM:-0600
TZOFFSETTO:-0700
TZNAME:MST
DTSTART:20201101T080000
END:STANDARD
BEGIN:DAYLIGHT
TZOFFSETFROM:-0700
TZOFFSETTO:-0600
TZNAME:MDT
DTSTART:20210314T090000
END:DAYLIGHT
BEGIN:STANDARD
TZOFFSETFROM:-0600
TZOFFSETTO:-0700
TZNAME:MST
DTSTART:20211107T080000
END:STANDARD
BEGIN:DAYLIGHT
TZOFFSETFROM:-0700
TZOFFSETTO:-0600
TZNAME:MDT
DTSTART:20220313T090000
END:DAYLIGHT
BEGIN:STANDARD
TZOFFSETFROM:-0600
TZOFFSETTO:-0700
TZNAME:MST
DTSTART:20221106T080000
END:STANDARD
BEGIN:DAYLIGHT
TZOFFSETFROM:-0700
TZOFFSETTO:-0600
TZNAME:MDT
DTSTART:20230312T090000
END:DAYLIGHT
BEGIN:STANDARD
TZOFFSETFROM:-0600
TZOFFSETTO:-0700
TZNAME:MST
DTSTART:20231105T080000
END:STANDARD
BEGIN:DAYLIGHT
TZOFFSETFROM:-0700
TZOFFSETTO:-0600
TZNAME:MDT
DTSTART:20240310T090000
END:DAYLIGHT
BEGIN:STANDARD
TZOFFSETFROM:-0600
TZOFFSETTO:-0700
TZNAME:MST
DTSTART:20241103T080000
END:STANDARD
BEGIN:DAYLIGHT
TZOFFSETFROM:-0700
TZOFFSETTO:-0600
TZNAME:MDT
DTSTART:20250309T090000
END:DAYLIGHT
BEGIN:STANDARD
TZOFFSETFROM:-0600
TZOFFSETTO:-0700
TZNAME:MST
DTSTART:20251102T080000
END:STANDARD
END:VTIMEZONE
BEGIN:VEVENT
DTSTART;TZID=America/Denver:20240524T180000
DTEND;TZID=America/Denver:20240524T210000
DTSTAMP:20260425T052651
CREATED:20210115T183653Z
LAST-MODIFIED:20230521T161713Z
UID:4189-1716573600-1716584400@findingfreedom.solutions
SUMMARY:Community Evening
DESCRIPTION:Join us for our Community Evening! We will begin the evening with a shared meal together – if you can\, bring a main dish\, side dish\, or dessert. Dinner will begin at 6pm MST\, but you are welcome to arrive anytime throughout the evening. Worship\, a message\, testimonies\, and sharing starts at 7:15pm and our evening will wrap-up sometime between 8.30 – 9:00pm. \nWe meet at The Landing in Bozeman. If you can’t be there in person\, use this Zoom link from 7:15pm MDT onwards. (Zoom link: https://us02web.zoom.us/j/755395152?pwd=TmM4a0xYTG9TOUI4K2dXT0M5RHlPZz09#success)
URL:https://findingfreedom.solutions/event/community-evening-virtual-2021-10-01-2021-10-15/2024-05-24/
LOCATION:The Landing – Home of Finding Freedom\, 2419 E. Cameron Bridge Rd\, Bozeman\, MT\, 59718
ORGANIZER;CN="Susan Williams":MAILTO:Susan.Williams@findingfreedom.solutions
END:VEVENT
BEGIN:VEVENT
DTSTART;TZID=America/Denver:20240510T180000
DTEND;TZID=America/Denver:20240510T210000
DTSTAMP:20260425T052651
CREATED:20210115T183653Z
LAST-MODIFIED:20230205T205422Z
UID:4181-1715364000-1715374800@findingfreedom.solutions
SUMMARY:Community Evening
DESCRIPTION:Join us for our Community Evening! We will begin the evening with a shared meal together – if you can\, bring a main dish\, side dish\, or dessert. Dinner will begin at 6pm MST\, but you are welcome to arrive anytime throughout the evening. Worship\, a message\, testimonies\, and sharing starts at 7:15pm and our evening will wrap-up sometime between 8.30 – 9:00pm. \nWe meet at The Landing in Bozeman. If you can’t be there in person\, use this Zoom link from 7:15pm MDT onwards. (Zoom link: https://us02web.zoom.us/j/755395152?pwd=TmM4a0xYTG9TOUI4K2dXT0M5RHlPZz09#success)
URL:https://findingfreedom.solutions/event/community-evening-virtual-2021-10-01-2021-10-15/2024-05-10/
LOCATION:The Landing – Home of Finding Freedom\, 2419 E. Cameron Bridge Rd\, Bozeman\, MT\, 59718
ORGANIZER;CN="Susan Williams":MAILTO:Susan.Williams@findingfreedom.solutions
END:VEVENT
BEGIN:VEVENT
DTSTART;TZID=America/Denver:20240426T180000
DTEND;TZID=America/Denver:20240426T210000
DTSTAMP:20260425T052651
CREATED:20210115T183653Z
LAST-MODIFIED:20230205T205421Z
UID:4174-1714154400-1714165200@findingfreedom.solutions
SUMMARY:Community Evening
DESCRIPTION:Join us for our Community Evening! We will begin the evening with a shared meal together – if you can\, bring a main dish\, side dish\, or dessert. Dinner will begin at 6pm MST\, but you are welcome to arrive anytime throughout the evening. Worship\, a message\, testimonies\, and sharing starts at 7:15pm and our evening will wrap-up sometime between 8.30 – 9:00pm. \nWe meet at The Landing in Bozeman. If you can’t be there in person\, use this Zoom link from 7:15pm MDT onwards. (Zoom link: https://us02web.zoom.us/j/755395152?pwd=TmM4a0xYTG9TOUI4K2dXT0M5RHlPZz09#success)
URL:https://findingfreedom.solutions/event/community-evening-virtual-2021-10-01-2021-10-15/2024-04-26/
LOCATION:The Landing – Home of Finding Freedom\, 2419 E. Cameron Bridge Rd\, Bozeman\, MT\, 59718
ORGANIZER;CN="Susan Williams":MAILTO:Susan.Williams@findingfreedom.solutions
END:VEVENT
BEGIN:VEVENT
DTSTART;TZID=America/Denver:20230812T160000
DTEND;TZID=America/Denver:20230812T193000
DTSTAMP:20260425T052651
CREATED:20230521T231623Z
LAST-MODIFIED:20230521T231623Z
UID:5392-1691856000-1691868600@findingfreedom.solutions
SUMMARY:Annual Landing Day Celebration
DESCRIPTION:Come and join us for our annual summer gathering\, good food\, good company\, bounce house for youngsters – a time to be together. More details to follow.
URL:https://findingfreedom.solutions/event/annual-landing-day-celebration/
LOCATION:The Landing – Home of Finding Freedom\, 2419 E. Cameron Bridge Rd\, Bozeman\, MT\, 59718
ORGANIZER;CN="Susan Williams":MAILTO:Susan.Williams@findingfreedom.solutions
END:VEVENT
BEGIN:VEVENT
DTSTART;TZID=America/Denver:20230809T183000
DTEND;TZID=America/Denver:20230809T203000
DTSTAMP:20260425T052651
CREATED:20220605T215238Z
LAST-MODIFIED:20230827T160947Z
UID:5072-1691605800-1691613000@findingfreedom.solutions
SUMMARY:Women's Q&A Session (in person and online)
DESCRIPTION:Ladies\, join us for our Women’s Q&A session. We want this to be a time for us to come together and ask questions about the current challenges or any aspect of your journey.  If you don’t have a question you are welcome to form part of our community for the session. There will be a lot of learning that goes on! \nWe meet in person at The Landing (2419 E Cameron Bridge Rd\, Bozeman) or you can use this Zoom link to join the meeting.
URL:https://findingfreedom.solutions/event/womens-qa-session-virtual-4-2023-08-09/2023-08-09/
LOCATION:The Landing – Home of Finding Freedom\, 2419 E. Cameron Bridge Rd\, Bozeman\, MT\, 59718
ORGANIZER;CN="Susan Williams":MAILTO:Susan.Williams@findingfreedom.solutions
END:VEVENT
BEGIN:VEVENT
DTSTART;TZID=America/Denver:20221228T100000
DTEND;TZID=America/Denver:20221228T120000
DTSTAMP:20260425T052651
CREATED:20220605T215238Z
LAST-MODIFIED:20221223T111622Z
UID:5060-1672221600-1672228800@findingfreedom.solutions
SUMMARY:Women's Q&A Session (online only)
DESCRIPTION:Ladies\, join us for our Women’s Q&A session. We want this to be a time for us to come together and ask questions about the current challenges or any aspect of your journey.  If you don’t have a question you are welcome to form part of our community for the session. There will be a lot of learning that goes on! \nThis event is ONLINE ONLY. Here is the  Zoom link to join the meeting.
URL:https://findingfreedom.solutions/event/womens-qa-session-virtual-4-2022-12-28/
LOCATION:The Landing – Home of Finding Freedom\, 2419 E. Cameron Bridge Rd\, Bozeman\, MT\, 59718
ORGANIZER;CN="Susan Williams":MAILTO:Susan.Williams@findingfreedom.solutions
END:VEVENT
BEGIN:VEVENT
DTSTART;TZID=America/Denver:20220627T183000
DTEND;TZID=America/Denver:20220627T203000
DTSTAMP:20260425T052651
CREATED:20220606T224552Z
LAST-MODIFIED:20221223T112344Z
UID:4227-1656354600-1656361800@findingfreedom.solutions
SUMMARY:Women's Q&A Session (in person and online)
DESCRIPTION:Ladies\, join us for our Women’s Q&A session. We want this to be a time for us to come together and ask questions about the current challenges or any aspect of your journey.  If you don’t have a question you are welcome to form part of our community for the session. There will be a lot of learning that goes on! \nWe meet in person at The Landing (2419 E Cameron Bridge Rd\, Bozeman) or you can use this Zoom link to join the meeting.
URL:https://findingfreedom.solutions/event/womens-qa-session-5/2022-06-27/
LOCATION:The Landing – Home of Finding Freedom\, 2419 E. Cameron Bridge Rd\, Bozeman\, MT\, 59718
ORGANIZER;CN="Susan Williams":MAILTO:Susan.Williams@findingfreedom.solutions
END:VEVENT
BEGIN:VEVENT
DTSTART;TZID=America/Denver:20220615T183000
DTEND;TZID=America/Denver:20220615T203000
DTSTAMP:20260425T052651
CREATED:20220605T215238Z
LAST-MODIFIED:20221223T112101Z
UID:4208-1655317800-1655325000@findingfreedom.solutions
SUMMARY:Women's Q&A Session (in person and online)
DESCRIPTION:Ladies\, join us for our Women’s Q&A session. We want this to be a time for us to come together and ask questions about the current challenges or any aspect of your journey.  If you don’t have a question you are welcome to form part of our community for the session. There will be a lot of learning that goes on! \nWe meet in person at The Landing (2419 E Cameron Bridge Rd\, Bozeman) or you can use this Zoom link to join the meeting.
URL:https://findingfreedom.solutions/event/womens-qa-session-virtual-4/2022-06-15/
LOCATION:The Landing – Home of Finding Freedom\, 2419 E. Cameron Bridge Rd\, Bozeman\, MT\, 59718
ORGANIZER;CN="Susan Williams":MAILTO:Susan.Williams@findingfreedom.solutions
END:VEVENT
BEGIN:VEVENT
DTSTART;TZID=America/Denver:20220129T090000
DTEND;TZID=America/Denver:20220129T110000
DTSTAMP:20260425T052651
CREATED:20220126T031625Z
LAST-MODIFIED:20220126T031625Z
UID:4099-1643446800-1643454000@findingfreedom.solutions
SUMMARY:Men's Saturday
DESCRIPTION:Men\, gather at The Landing (2419 E Cameron Bridge Road\, Bozeman) to spend time together while working on projects around the property. Coffee and donuts will be available!
URL:https://findingfreedom.solutions/event/mens-saturday/2022-01-29/
LOCATION:The Landing – Home of Finding Freedom\, 2419 E. Cameron Bridge Rd\, Bozeman\, MT\, 59718
END:VEVENT
BEGIN:VEVENT
DTSTART;TZID=America/Denver:20211204T150000
DTEND;TZID=America/Denver:20211204T170000
DTSTAMP:20260425T052651
CREATED:20210930T211732Z
LAST-MODIFIED:20211130T194948Z
UID:3796-1638630000-1638637200@findingfreedom.solutions
SUMMARY:Light Up The Landing
DESCRIPTION:
URL:https://findingfreedom.solutions/event/christmas-celebration-at-the-landing/
LOCATION:The Landing – Home of Finding Freedom\, 2419 E. Cameron Bridge Rd\, Bozeman\, MT\, 59718
END:VEVENT
BEGIN:VEVENT
DTSTART;TZID=America/Denver:20210910T180000
DTEND;TZID=America/Denver:20210910T203000
DTSTAMP:20260425T052651
CREATED:20210115T183653Z
LAST-MODIFIED:20210722T155453Z
UID:3137-1631296800-1631305800@findingfreedom.solutions
SUMMARY:Community Evening
DESCRIPTION:Join us on September 10th\, from 6-8:30pm\, for our Community Evening in person at The Landing (2419 E. Cameron Bridge Road). There will be no shared food\, however\, we encourage you to bring your dinner and eat together on the lawn. We will then hear from Peter\, and share celebrations and prayer requests together. \nWe have missed being together in person and we look forward to welcoming you. Please bring a chair with you\, if you are able.
URL:https://findingfreedom.solutions/event/community-evening-virtual-2021-09-10/
LOCATION:The Landing – Home of Finding Freedom\, 2419 E. Cameron Bridge Rd\, Bozeman\, MT\, 59718
END:VEVENT
BEGIN:VEVENT
DTSTART;TZID=America/Denver:20210827T180000
DTEND;TZID=America/Denver:20210827T203000
DTSTAMP:20260425T052651
CREATED:20210115T183653Z
LAST-MODIFIED:20210722T155315Z
UID:3136-1630087200-1630096200@findingfreedom.solutions
SUMMARY:Community Evening
DESCRIPTION:Join us on August 27th\, from 6-8:30pm\, for our Community Evening in person at The Landing (2419 E. Cameron Bridge Road). There will be no shared food\, however\, we encourage you to bring your dinner and eat together on the lawn.  We will then hear from Peter\, and share celebrations and prayer requests together.\n\nWe have missed being together in person and we look forward to welcoming you. Please bring a chair with you\, if you are able.
URL:https://findingfreedom.solutions/event/community-evening-virtual-2021-08-27/
LOCATION:The Landing – Home of Finding Freedom\, 2419 E. Cameron Bridge Rd\, Bozeman\, MT\, 59718
END:VEVENT
BEGIN:VEVENT
DTSTART;VALUE=DATE:20210814
DTEND;VALUE=DATE:20210815
DTSTAMP:20260425T052651
CREATED:20210115T183653Z
LAST-MODIFIED:20210730T190814Z
UID:3135-1628899200-1628985599@findingfreedom.solutions
SUMMARY:The Landing Birthday Celebration
DESCRIPTION:
URL:https://findingfreedom.solutions/event/landing-birthday-celebration-2021/
LOCATION:The Landing – Home of Finding Freedom\, 2419 E. Cameron Bridge Rd\, Bozeman\, MT\, 59718
END:VEVENT
BEGIN:VEVENT
DTSTART;TZID=America/Denver:20210730T180000
DTEND;TZID=America/Denver:20210730T203000
DTSTAMP:20260425T052651
CREATED:20210115T183653Z
LAST-MODIFIED:20210722T155434Z
UID:3134-1627668000-1627677000@findingfreedom.solutions
SUMMARY:Community Evening
DESCRIPTION:Join us on July 30th\, from 6-8:30pm\, for our Community Evening in person at The Landing (2419 E. Cameron Bridge Road). There will be no shared food\, however\, we encourage you to bring your dinner and eat together on the lawn. We will then hear from Peter\, and share celebrations and prayer requests together. \nWe have missed being together in person and we look forward to welcoming you. Please bring a chair with you\, if you are able.
URL:https://findingfreedom.solutions/event/community-evening-virtual-2021-07-30/
LOCATION:The Landing – Home of Finding Freedom\, 2419 E. Cameron Bridge Rd\, Bozeman\, MT\, 59718
END:VEVENT
BEGIN:VEVENT
DTSTART;TZID=America/Denver:20210611T183000
DTEND;TZID=America/Denver:20210611T203000
DTSTAMP:20260425T052651
CREATED:20210115T183653Z
LAST-MODIFIED:20210609T221452Z
UID:3131-1623436200-1623443400@findingfreedom.solutions
SUMMARY:Community Evening (in-person)
DESCRIPTION:This Friday evening\, June 11th from 6-8:30pm\, we are hosting our Community Evening in person at The Landing (2419 E. Cameron Bridge Road). There will be no shared food\, however\, we encourage you to bring your dinner and we will eat together on the lawn.  We will then migrate to our large barn and worship\, hear from Peter\, and share celebrations and prayer requests together. \nWe are missing being together in person\, so we look forward to welcoming you all. Please bring a chair with you\, if you are able. And the barn is not heated so it would be good to bring a jacket with you as well.
URL:https://findingfreedom.solutions/event/community-evening-virtual-2021-06-11/
LOCATION:The Landing – Home of Finding Freedom\, 2419 E. Cameron Bridge Rd\, Bozeman\, MT\, 59718
END:VEVENT
BEGIN:VEVENT
DTSTART;TZID=America/Denver:20210522T090000
DTEND;TZID=America/Denver:20210522T120000
DTSTAMP:20260425T052651
CREATED:20210513T132625Z
LAST-MODIFIED:20210519T133218Z
UID:3395-1621674000-1621684800@findingfreedom.solutions
SUMMARY:Men’s Event- Coffee & Doughnuts at The Landing
DESCRIPTION:Men\, come join us on May 22nd from 9am – 11pm.  This event is for all men to come and spend time together.You are welcome to come and enjoy coffee\, a doughnut\, and conversation with other men.And if you want\, to help with a couple of projects around The Landing. All men are welcomed from ages 16 to 99. \nFor questions\, please email Jim at jim.panten@findingfreedom.solutions.
URL:https://findingfreedom.solutions/event/mens-event-may-2021/
LOCATION:The Landing – Home of Finding Freedom\, 2419 E. Cameron Bridge Rd\, Bozeman\, MT\, 59718
ORGANIZER;CN="Peter Holmes":MAILTO:Peter.Holmes@findingfreedom.solutions
END:VEVENT
BEGIN:VEVENT
DTSTART;TZID=America/Denver:20210404T063000
DTEND;TZID=America/Denver:20210404T073000
DTSTAMP:20260425T052651
CREATED:20210322T192026Z
LAST-MODIFIED:20210322T195055Z
UID:3296-1617517800-1617521400@findingfreedom.solutions
SUMMARY:Easter Sunrise Service
DESCRIPTION:Join us as we celebrate the resurrection of Jesus on Easter Sunday\, April 4th from 6:30am-7:30am as we gather together at The Landing for a sunrise celebration.
URL:https://findingfreedom.solutions/event/easter-sunrise-service/
LOCATION:The Landing – Home of Finding Freedom\, 2419 E. Cameron Bridge Rd\, Bozeman\, MT\, 59718
END:VEVENT
BEGIN:VEVENT
DTSTART;TZID=America/Denver:20210327T090000
DTEND;TZID=America/Denver:20210327T110000
DTSTAMP:20260425T052651
CREATED:20210317T221158Z
LAST-MODIFIED:20210317T221158Z
UID:3277-1616835600-1616842800@findingfreedom.solutions
SUMMARY:Men's Event - Coffee\, Donuts\, and Burn!
DESCRIPTION:This event is for all men to come and spend time together.\nYou are welcome to come and enjoy coffee\, a doughnut\, and conversation with other men.\nAnd if you want\, to help with our project of burning the pile of branches at The Landing from last fall.\nAll men are welcomed from ages 16 to 99.
URL:https://findingfreedom.solutions/event/mens-event-coffee-donuts-and-burn/
LOCATION:The Landing – Home of Finding Freedom\, 2419 E. Cameron Bridge Rd\, Bozeman\, MT\, 59718
ORGANIZER;CN="Peter Holmes":MAILTO:Peter.Holmes@findingfreedom.solutions
END:VEVENT
BEGIN:VEVENT
DTSTART;TZID=America/Denver:20200908T183000
DTEND;TZID=America/Denver:20200908T203000
DTSTAMP:20260425T052651
CREATED:20200903T164324Z
LAST-MODIFIED:20221117T181714Z
UID:2611-1599589800-1599597000@findingfreedom.solutions
SUMMARY:Men's Open Group
DESCRIPTION:Gentlemen\, if you want some help on your journey into more healing\, wholeness\, or relationship with Christ or want to see what such a journey might look like\, this is a great place for you! This evening is an open forum for you to come as you are. There is no pressure to come with an issue or question. \nWe meet in person at The Landing (2419 E Cameron Bridge Road\, Bozeman) and also online.  Zoom link here. All men are welcome to join. \n 
URL:https://findingfreedom.solutions/event/mens-open-group-2/2020-09-08/
LOCATION:The Landing – Home of Finding Freedom\, 2419 E. Cameron Bridge Rd\, Bozeman\, MT\, 59718
ORGANIZER;CN="Peter Holmes":MAILTO:Peter.Holmes@findingfreedom.solutions
END:VEVENT
END:VCALENDAR