BEGIN:VCALENDAR
VERSION:2.0
PRODID:-//Finding Freedom - ECPv6.15.20//NONSGML v1.0//EN
CALSCALE:GREGORIAN
METHOD:PUBLISH
X-WR-CALNAME:Finding Freedom
X-ORIGINAL-URL:https://findingfreedom.solutions
X-WR-CALDESC:Events for Finding Freedom
REFRESH-INTERVAL;VALUE=DURATION:PT1H
X-Robots-Tag:noindex
X-PUBLISHED-TTL:PT1H
BEGIN:VTIMEZONE
TZID:America/Denver
BEGIN:DAYLIGHT
TZOFFSETFROM:-0700
TZOFFSETTO:-0600
TZNAME:MDT
DTSTART:20190310T090000
END:DAYLIGHT
BEGIN:STANDARD
TZOFFSETFROM:-0600
TZOFFSETTO:-0700
TZNAME:MST
DTSTART:20191103T080000
END:STANDARD
BEGIN:DAYLIGHT
TZOFFSETFROM:-0700
TZOFFSETTO:-0600
TZNAME:MDT
DTSTART:20200308T090000
END:DAYLIGHT
BEGIN:STANDARD
TZOFFSETFROM:-0600
TZOFFSETTO:-0700
TZNAME:MST
DTSTART:20201101T080000
END:STANDARD
BEGIN:DAYLIGHT
TZOFFSETFROM:-0700
TZOFFSETTO:-0600
TZNAME:MDT
DTSTART:20210314T090000
END:DAYLIGHT
BEGIN:STANDARD
TZOFFSETFROM:-0600
TZOFFSETTO:-0700
TZNAME:MST
DTSTART:20211107T080000
END:STANDARD
BEGIN:DAYLIGHT
TZOFFSETFROM:-0700
TZOFFSETTO:-0600
TZNAME:MDT
DTSTART:20220313T090000
END:DAYLIGHT
BEGIN:STANDARD
TZOFFSETFROM:-0600
TZOFFSETTO:-0700
TZNAME:MST
DTSTART:20221106T080000
END:STANDARD
BEGIN:DAYLIGHT
TZOFFSETFROM:-0700
TZOFFSETTO:-0600
TZNAME:MDT
DTSTART:20230312T090000
END:DAYLIGHT
BEGIN:STANDARD
TZOFFSETFROM:-0600
TZOFFSETTO:-0700
TZNAME:MST
DTSTART:20231105T080000
END:STANDARD
BEGIN:DAYLIGHT
TZOFFSETFROM:-0700
TZOFFSETTO:-0600
TZNAME:MDT
DTSTART:20240310T090000
END:DAYLIGHT
BEGIN:STANDARD
TZOFFSETFROM:-0600
TZOFFSETTO:-0700
TZNAME:MST
DTSTART:20241103T080000
END:STANDARD
END:VTIMEZONE
BEGIN:VEVENT
DTSTART;TZID=America/Denver:20230414T180000
DTEND;TZID=America/Denver:20230416T110000
DTSTAMP:20260424T215000
CREATED:20230205T205639Z
LAST-MODIFIED:20230205T205731Z
UID:5182-1681495200-1681642800@findingfreedom.solutions
SUMMARY:Women's Weekend Away
DESCRIPTION:SAVE THE DATE – for our 2023 Women’s Weekend Away. Details to follow but you won’t want to miss it!
URL:https://findingfreedom.solutions/event/womens-weekend-away-2/
LOCATION:The Holiday Inn West Yellowstone\, 315 Yellowstone Ave\, West Yellowstone\, MT\, 59758\, United States
ORGANIZER;CN="Susan Williams":MAILTO:Susan.Williams@findingfreedom.solutions
END:VEVENT
BEGIN:VEVENT
DTSTART;VALUE=DATE:20200403
DTEND;VALUE=DATE:20200406
DTSTAMP:20260424T215000
CREATED:20200208T182721Z
LAST-MODIFIED:20200318T033251Z
UID:1481-1585872000-1586131199@findingfreedom.solutions
SUMMARY:Women's Weekend Away - POSTPONED
DESCRIPTION:Daring to Become Authentic: Tools to Grow More of the Person You Are Created to Be\nWe are working on rescheduling our Women’s Weekend Away for sometime during the Fall 2020. We will post more information as we have it.  \nThe hunger to be authentic is universal. It’s part of being human. Inside all of us is a drive to live in our true self before others\, with ourselves\, and\, when we are ready\, in relationship with God. At the time of the Early Church it was described as a ‘personal thriving.’ Christ called it ‘letting your light shine.’ \nAnd yet there are so many pressures in our life that assault us. Daily stress\, historic trauma\, peer pressure\, sheer exhaustion\, addictions and other coping mechanisms—these things (and many more) deplete our capacity to live well. \nIn this retreat we will be exploring how to let loose more of that holy authenticity that brings life to us and to those around us\, regardless of our circumstances. \nBy the end of the workshop you will: \n\nBe able to recognize more of the person you are created to be\nHave several personally-relevant tools to help you grow more of you\nHave new insight into how Scripture equips us to take up maturity in Christ\nUnderstand what threatens your capacity to be authentic and how to overcome it\nHave some new skills for living authentically in ‘tricky’ relationships\nHave heard numerous testimonies of healing and/or growth in relationship with the Lord\nGrow friendships and find companionship for your own journeying
URL:https://findingfreedom.solutions/event/womens-weekend-away/
LOCATION:The Holiday Inn West Yellowstone\, 315 Yellowstone Ave\, West Yellowstone\, MT\, 59758\, United States
ORGANIZER;CN="Jeni Hofer":MAILTO:jeni.hofer@findingfreedom.solutions
END:VEVENT
END:VCALENDAR