BEGIN:VCALENDAR
VERSION:2.0
PRODID:-//Finding Freedom - ECPv6.15.20//NONSGML v1.0//EN
CALSCALE:GREGORIAN
METHOD:PUBLISH
X-WR-CALNAME:Finding Freedom
X-ORIGINAL-URL:https://findingfreedom.solutions
X-WR-CALDESC:Events for Finding Freedom
REFRESH-INTERVAL;VALUE=DURATION:PT1H
X-Robots-Tag:noindex
X-PUBLISHED-TTL:PT1H
BEGIN:VTIMEZONE
TZID:America/Denver
BEGIN:DAYLIGHT
TZOFFSETFROM:-0700
TZOFFSETTO:-0600
TZNAME:MDT
DTSTART:20230312T090000
END:DAYLIGHT
BEGIN:STANDARD
TZOFFSETFROM:-0600
TZOFFSETTO:-0700
TZNAME:MST
DTSTART:20231105T080000
END:STANDARD
BEGIN:DAYLIGHT
TZOFFSETFROM:-0700
TZOFFSETTO:-0600
TZNAME:MDT
DTSTART:20240310T090000
END:DAYLIGHT
BEGIN:STANDARD
TZOFFSETFROM:-0600
TZOFFSETTO:-0700
TZNAME:MST
DTSTART:20241103T080000
END:STANDARD
BEGIN:DAYLIGHT
TZOFFSETFROM:-0700
TZOFFSETTO:-0600
TZNAME:MDT
DTSTART:20250309T090000
END:DAYLIGHT
BEGIN:STANDARD
TZOFFSETFROM:-0600
TZOFFSETTO:-0700
TZNAME:MST
DTSTART:20251102T080000
END:STANDARD
BEGIN:DAYLIGHT
TZOFFSETFROM:-0700
TZOFFSETTO:-0600
TZNAME:MDT
DTSTART:20260308T090000
END:DAYLIGHT
BEGIN:STANDARD
TZOFFSETFROM:-0600
TZOFFSETTO:-0700
TZNAME:MST
DTSTART:20261101T080000
END:STANDARD
END:VTIMEZONE
BEGIN:VEVENT
DTSTART;TZID=America/Denver:20250506T061500
DTEND;TZID=America/Denver:20250506T073000
DTSTAMP:20260424T200610
CREATED:20200903T185425Z
LAST-MODIFIED:20200903T185425Z
UID:5314-1746512100-1746516600@findingfreedom.solutions
SUMMARY:Men's Prayer Meeting
DESCRIPTION:Join us every Tuesday morning at 6:15am for a weekly time of sharing and prayer. Come in person to The Landing (2149 East Cameron Bridge Road in Bozeman) or join online. Zoom link here. All men are welcome! \n 
URL:https://findingfreedom.solutions/event/mens-prayer-meeting-3/2025-05-06/
LOCATION:Finding Freedom\, 2419 E. Cameron Bridge Road\, Bozeman\, MT\, 59718\, United States
ORGANIZER;CN="Peter Holmes":MAILTO:Peter.Holmes@findingfreedom.solutions
END:VEVENT
BEGIN:VEVENT
DTSTART;TZID=America/Denver:20250429T061500
DTEND;TZID=America/Denver:20250429T073000
DTSTAMP:20260424T200610
CREATED:20200903T185425Z
LAST-MODIFIED:20200903T185425Z
UID:5312-1745907300-1745911800@findingfreedom.solutions
SUMMARY:Men's Prayer Meeting
DESCRIPTION:Join us every Tuesday morning at 6:15am for a weekly time of sharing and prayer. Come in person to The Landing (2149 East Cameron Bridge Road in Bozeman) or join online. Zoom link here. All men are welcome! \n 
URL:https://findingfreedom.solutions/event/mens-prayer-meeting-3/2025-04-29/
LOCATION:Finding Freedom\, 2419 E. Cameron Bridge Road\, Bozeman\, MT\, 59718\, United States
ORGANIZER;CN="Peter Holmes":MAILTO:Peter.Holmes@findingfreedom.solutions
END:VEVENT
BEGIN:VEVENT
DTSTART;TZID=America/Denver:20250422T061500
DTEND;TZID=America/Denver:20250422T073000
DTSTAMP:20260424T200610
CREATED:20200903T185425Z
LAST-MODIFIED:20200903T185425Z
UID:5302-1745302500-1745307000@findingfreedom.solutions
SUMMARY:Men's Prayer Meeting
DESCRIPTION:Join us every Tuesday morning at 6:15am for a weekly time of sharing and prayer. Come in person to The Landing (2149 East Cameron Bridge Road in Bozeman) or join online. Zoom link here. All men are welcome! \n 
URL:https://findingfreedom.solutions/event/mens-prayer-meeting-3/2025-04-22/
LOCATION:Finding Freedom\, 2419 E. Cameron Bridge Road\, Bozeman\, MT\, 59718\, United States
ORGANIZER;CN="Peter Holmes":MAILTO:Peter.Holmes@findingfreedom.solutions
END:VEVENT
BEGIN:VEVENT
DTSTART;TZID=America/Denver:20250415T061500
DTEND;TZID=America/Denver:20250415T073000
DTSTAMP:20260424T200610
CREATED:20200903T185425Z
LAST-MODIFIED:20200903T185425Z
UID:5300-1744697700-1744702200@findingfreedom.solutions
SUMMARY:Men's Prayer Meeting
DESCRIPTION:Join us every Tuesday morning at 6:15am for a weekly time of sharing and prayer. Come in person to The Landing (2149 East Cameron Bridge Road in Bozeman) or join online. Zoom link here. All men are welcome! \n 
URL:https://findingfreedom.solutions/event/mens-prayer-meeting-3/2025-04-15/
LOCATION:Finding Freedom\, 2419 E. Cameron Bridge Road\, Bozeman\, MT\, 59718\, United States
ORGANIZER;CN="Peter Holmes":MAILTO:Peter.Holmes@findingfreedom.solutions
END:VEVENT
BEGIN:VEVENT
DTSTART;TZID=America/Denver:20250408T061500
DTEND;TZID=America/Denver:20250408T073000
DTSTAMP:20260424T200610
CREATED:20200903T185425Z
LAST-MODIFIED:20200903T185425Z
UID:5296-1744092900-1744097400@findingfreedom.solutions
SUMMARY:Men's Prayer Meeting
DESCRIPTION:Join us every Tuesday morning at 6:15am for a weekly time of sharing and prayer. Come in person to The Landing (2149 East Cameron Bridge Road in Bozeman) or join online. Zoom link here. All men are welcome! \n 
URL:https://findingfreedom.solutions/event/mens-prayer-meeting-3/2025-04-08/
LOCATION:Finding Freedom\, 2419 E. Cameron Bridge Road\, Bozeman\, MT\, 59718\, United States
ORGANIZER;CN="Peter Holmes":MAILTO:Peter.Holmes@findingfreedom.solutions
END:VEVENT
BEGIN:VEVENT
DTSTART;TZID=America/Denver:20250401T061500
DTEND;TZID=America/Denver:20250401T073000
DTSTAMP:20260424T200610
CREATED:20200903T185425Z
LAST-MODIFIED:20200903T185425Z
UID:5294-1743488100-1743492600@findingfreedom.solutions
SUMMARY:Men's Prayer Meeting
DESCRIPTION:Join us every Tuesday morning at 6:15am for a weekly time of sharing and prayer. Come in person to The Landing (2149 East Cameron Bridge Road in Bozeman) or join online. Zoom link here. All men are welcome! \n 
URL:https://findingfreedom.solutions/event/mens-prayer-meeting-3/2025-04-01/
LOCATION:Finding Freedom\, 2419 E. Cameron Bridge Road\, Bozeman\, MT\, 59718\, United States
ORGANIZER;CN="Peter Holmes":MAILTO:Peter.Holmes@findingfreedom.solutions
END:VEVENT
BEGIN:VEVENT
DTSTART;TZID=America/Denver:20250325T061500
DTEND;TZID=America/Denver:20250325T073000
DTSTAMP:20260424T200610
CREATED:20200903T185425Z
LAST-MODIFIED:20200903T185425Z
UID:5281-1742883300-1742887800@findingfreedom.solutions
SUMMARY:Men's Prayer Meeting
DESCRIPTION:Join us every Tuesday morning at 6:15am for a weekly time of sharing and prayer. Come in person to The Landing (2149 East Cameron Bridge Road in Bozeman) or join online. Zoom link here. All men are welcome! \n 
URL:https://findingfreedom.solutions/event/mens-prayer-meeting-3/2025-03-25/
LOCATION:Finding Freedom\, 2419 E. Cameron Bridge Road\, Bozeman\, MT\, 59718\, United States
ORGANIZER;CN="Peter Holmes":MAILTO:Peter.Holmes@findingfreedom.solutions
END:VEVENT
BEGIN:VEVENT
DTSTART;TZID=America/Denver:20250318T061500
DTEND;TZID=America/Denver:20250318T073000
DTSTAMP:20260424T200610
CREATED:20200903T185425Z
LAST-MODIFIED:20200903T185425Z
UID:5262-1742278500-1742283000@findingfreedom.solutions
SUMMARY:Men's Prayer Meeting
DESCRIPTION:Join us every Tuesday morning at 6:15am for a weekly time of sharing and prayer. Come in person to The Landing (2149 East Cameron Bridge Road in Bozeman) or join online. Zoom link here. All men are welcome! \n 
URL:https://findingfreedom.solutions/event/mens-prayer-meeting-3/2025-03-18/
LOCATION:Finding Freedom\, 2419 E. Cameron Bridge Road\, Bozeman\, MT\, 59718\, United States
ORGANIZER;CN="Peter Holmes":MAILTO:Peter.Holmes@findingfreedom.solutions
END:VEVENT
BEGIN:VEVENT
DTSTART;TZID=America/Denver:20250311T061500
DTEND;TZID=America/Denver:20250311T073000
DTSTAMP:20260424T200610
CREATED:20200903T185425Z
LAST-MODIFIED:20200903T185425Z
UID:5206-1741673700-1741678200@findingfreedom.solutions
SUMMARY:Men's Prayer Meeting
DESCRIPTION:Join us every Tuesday morning at 6:15am for a weekly time of sharing and prayer. Come in person to The Landing (2149 East Cameron Bridge Road in Bozeman) or join online. Zoom link here. All men are welcome! \n 
URL:https://findingfreedom.solutions/event/mens-prayer-meeting-3/2025-03-11/
LOCATION:Finding Freedom\, 2419 E. Cameron Bridge Road\, Bozeman\, MT\, 59718\, United States
ORGANIZER;CN="Peter Holmes":MAILTO:Peter.Holmes@findingfreedom.solutions
END:VEVENT
BEGIN:VEVENT
DTSTART;TZID=America/Denver:20250304T061500
DTEND;TZID=America/Denver:20250304T073000
DTSTAMP:20260424T200610
CREATED:20200903T185425Z
LAST-MODIFIED:20200903T185425Z
UID:5198-1741068900-1741073400@findingfreedom.solutions
SUMMARY:Men's Prayer Meeting
DESCRIPTION:Join us every Tuesday morning at 6:15am for a weekly time of sharing and prayer. Come in person to The Landing (2149 East Cameron Bridge Road in Bozeman) or join online. Zoom link here. All men are welcome! \n 
URL:https://findingfreedom.solutions/event/mens-prayer-meeting-3/2025-03-04/
LOCATION:Finding Freedom\, 2419 E. Cameron Bridge Road\, Bozeman\, MT\, 59718\, United States
ORGANIZER;CN="Peter Holmes":MAILTO:Peter.Holmes@findingfreedom.solutions
END:VEVENT
BEGIN:VEVENT
DTSTART;TZID=America/Denver:20250225T061500
DTEND;TZID=America/Denver:20250225T073000
DTSTAMP:20260424T200610
CREATED:20200903T185425Z
LAST-MODIFIED:20200903T185425Z
UID:5194-1740464100-1740468600@findingfreedom.solutions
SUMMARY:Men's Prayer Meeting
DESCRIPTION:Join us every Tuesday morning at 6:15am for a weekly time of sharing and prayer. Come in person to The Landing (2149 East Cameron Bridge Road in Bozeman) or join online. Zoom link here. All men are welcome! \n 
URL:https://findingfreedom.solutions/event/mens-prayer-meeting-3/2025-02-25/
LOCATION:Finding Freedom\, 2419 E. Cameron Bridge Road\, Bozeman\, MT\, 59718\, United States
ORGANIZER;CN="Peter Holmes":MAILTO:Peter.Holmes@findingfreedom.solutions
END:VEVENT
BEGIN:VEVENT
DTSTART;TZID=America/Denver:20250218T061500
DTEND;TZID=America/Denver:20250218T073000
DTSTAMP:20260424T200610
CREATED:20200903T185425Z
LAST-MODIFIED:20200903T185425Z
UID:5192-1739859300-1739863800@findingfreedom.solutions
SUMMARY:Men's Prayer Meeting
DESCRIPTION:Join us every Tuesday morning at 6:15am for a weekly time of sharing and prayer. Come in person to The Landing (2149 East Cameron Bridge Road in Bozeman) or join online. Zoom link here. All men are welcome! \n 
URL:https://findingfreedom.solutions/event/mens-prayer-meeting-3/2025-02-18/
LOCATION:Finding Freedom\, 2419 E. Cameron Bridge Road\, Bozeman\, MT\, 59718\, United States
ORGANIZER;CN="Peter Holmes":MAILTO:Peter.Holmes@findingfreedom.solutions
END:VEVENT
BEGIN:VEVENT
DTSTART;TZID=America/Denver:20250211T061500
DTEND;TZID=America/Denver:20250211T073000
DTSTAMP:20260424T200610
CREATED:20200903T185425Z
LAST-MODIFIED:20200903T185425Z
UID:5186-1739254500-1739259000@findingfreedom.solutions
SUMMARY:Men's Prayer Meeting
DESCRIPTION:Join us every Tuesday morning at 6:15am for a weekly time of sharing and prayer. Come in person to The Landing (2149 East Cameron Bridge Road in Bozeman) or join online. Zoom link here. All men are welcome! \n 
URL:https://findingfreedom.solutions/event/mens-prayer-meeting-3/2025-02-11/
LOCATION:Finding Freedom\, 2419 E. Cameron Bridge Road\, Bozeman\, MT\, 59718\, United States
ORGANIZER;CN="Peter Holmes":MAILTO:Peter.Holmes@findingfreedom.solutions
END:VEVENT
BEGIN:VEVENT
DTSTART;TZID=America/Denver:20250204T061500
DTEND;TZID=America/Denver:20250204T073000
DTSTAMP:20260424T200610
CREATED:20200903T185425Z
LAST-MODIFIED:20200903T185425Z
UID:5117-1738649700-1738654200@findingfreedom.solutions
SUMMARY:Men's Prayer Meeting
DESCRIPTION:Join us every Tuesday morning at 6:15am for a weekly time of sharing and prayer. Come in person to The Landing (2149 East Cameron Bridge Road in Bozeman) or join online. Zoom link here. All men are welcome! \n 
URL:https://findingfreedom.solutions/event/mens-prayer-meeting-3/2025-02-04/
LOCATION:Finding Freedom\, 2419 E. Cameron Bridge Road\, Bozeman\, MT\, 59718\, United States
ORGANIZER;CN="Peter Holmes":MAILTO:Peter.Holmes@findingfreedom.solutions
END:VEVENT
BEGIN:VEVENT
DTSTART;TZID=America/Denver:20250128T061500
DTEND;TZID=America/Denver:20250128T073000
DTSTAMP:20260424T200610
CREATED:20200903T185425Z
LAST-MODIFIED:20200903T185425Z
UID:5113-1738044900-1738049400@findingfreedom.solutions
SUMMARY:Men's Prayer Meeting
DESCRIPTION:Join us every Tuesday morning at 6:15am for a weekly time of sharing and prayer. Come in person to The Landing (2149 East Cameron Bridge Road in Bozeman) or join online. Zoom link here. All men are welcome! \n 
URL:https://findingfreedom.solutions/event/mens-prayer-meeting-3/2025-01-28/
LOCATION:Finding Freedom\, 2419 E. Cameron Bridge Road\, Bozeman\, MT\, 59718\, United States
ORGANIZER;CN="Peter Holmes":MAILTO:Peter.Holmes@findingfreedom.solutions
END:VEVENT
BEGIN:VEVENT
DTSTART;TZID=America/Denver:20250121T061500
DTEND;TZID=America/Denver:20250121T073000
DTSTAMP:20260424T200610
CREATED:20200903T185425Z
LAST-MODIFIED:20200903T185425Z
UID:5111-1737440100-1737444600@findingfreedom.solutions
SUMMARY:Men's Prayer Meeting
DESCRIPTION:Join us every Tuesday morning at 6:15am for a weekly time of sharing and prayer. Come in person to The Landing (2149 East Cameron Bridge Road in Bozeman) or join online. Zoom link here. All men are welcome! \n 
URL:https://findingfreedom.solutions/event/mens-prayer-meeting-3/2025-01-21/
LOCATION:Finding Freedom\, 2419 E. Cameron Bridge Road\, Bozeman\, MT\, 59718\, United States
ORGANIZER;CN="Peter Holmes":MAILTO:Peter.Holmes@findingfreedom.solutions
END:VEVENT
BEGIN:VEVENT
DTSTART;TZID=America/Denver:20250114T061500
DTEND;TZID=America/Denver:20250114T073000
DTSTAMP:20260424T200610
CREATED:20200903T185425Z
LAST-MODIFIED:20200903T185425Z
UID:5107-1736835300-1736839800@findingfreedom.solutions
SUMMARY:Men's Prayer Meeting
DESCRIPTION:Join us every Tuesday morning at 6:15am for a weekly time of sharing and prayer. Come in person to The Landing (2149 East Cameron Bridge Road in Bozeman) or join online. Zoom link here. All men are welcome! \n 
URL:https://findingfreedom.solutions/event/mens-prayer-meeting-3/2025-01-14/
LOCATION:Finding Freedom\, 2419 E. Cameron Bridge Road\, Bozeman\, MT\, 59718\, United States
ORGANIZER;CN="Peter Holmes":MAILTO:Peter.Holmes@findingfreedom.solutions
END:VEVENT
BEGIN:VEVENT
DTSTART;TZID=America/Denver:20250107T061500
DTEND;TZID=America/Denver:20250107T073000
DTSTAMP:20260424T200610
CREATED:20200903T185425Z
LAST-MODIFIED:20200903T185425Z
UID:5105-1736230500-1736235000@findingfreedom.solutions
SUMMARY:Men's Prayer Meeting
DESCRIPTION:Join us every Tuesday morning at 6:15am for a weekly time of sharing and prayer. Come in person to The Landing (2149 East Cameron Bridge Road in Bozeman) or join online. Zoom link here. All men are welcome! \n 
URL:https://findingfreedom.solutions/event/mens-prayer-meeting-3/2025-01-07/
LOCATION:Finding Freedom\, 2419 E. Cameron Bridge Road\, Bozeman\, MT\, 59718\, United States
ORGANIZER;CN="Peter Holmes":MAILTO:Peter.Holmes@findingfreedom.solutions
END:VEVENT
BEGIN:VEVENT
DTSTART;TZID=America/Denver:20241231T061500
DTEND;TZID=America/Denver:20241231T073000
DTSTAMP:20260424T200610
CREATED:20200903T185425Z
LAST-MODIFIED:20200903T185425Z
UID:5101-1735625700-1735630200@findingfreedom.solutions
SUMMARY:Men's Prayer Meeting
DESCRIPTION:Join us every Tuesday morning at 6:15am for a weekly time of sharing and prayer. Come in person to The Landing (2149 East Cameron Bridge Road in Bozeman) or join online. Zoom link here. All men are welcome! \n 
URL:https://findingfreedom.solutions/event/mens-prayer-meeting-3/2024-12-31/
LOCATION:Finding Freedom\, 2419 E. Cameron Bridge Road\, Bozeman\, MT\, 59718\, United States
ORGANIZER;CN="Peter Holmes":MAILTO:Peter.Holmes@findingfreedom.solutions
END:VEVENT
BEGIN:VEVENT
DTSTART;TZID=America/Denver:20241224T061500
DTEND;TZID=America/Denver:20241224T073000
DTSTAMP:20260424T200610
CREATED:20200903T185425Z
LAST-MODIFIED:20200903T185425Z
UID:5099-1735020900-1735025400@findingfreedom.solutions
SUMMARY:Men's Prayer Meeting
DESCRIPTION:Join us every Tuesday morning at 6:15am for a weekly time of sharing and prayer. Come in person to The Landing (2149 East Cameron Bridge Road in Bozeman) or join online. Zoom link here. All men are welcome! \n 
URL:https://findingfreedom.solutions/event/mens-prayer-meeting-3/2024-12-24/
LOCATION:Finding Freedom\, 2419 E. Cameron Bridge Road\, Bozeman\, MT\, 59718\, United States
ORGANIZER;CN="Peter Holmes":MAILTO:Peter.Holmes@findingfreedom.solutions
END:VEVENT
BEGIN:VEVENT
DTSTART;TZID=America/Denver:20241217T061500
DTEND;TZID=America/Denver:20241217T073000
DTSTAMP:20260424T200610
CREATED:20200903T185425Z
LAST-MODIFIED:20200903T185425Z
UID:5010-1734416100-1734420600@findingfreedom.solutions
SUMMARY:Men's Prayer Meeting
DESCRIPTION:Join us every Tuesday morning at 6:15am for a weekly time of sharing and prayer. Come in person to The Landing (2149 East Cameron Bridge Road in Bozeman) or join online. Zoom link here. All men are welcome! \n 
URL:https://findingfreedom.solutions/event/mens-prayer-meeting-3/2024-12-17/
LOCATION:Finding Freedom\, 2419 E. Cameron Bridge Road\, Bozeman\, MT\, 59718\, United States
ORGANIZER;CN="Peter Holmes":MAILTO:Peter.Holmes@findingfreedom.solutions
END:VEVENT
BEGIN:VEVENT
DTSTART;TZID=America/Denver:20241210T061500
DTEND;TZID=America/Denver:20241210T073000
DTSTAMP:20260424T200610
CREATED:20200903T185425Z
LAST-MODIFIED:20200903T185425Z
UID:5008-1733811300-1733815800@findingfreedom.solutions
SUMMARY:Men's Prayer Meeting
DESCRIPTION:Join us every Tuesday morning at 6:15am for a weekly time of sharing and prayer. Come in person to The Landing (2149 East Cameron Bridge Road in Bozeman) or join online. Zoom link here. All men are welcome! \n 
URL:https://findingfreedom.solutions/event/mens-prayer-meeting-3/2024-12-10/
LOCATION:Finding Freedom\, 2419 E. Cameron Bridge Road\, Bozeman\, MT\, 59718\, United States
ORGANIZER;CN="Peter Holmes":MAILTO:Peter.Holmes@findingfreedom.solutions
END:VEVENT
BEGIN:VEVENT
DTSTART;TZID=America/Denver:20241203T061500
DTEND;TZID=America/Denver:20241203T073000
DTSTAMP:20260424T200610
CREATED:20200903T185425Z
LAST-MODIFIED:20200903T185425Z
UID:5003-1733206500-1733211000@findingfreedom.solutions
SUMMARY:Men's Prayer Meeting
DESCRIPTION:Join us every Tuesday morning at 6:15am for a weekly time of sharing and prayer. Come in person to The Landing (2149 East Cameron Bridge Road in Bozeman) or join online. Zoom link here. All men are welcome! \n 
URL:https://findingfreedom.solutions/event/mens-prayer-meeting-3/2024-12-03/
LOCATION:Finding Freedom\, 2419 E. Cameron Bridge Road\, Bozeman\, MT\, 59718\, United States
ORGANIZER;CN="Peter Holmes":MAILTO:Peter.Holmes@findingfreedom.solutions
END:VEVENT
BEGIN:VEVENT
DTSTART;TZID=America/Denver:20241126T061500
DTEND;TZID=America/Denver:20241126T073000
DTSTAMP:20260424T200610
CREATED:20200903T185425Z
LAST-MODIFIED:20200903T185425Z
UID:5001-1732601700-1732606200@findingfreedom.solutions
SUMMARY:Men's Prayer Meeting
DESCRIPTION:Join us every Tuesday morning at 6:15am for a weekly time of sharing and prayer. Come in person to The Landing (2149 East Cameron Bridge Road in Bozeman) or join online. Zoom link here. All men are welcome! \n 
URL:https://findingfreedom.solutions/event/mens-prayer-meeting-3/2024-11-26/
LOCATION:Finding Freedom\, 2419 E. Cameron Bridge Road\, Bozeman\, MT\, 59718\, United States
ORGANIZER;CN="Peter Holmes":MAILTO:Peter.Holmes@findingfreedom.solutions
END:VEVENT
BEGIN:VEVENT
DTSTART;TZID=America/Denver:20241119T061500
DTEND;TZID=America/Denver:20241119T073000
DTSTAMP:20260424T200610
CREATED:20200903T185425Z
LAST-MODIFIED:20200903T185425Z
UID:4992-1731996900-1732001400@findingfreedom.solutions
SUMMARY:Men's Prayer Meeting
DESCRIPTION:Join us every Tuesday morning at 6:15am for a weekly time of sharing and prayer. Come in person to The Landing (2149 East Cameron Bridge Road in Bozeman) or join online. Zoom link here. All men are welcome! \n 
URL:https://findingfreedom.solutions/event/mens-prayer-meeting-3/2024-11-19/
LOCATION:Finding Freedom\, 2419 E. Cameron Bridge Road\, Bozeman\, MT\, 59718\, United States
ORGANIZER;CN="Peter Holmes":MAILTO:Peter.Holmes@findingfreedom.solutions
END:VEVENT
BEGIN:VEVENT
DTSTART;TZID=America/Denver:20241112T061500
DTEND;TZID=America/Denver:20241112T073000
DTSTAMP:20260424T200610
CREATED:20200903T185425Z
LAST-MODIFIED:20221117T175658Z
UID:4344-1731392100-1731396600@findingfreedom.solutions
SUMMARY:Men's Prayer Meeting
DESCRIPTION:Join us every Tuesday morning at 6:15am for a weekly time of sharing and prayer. Come in person to The Landing (2149 East Cameron Bridge Road in Bozeman) or join online. Zoom link here. All men are welcome! \n 
URL:https://findingfreedom.solutions/event/mens-prayer-meeting-3/2024-11-12/
LOCATION:Finding Freedom\, 2419 E. Cameron Bridge Road\, Bozeman\, MT\, 59718\, United States
ORGANIZER;CN="Peter Holmes":MAILTO:Peter.Holmes@findingfreedom.solutions
END:VEVENT
BEGIN:VEVENT
DTSTART;TZID=America/Denver:20241105T061500
DTEND;TZID=America/Denver:20241105T073000
DTSTAMP:20260424T200610
CREATED:20200903T185425Z
LAST-MODIFIED:20221117T175658Z
UID:4339-1730787300-1730791800@findingfreedom.solutions
SUMMARY:Men's Prayer Meeting
DESCRIPTION:Join us every Tuesday morning at 6:15am for a weekly time of sharing and prayer. Come in person to The Landing (2149 East Cameron Bridge Road in Bozeman) or join online. Zoom link here. All men are welcome! \n 
URL:https://findingfreedom.solutions/event/mens-prayer-meeting-3/2024-11-05/
LOCATION:Finding Freedom\, 2419 E. Cameron Bridge Road\, Bozeman\, MT\, 59718\, United States
ORGANIZER;CN="Peter Holmes":MAILTO:Peter.Holmes@findingfreedom.solutions
END:VEVENT
BEGIN:VEVENT
DTSTART;TZID=America/Denver:20241029T061500
DTEND;TZID=America/Denver:20241029T073000
DTSTAMP:20260424T200610
CREATED:20200903T185425Z
LAST-MODIFIED:20221117T175658Z
UID:4337-1730182500-1730187000@findingfreedom.solutions
SUMMARY:Men's Prayer Meeting
DESCRIPTION:Join us every Tuesday morning at 6:15am for a weekly time of sharing and prayer. Come in person to The Landing (2149 East Cameron Bridge Road in Bozeman) or join online. Zoom link here. All men are welcome! \n 
URL:https://findingfreedom.solutions/event/mens-prayer-meeting-3/2024-10-29/
LOCATION:Finding Freedom\, 2419 E. Cameron Bridge Road\, Bozeman\, MT\, 59718\, United States
ORGANIZER;CN="Peter Holmes":MAILTO:Peter.Holmes@findingfreedom.solutions
END:VEVENT
BEGIN:VEVENT
DTSTART;TZID=America/Denver:20241022T061500
DTEND;TZID=America/Denver:20241022T073000
DTSTAMP:20260424T200610
CREATED:20200903T185425Z
LAST-MODIFIED:20221117T175657Z
UID:4332-1729577700-1729582200@findingfreedom.solutions
SUMMARY:Men's Prayer Meeting
DESCRIPTION:Join us every Tuesday morning at 6:15am for a weekly time of sharing and prayer. Come in person to The Landing (2149 East Cameron Bridge Road in Bozeman) or join online. Zoom link here. All men are welcome! \n 
URL:https://findingfreedom.solutions/event/mens-prayer-meeting-3/2024-10-22/
LOCATION:Finding Freedom\, 2419 E. Cameron Bridge Road\, Bozeman\, MT\, 59718\, United States
ORGANIZER;CN="Peter Holmes":MAILTO:Peter.Holmes@findingfreedom.solutions
END:VEVENT
BEGIN:VEVENT
DTSTART;TZID=America/Denver:20241015T061500
DTEND;TZID=America/Denver:20241015T073000
DTSTAMP:20260424T200610
CREATED:20200903T185425Z
LAST-MODIFIED:20221117T175657Z
UID:4330-1728972900-1728977400@findingfreedom.solutions
SUMMARY:Men's Prayer Meeting
DESCRIPTION:Join us every Tuesday morning at 6:15am for a weekly time of sharing and prayer. Come in person to The Landing (2149 East Cameron Bridge Road in Bozeman) or join online. Zoom link here. All men are welcome! \n 
URL:https://findingfreedom.solutions/event/mens-prayer-meeting-3/2024-10-15/
LOCATION:Finding Freedom\, 2419 E. Cameron Bridge Road\, Bozeman\, MT\, 59718\, United States
ORGANIZER;CN="Peter Holmes":MAILTO:Peter.Holmes@findingfreedom.solutions
END:VEVENT
END:VCALENDAR