BEGIN:VCALENDAR
VERSION:2.0
PRODID:-//Finding Freedom - ECPv6.15.20//NONSGML v1.0//EN
CALSCALE:GREGORIAN
METHOD:PUBLISH
X-ORIGINAL-URL:https://findingfreedom.solutions
X-WR-CALDESC:Events for Finding Freedom
REFRESH-INTERVAL;VALUE=DURATION:PT1H
X-Robots-Tag:noindex
X-PUBLISHED-TTL:PT1H
BEGIN:VTIMEZONE
TZID:America/Denver
BEGIN:DAYLIGHT
TZOFFSETFROM:-0700
TZOFFSETTO:-0600
TZNAME:MDT
DTSTART:20190310T090000
END:DAYLIGHT
BEGIN:STANDARD
TZOFFSETFROM:-0600
TZOFFSETTO:-0700
TZNAME:MST
DTSTART:20191103T080000
END:STANDARD
BEGIN:DAYLIGHT
TZOFFSETFROM:-0700
TZOFFSETTO:-0600
TZNAME:MDT
DTSTART:20200308T090000
END:DAYLIGHT
BEGIN:STANDARD
TZOFFSETFROM:-0600
TZOFFSETTO:-0700
TZNAME:MST
DTSTART:20201101T080000
END:STANDARD
BEGIN:DAYLIGHT
TZOFFSETFROM:-0700
TZOFFSETTO:-0600
TZNAME:MDT
DTSTART:20210314T090000
END:DAYLIGHT
BEGIN:STANDARD
TZOFFSETFROM:-0600
TZOFFSETTO:-0700
TZNAME:MST
DTSTART:20211107T080000
END:STANDARD
BEGIN:DAYLIGHT
TZOFFSETFROM:-0700
TZOFFSETTO:-0600
TZNAME:MDT
DTSTART:20220313T090000
END:DAYLIGHT
BEGIN:STANDARD
TZOFFSETFROM:-0600
TZOFFSETTO:-0700
TZNAME:MST
DTSTART:20221106T080000
END:STANDARD
BEGIN:DAYLIGHT
TZOFFSETFROM:-0700
TZOFFSETTO:-0600
TZNAME:MDT
DTSTART:20230312T090000
END:DAYLIGHT
BEGIN:STANDARD
TZOFFSETFROM:-0600
TZOFFSETTO:-0700
TZNAME:MST
DTSTART:20231105T080000
END:STANDARD
END:VTIMEZONE
BEGIN:VEVENT
DTSTART;TZID=America/Denver:20220110T183000
DTEND;TZID=America/Denver:20220110T203000
DTSTAMP:20260424T181821
CREATED:20220102T210546Z
LAST-MODIFIED:20220605T214329Z
UID:4063-1641839400-1641846600@findingfreedom.solutions
SUMMARY:Women's Q&A Session (virtual)
DESCRIPTION:Ladies\, we are going to be hosting a virtual Women’s Q&A session. We want this to be a time for us to come together and ask questions about the current challenges or any aspect of your journey.  If you don’t have a question but want to come\, you are welcome too. There will be a lot of learning that goes on! \nYou can use this Zoom link to join the meeting.
URL:https://findingfreedom.solutions/event/womens-qa-session-virtual-3/2022-01-10/
LOCATION:MT\, United States
END:VEVENT
BEGIN:VEVENT
DTSTART;TZID=America/Denver:20210111T183000
DTEND;TZID=America/Denver:20210111T203000
DTSTAMP:20260424T181821
CREATED:20201218T161618Z
LAST-MODIFIED:20211007T214835Z
UID:3090-1610389800-1610397000@findingfreedom.solutions
SUMMARY:Women's Q&A Session (virtual)
DESCRIPTION:Ladies\, we are going to be hosting a virtual Women’s Q&A session. We want this to be a time for us to come together and ask questions about the current challenges or any aspect of your journey.  If you don’t have a question but want to come\, you are welcome too. There will be a lot of learning that goes on! \nYou can use this Zoom link to join the meeting.
URL:https://findingfreedom.solutions/event/womens-qa-2/2021-01-11/
LOCATION:MT\, United States
END:VEVENT
BEGIN:VEVENT
DTSTART;TZID=America/Denver:20201228T183000
DTEND;TZID=America/Denver:20201228T203000
DTSTAMP:20260424T181821
CREATED:20200916T142819Z
LAST-MODIFIED:20201218T161325Z
UID:2813-1609180200-1609187400@findingfreedom.solutions
SUMMARY:Women's Q&A Session (virtual)
DESCRIPTION:Ladies\, we are going to be hosting a virtual Women’s Q&A session. We want this to be a time for us to come together and ask questions about the current challenges or any aspect of your journey.  If you don’t have a question but want to come\, you are welcome too. There will be a lot of learning that goes on! \nYou can use this Zoom link to join the meeting.  If you are unfamiliar with the Zoom platform please try logging on at 6pm. If you have any problems\, get in touch with Jeni via text at 406-581-0545 and she will offer you some support.
URL:https://findingfreedom.solutions/event/womens-qa-session-virtual-2-2020-12-30/
LOCATION:MT\, United States
ORGANIZER;CN="Jeni Hofer":MAILTO:jeni.hofer@findingfreedom.solutions
END:VEVENT
BEGIN:VEVENT
DTSTART;TZID=America/Denver:20201216T120000
DTEND;TZID=America/Denver:20201216T140000
DTSTAMP:20260424T181821
CREATED:20200916T142819Z
LAST-MODIFIED:20201214T155635Z
UID:2812-1608120000-1608127200@findingfreedom.solutions
SUMMARY:Women's Q&A Session (virtual)
DESCRIPTION:Ladies\, we are going to be hosting a virtual Women’s Q&A session. We want this to be a time for us to come together and ask questions about the current challenges or any aspect of your journey.  If you don’t have a question but want to come\, you are welcome too. There will be a lot of learning that goes on! \nYou can use this Zoom link to join the meeting.  If you are unfamiliar with the Zoom platform please try logging on at 6pm. If you have any problems\, get in touch with Jeni via text at 406-581-0545 and she will offer you some support.
URL:https://findingfreedom.solutions/event/womens-qa-session-virtual-2-2020-12-14/
LOCATION:MT\, United States
ORGANIZER;CN="Jeni Hofer":MAILTO:jeni.hofer@findingfreedom.solutions
END:VEVENT
END:VCALENDAR