BEGIN:VCALENDAR
VERSION:2.0
PRODID:-//Finding Freedom - ECPv6.15.20//NONSGML v1.0//EN
CALSCALE:GREGORIAN
METHOD:PUBLISH
X-WR-CALNAME:Finding Freedom
X-ORIGINAL-URL:https://findingfreedom.solutions
X-WR-CALDESC:Events for Finding Freedom
REFRESH-INTERVAL;VALUE=DURATION:PT1H
X-Robots-Tag:noindex
X-PUBLISHED-TTL:PT1H
BEGIN:VTIMEZONE
TZID:America/Denver
BEGIN:DAYLIGHT
TZOFFSETFROM:-0700
TZOFFSETTO:-0600
TZNAME:MDT
DTSTART:20260308T090000
END:DAYLIGHT
BEGIN:STANDARD
TZOFFSETFROM:-0600
TZOFFSETTO:-0700
TZNAME:MST
DTSTART:20261101T080000
END:STANDARD
BEGIN:DAYLIGHT
TZOFFSETFROM:-0700
TZOFFSETTO:-0600
TZNAME:MDT
DTSTART:20270314T090000
END:DAYLIGHT
BEGIN:STANDARD
TZOFFSETFROM:-0600
TZOFFSETTO:-0700
TZNAME:MST
DTSTART:20271107T080000
END:STANDARD
BEGIN:DAYLIGHT
TZOFFSETFROM:-0700
TZOFFSETTO:-0600
TZNAME:MDT
DTSTART:20280312T090000
END:DAYLIGHT
BEGIN:STANDARD
TZOFFSETFROM:-0600
TZOFFSETTO:-0700
TZNAME:MST
DTSTART:20281105T080000
END:STANDARD
BEGIN:DAYLIGHT
TZOFFSETFROM:-0700
TZOFFSETTO:-0600
TZNAME:MDT
DTSTART:20290311T090000
END:DAYLIGHT
BEGIN:STANDARD
TZOFFSETFROM:-0600
TZOFFSETTO:-0700
TZNAME:MST
DTSTART:20291104T080000
END:STANDARD
END:VTIMEZONE
BEGIN:VEVENT
DTSTART;TZID=America/Denver:20270702T180000
DTEND;TZID=America/Denver:20270702T210000
DTSTAMP:20260424T151915
CREATED:20210115T183653Z
LAST-MODIFIED:20210115T183653Z
UID:7216-1814551200-1814562000@findingfreedom.solutions
SUMMARY:Community Evening - in person and on Zoom
DESCRIPTION:Join us for our Community Evening 6pm onwards – newcomers welcome. We begin in-person with a shared meal together – if you can\, bring a main dish\, side dish\, or dessert. Our online community joins from 7.15pm MDT with worship\, testimonies\, and sharing. Our evening will wrap-up between 8.30 – 9:00pm. \nLocation varies – 26th May 2023 we are at 161 Barnes Rd\, Belgrade \nIf you can’t be there in person\, use this Zoom link from 7:15pm MDT onwards. (Zoom link: https://us02web.zoom.us/j/755395152?pwd=TmM4a0xYTG9TOUI4K2dXT0M5RHlPZz09#success)
URL:https://findingfreedom.solutions/event/community-evening-virtual-2021-10-01-2021-10-15/2027-07-02/
ORGANIZER;CN="Susan Williams":MAILTO:Susan.Williams@findingfreedom.solutions
END:VEVENT
BEGIN:VEVENT
DTSTART;TZID=America/Denver:20270716T180000
DTEND;TZID=America/Denver:20270716T210000
DTSTAMP:20260424T151915
CREATED:20210115T183653Z
LAST-MODIFIED:20210115T183653Z
UID:7222-1815760800-1815771600@findingfreedom.solutions
SUMMARY:Community Evening - in person and on Zoom
DESCRIPTION:Join us for our Community Evening 6pm onwards – newcomers welcome. We begin in-person with a shared meal together – if you can\, bring a main dish\, side dish\, or dessert. Our online community joins from 7.15pm MDT with worship\, testimonies\, and sharing. Our evening will wrap-up between 8.30 – 9:00pm. \nLocation varies – 26th May 2023 we are at 161 Barnes Rd\, Belgrade \nIf you can’t be there in person\, use this Zoom link from 7:15pm MDT onwards. (Zoom link: https://us02web.zoom.us/j/755395152?pwd=TmM4a0xYTG9TOUI4K2dXT0M5RHlPZz09#success)
URL:https://findingfreedom.solutions/event/community-evening-virtual-2021-10-01-2021-10-15/2027-07-16/
ORGANIZER;CN="Susan Williams":MAILTO:Susan.Williams@findingfreedom.solutions
END:VEVENT
BEGIN:VEVENT
DTSTART;TZID=America/Denver:20270730T180000
DTEND;TZID=America/Denver:20270730T210000
DTSTAMP:20260424T151915
CREATED:20210115T183653Z
LAST-MODIFIED:20210115T183653Z
UID:7228-1816970400-1816981200@findingfreedom.solutions
SUMMARY:Community Evening - in person and on Zoom
DESCRIPTION:Join us for our Community Evening 6pm onwards – newcomers welcome. We begin in-person with a shared meal together – if you can\, bring a main dish\, side dish\, or dessert. Our online community joins from 7.15pm MDT with worship\, testimonies\, and sharing. Our evening will wrap-up between 8.30 – 9:00pm. \nLocation varies – 26th May 2023 we are at 161 Barnes Rd\, Belgrade \nIf you can’t be there in person\, use this Zoom link from 7:15pm MDT onwards. (Zoom link: https://us02web.zoom.us/j/755395152?pwd=TmM4a0xYTG9TOUI4K2dXT0M5RHlPZz09#success)
URL:https://findingfreedom.solutions/event/community-evening-virtual-2021-10-01-2021-10-15/2027-07-30/
ORGANIZER;CN="Susan Williams":MAILTO:Susan.Williams@findingfreedom.solutions
END:VEVENT
BEGIN:VEVENT
DTSTART;TZID=America/Denver:20270813T180000
DTEND;TZID=America/Denver:20270813T210000
DTSTAMP:20260424T151915
CREATED:20210115T183653Z
LAST-MODIFIED:20210115T183653Z
UID:7234-1818180000-1818190800@findingfreedom.solutions
SUMMARY:Community Evening - in person and on Zoom
DESCRIPTION:Join us for our Community Evening 6pm onwards – newcomers welcome. We begin in-person with a shared meal together – if you can\, bring a main dish\, side dish\, or dessert. Our online community joins from 7.15pm MDT with worship\, testimonies\, and sharing. Our evening will wrap-up between 8.30 – 9:00pm. \nLocation varies – 26th May 2023 we are at 161 Barnes Rd\, Belgrade \nIf you can’t be there in person\, use this Zoom link from 7:15pm MDT onwards. (Zoom link: https://us02web.zoom.us/j/755395152?pwd=TmM4a0xYTG9TOUI4K2dXT0M5RHlPZz09#success)
URL:https://findingfreedom.solutions/event/community-evening-virtual-2021-10-01-2021-10-15/2027-08-13/
ORGANIZER;CN="Susan Williams":MAILTO:Susan.Williams@findingfreedom.solutions
END:VEVENT
BEGIN:VEVENT
DTSTART;TZID=America/Denver:20270827T180000
DTEND;TZID=America/Denver:20270827T210000
DTSTAMP:20260424T151915
CREATED:20210115T183653Z
LAST-MODIFIED:20210115T183653Z
UID:7240-1819389600-1819400400@findingfreedom.solutions
SUMMARY:Community Evening - in person and on Zoom
DESCRIPTION:Join us for our Community Evening 6pm onwards – newcomers welcome. We begin in-person with a shared meal together – if you can\, bring a main dish\, side dish\, or dessert. Our online community joins from 7.15pm MDT with worship\, testimonies\, and sharing. Our evening will wrap-up between 8.30 – 9:00pm. \nLocation varies – 26th May 2023 we are at 161 Barnes Rd\, Belgrade \nIf you can’t be there in person\, use this Zoom link from 7:15pm MDT onwards. (Zoom link: https://us02web.zoom.us/j/755395152?pwd=TmM4a0xYTG9TOUI4K2dXT0M5RHlPZz09#success)
URL:https://findingfreedom.solutions/event/community-evening-virtual-2021-10-01-2021-10-15/2027-08-27/
ORGANIZER;CN="Susan Williams":MAILTO:Susan.Williams@findingfreedom.solutions
END:VEVENT
BEGIN:VEVENT
DTSTART;TZID=America/Denver:20270910T180000
DTEND;TZID=America/Denver:20270910T210000
DTSTAMP:20260424T151915
CREATED:20210115T183653Z
LAST-MODIFIED:20210115T183653Z
UID:7246-1820599200-1820610000@findingfreedom.solutions
SUMMARY:Community Evening - in person and on Zoom
DESCRIPTION:Join us for our Community Evening 6pm onwards – newcomers welcome. We begin in-person with a shared meal together – if you can\, bring a main dish\, side dish\, or dessert. Our online community joins from 7.15pm MDT with worship\, testimonies\, and sharing. Our evening will wrap-up between 8.30 – 9:00pm. \nLocation varies – 26th May 2023 we are at 161 Barnes Rd\, Belgrade \nIf you can’t be there in person\, use this Zoom link from 7:15pm MDT onwards. (Zoom link: https://us02web.zoom.us/j/755395152?pwd=TmM4a0xYTG9TOUI4K2dXT0M5RHlPZz09#success)
URL:https://findingfreedom.solutions/event/community-evening-virtual-2021-10-01-2021-10-15/2027-09-10/
ORGANIZER;CN="Susan Williams":MAILTO:Susan.Williams@findingfreedom.solutions
END:VEVENT
BEGIN:VEVENT
DTSTART;TZID=America/Denver:20270924T180000
DTEND;TZID=America/Denver:20270924T210000
DTSTAMP:20260424T151915
CREATED:20210115T183653Z
LAST-MODIFIED:20210115T183653Z
UID:7252-1821808800-1821819600@findingfreedom.solutions
SUMMARY:Community Evening - in person and on Zoom
DESCRIPTION:Join us for our Community Evening 6pm onwards – newcomers welcome. We begin in-person with a shared meal together – if you can\, bring a main dish\, side dish\, or dessert. Our online community joins from 7.15pm MDT with worship\, testimonies\, and sharing. Our evening will wrap-up between 8.30 – 9:00pm. \nLocation varies – 26th May 2023 we are at 161 Barnes Rd\, Belgrade \nIf you can’t be there in person\, use this Zoom link from 7:15pm MDT onwards. (Zoom link: https://us02web.zoom.us/j/755395152?pwd=TmM4a0xYTG9TOUI4K2dXT0M5RHlPZz09#success)
URL:https://findingfreedom.solutions/event/community-evening-virtual-2021-10-01-2021-10-15/2027-09-24/
ORGANIZER;CN="Susan Williams":MAILTO:Susan.Williams@findingfreedom.solutions
END:VEVENT
BEGIN:VEVENT
DTSTART;TZID=America/Denver:20271008T180000
DTEND;TZID=America/Denver:20271008T210000
DTSTAMP:20260424T151915
CREATED:20210115T183653Z
LAST-MODIFIED:20210115T183653Z
UID:7258-1823018400-1823029200@findingfreedom.solutions
SUMMARY:Community Evening - in person and on Zoom
DESCRIPTION:Join us for our Community Evening 6pm onwards – newcomers welcome. We begin in-person with a shared meal together – if you can\, bring a main dish\, side dish\, or dessert. Our online community joins from 7.15pm MDT with worship\, testimonies\, and sharing. Our evening will wrap-up between 8.30 – 9:00pm. \nLocation varies – 26th May 2023 we are at 161 Barnes Rd\, Belgrade \nIf you can’t be there in person\, use this Zoom link from 7:15pm MDT onwards. (Zoom link: https://us02web.zoom.us/j/755395152?pwd=TmM4a0xYTG9TOUI4K2dXT0M5RHlPZz09#success)
URL:https://findingfreedom.solutions/event/community-evening-virtual-2021-10-01-2021-10-15/2027-10-08/
ORGANIZER;CN="Susan Williams":MAILTO:Susan.Williams@findingfreedom.solutions
END:VEVENT
BEGIN:VEVENT
DTSTART;TZID=America/Denver:20271022T180000
DTEND;TZID=America/Denver:20271022T210000
DTSTAMP:20260424T151915
CREATED:20210115T183653Z
LAST-MODIFIED:20210115T183653Z
UID:7264-1824228000-1824238800@findingfreedom.solutions
SUMMARY:Community Evening - in person and on Zoom
DESCRIPTION:Join us for our Community Evening 6pm onwards – newcomers welcome. We begin in-person with a shared meal together – if you can\, bring a main dish\, side dish\, or dessert. Our online community joins from 7.15pm MDT with worship\, testimonies\, and sharing. Our evening will wrap-up between 8.30 – 9:00pm. \nLocation varies – 26th May 2023 we are at 161 Barnes Rd\, Belgrade \nIf you can’t be there in person\, use this Zoom link from 7:15pm MDT onwards. (Zoom link: https://us02web.zoom.us/j/755395152?pwd=TmM4a0xYTG9TOUI4K2dXT0M5RHlPZz09#success)
URL:https://findingfreedom.solutions/event/community-evening-virtual-2021-10-01-2021-10-15/2027-10-22/
ORGANIZER;CN="Susan Williams":MAILTO:Susan.Williams@findingfreedom.solutions
END:VEVENT
BEGIN:VEVENT
DTSTART;TZID=America/Denver:20271105T180000
DTEND;TZID=America/Denver:20271105T210000
DTSTAMP:20260424T151915
CREATED:20210115T183653Z
LAST-MODIFIED:20210115T183653Z
UID:7270-1825437600-1825448400@findingfreedom.solutions
SUMMARY:Community Evening - in person and on Zoom
DESCRIPTION:Join us for our Community Evening 6pm onwards – newcomers welcome. We begin in-person with a shared meal together – if you can\, bring a main dish\, side dish\, or dessert. Our online community joins from 7.15pm MDT with worship\, testimonies\, and sharing. Our evening will wrap-up between 8.30 – 9:00pm. \nLocation varies – 26th May 2023 we are at 161 Barnes Rd\, Belgrade \nIf you can’t be there in person\, use this Zoom link from 7:15pm MDT onwards. (Zoom link: https://us02web.zoom.us/j/755395152?pwd=TmM4a0xYTG9TOUI4K2dXT0M5RHlPZz09#success)
URL:https://findingfreedom.solutions/event/community-evening-virtual-2021-10-01-2021-10-15/2027-11-05/
ORGANIZER;CN="Susan Williams":MAILTO:Susan.Williams@findingfreedom.solutions
END:VEVENT
BEGIN:VEVENT
DTSTART;TZID=America/Denver:20271119T180000
DTEND;TZID=America/Denver:20271119T210000
DTSTAMP:20260424T151915
CREATED:20210115T183653Z
LAST-MODIFIED:20210115T183653Z
UID:7276-1826647200-1826658000@findingfreedom.solutions
SUMMARY:Community Evening - in person and on Zoom
DESCRIPTION:Join us for our Community Evening 6pm onwards – newcomers welcome. We begin in-person with a shared meal together – if you can\, bring a main dish\, side dish\, or dessert. Our online community joins from 7.15pm MDT with worship\, testimonies\, and sharing. Our evening will wrap-up between 8.30 – 9:00pm. \nLocation varies – 26th May 2023 we are at 161 Barnes Rd\, Belgrade \nIf you can’t be there in person\, use this Zoom link from 7:15pm MDT onwards. (Zoom link: https://us02web.zoom.us/j/755395152?pwd=TmM4a0xYTG9TOUI4K2dXT0M5RHlPZz09#success)
URL:https://findingfreedom.solutions/event/community-evening-virtual-2021-10-01-2021-10-15/2027-11-19/
ORGANIZER;CN="Susan Williams":MAILTO:Susan.Williams@findingfreedom.solutions
END:VEVENT
BEGIN:VEVENT
DTSTART;TZID=America/Denver:20271203T180000
DTEND;TZID=America/Denver:20271203T210000
DTSTAMP:20260424T151915
CREATED:20210115T183653Z
LAST-MODIFIED:20210115T183653Z
UID:7289-1827856800-1827867600@findingfreedom.solutions
SUMMARY:Community Evening - in person and on Zoom
DESCRIPTION:Join us for our Community Evening 6pm onwards – newcomers welcome. We begin in-person with a shared meal together – if you can\, bring a main dish\, side dish\, or dessert. Our online community joins from 7.15pm MDT with worship\, testimonies\, and sharing. Our evening will wrap-up between 8.30 – 9:00pm. \nLocation varies – 26th May 2023 we are at 161 Barnes Rd\, Belgrade \nIf you can’t be there in person\, use this Zoom link from 7:15pm MDT onwards. (Zoom link: https://us02web.zoom.us/j/755395152?pwd=TmM4a0xYTG9TOUI4K2dXT0M5RHlPZz09#success)
URL:https://findingfreedom.solutions/event/community-evening-virtual-2021-10-01-2021-10-15/2027-12-03/
ORGANIZER;CN="Susan Williams":MAILTO:Susan.Williams@findingfreedom.solutions
END:VEVENT
BEGIN:VEVENT
DTSTART;TZID=America/Denver:20271217T180000
DTEND;TZID=America/Denver:20271217T210000
DTSTAMP:20260424T151915
CREATED:20210115T183653Z
LAST-MODIFIED:20210115T183653Z
UID:7310-1829066400-1829077200@findingfreedom.solutions
SUMMARY:Community Evening - in person and on Zoom
DESCRIPTION:Join us for our Community Evening 6pm onwards – newcomers welcome. We begin in-person with a shared meal together – if you can\, bring a main dish\, side dish\, or dessert. Our online community joins from 7.15pm MDT with worship\, testimonies\, and sharing. Our evening will wrap-up between 8.30 – 9:00pm. \nLocation varies – 26th May 2023 we are at 161 Barnes Rd\, Belgrade \nIf you can’t be there in person\, use this Zoom link from 7:15pm MDT onwards. (Zoom link: https://us02web.zoom.us/j/755395152?pwd=TmM4a0xYTG9TOUI4K2dXT0M5RHlPZz09#success)
URL:https://findingfreedom.solutions/event/community-evening-virtual-2021-10-01-2021-10-15/2027-12-17/
ORGANIZER;CN="Susan Williams":MAILTO:Susan.Williams@findingfreedom.solutions
END:VEVENT
BEGIN:VEVENT
DTSTART;TZID=America/Denver:20271231T180000
DTEND;TZID=America/Denver:20271231T210000
DTSTAMP:20260424T151915
CREATED:20210115T183653Z
LAST-MODIFIED:20210115T183653Z
UID:7326-1830276000-1830286800@findingfreedom.solutions
SUMMARY:Community Evening - in person and on Zoom
DESCRIPTION:Join us for our Community Evening 6pm onwards – newcomers welcome. We begin in-person with a shared meal together – if you can\, bring a main dish\, side dish\, or dessert. Our online community joins from 7.15pm MDT with worship\, testimonies\, and sharing. Our evening will wrap-up between 8.30 – 9:00pm. \nLocation varies – 26th May 2023 we are at 161 Barnes Rd\, Belgrade \nIf you can’t be there in person\, use this Zoom link from 7:15pm MDT onwards. (Zoom link: https://us02web.zoom.us/j/755395152?pwd=TmM4a0xYTG9TOUI4K2dXT0M5RHlPZz09#success)
URL:https://findingfreedom.solutions/event/community-evening-virtual-2021-10-01-2021-10-15/2027-12-31/
ORGANIZER;CN="Susan Williams":MAILTO:Susan.Williams@findingfreedom.solutions
END:VEVENT
BEGIN:VEVENT
DTSTART;TZID=America/Denver:20280114T180000
DTEND;TZID=America/Denver:20280114T210000
DTSTAMP:20260424T151915
CREATED:20210115T183653Z
LAST-MODIFIED:20210115T183653Z
UID:7332-1831485600-1831496400@findingfreedom.solutions
SUMMARY:Community Evening - in person and on Zoom
DESCRIPTION:Join us for our Community Evening 6pm onwards – newcomers welcome. We begin in-person with a shared meal together – if you can\, bring a main dish\, side dish\, or dessert. Our online community joins from 7.15pm MDT with worship\, testimonies\, and sharing. Our evening will wrap-up between 8.30 – 9:00pm. \nLocation varies – 26th May 2023 we are at 161 Barnes Rd\, Belgrade \nIf you can’t be there in person\, use this Zoom link from 7:15pm MDT onwards. (Zoom link: https://us02web.zoom.us/j/755395152?pwd=TmM4a0xYTG9TOUI4K2dXT0M5RHlPZz09#success)
URL:https://findingfreedom.solutions/event/community-evening-virtual-2021-10-01-2021-10-15/2028-01-14/
ORGANIZER;CN="Susan Williams":MAILTO:Susan.Williams@findingfreedom.solutions
END:VEVENT
BEGIN:VEVENT
DTSTART;TZID=America/Denver:20280128T180000
DTEND;TZID=America/Denver:20280128T210000
DTSTAMP:20260424T151915
CREATED:20210115T183653Z
LAST-MODIFIED:20210115T183653Z
UID:7338-1832695200-1832706000@findingfreedom.solutions
SUMMARY:Community Evening - in person and on Zoom
DESCRIPTION:Join us for our Community Evening 6pm onwards – newcomers welcome. We begin in-person with a shared meal together – if you can\, bring a main dish\, side dish\, or dessert. Our online community joins from 7.15pm MDT with worship\, testimonies\, and sharing. Our evening will wrap-up between 8.30 – 9:00pm. \nLocation varies – 26th May 2023 we are at 161 Barnes Rd\, Belgrade \nIf you can’t be there in person\, use this Zoom link from 7:15pm MDT onwards. (Zoom link: https://us02web.zoom.us/j/755395152?pwd=TmM4a0xYTG9TOUI4K2dXT0M5RHlPZz09#success)
URL:https://findingfreedom.solutions/event/community-evening-virtual-2021-10-01-2021-10-15/2028-01-28/
ORGANIZER;CN="Susan Williams":MAILTO:Susan.Williams@findingfreedom.solutions
END:VEVENT
BEGIN:VEVENT
DTSTART;TZID=America/Denver:20280211T180000
DTEND;TZID=America/Denver:20280211T210000
DTSTAMP:20260424T151915
CREATED:20210115T183653Z
LAST-MODIFIED:20210115T183653Z
UID:7344-1833904800-1833915600@findingfreedom.solutions
SUMMARY:Community Evening - in person and on Zoom
DESCRIPTION:Join us for our Community Evening 6pm onwards – newcomers welcome. We begin in-person with a shared meal together – if you can\, bring a main dish\, side dish\, or dessert. Our online community joins from 7.15pm MDT with worship\, testimonies\, and sharing. Our evening will wrap-up between 8.30 – 9:00pm. \nLocation varies – 26th May 2023 we are at 161 Barnes Rd\, Belgrade \nIf you can’t be there in person\, use this Zoom link from 7:15pm MDT onwards. (Zoom link: https://us02web.zoom.us/j/755395152?pwd=TmM4a0xYTG9TOUI4K2dXT0M5RHlPZz09#success)
URL:https://findingfreedom.solutions/event/community-evening-virtual-2021-10-01-2021-10-15/2028-02-11/
ORGANIZER;CN="Susan Williams":MAILTO:Susan.Williams@findingfreedom.solutions
END:VEVENT
BEGIN:VEVENT
DTSTART;TZID=America/Denver:20280225T180000
DTEND;TZID=America/Denver:20280225T210000
DTSTAMP:20260424T151915
CREATED:20210115T183653Z
LAST-MODIFIED:20210115T183653Z
UID:7350-1835114400-1835125200@findingfreedom.solutions
SUMMARY:Community Evening - in person and on Zoom
DESCRIPTION:Join us for our Community Evening 6pm onwards – newcomers welcome. We begin in-person with a shared meal together – if you can\, bring a main dish\, side dish\, or dessert. Our online community joins from 7.15pm MDT with worship\, testimonies\, and sharing. Our evening will wrap-up between 8.30 – 9:00pm. \nLocation varies – 26th May 2023 we are at 161 Barnes Rd\, Belgrade \nIf you can’t be there in person\, use this Zoom link from 7:15pm MDT onwards. (Zoom link: https://us02web.zoom.us/j/755395152?pwd=TmM4a0xYTG9TOUI4K2dXT0M5RHlPZz09#success)
URL:https://findingfreedom.solutions/event/community-evening-virtual-2021-10-01-2021-10-15/2028-02-25/
ORGANIZER;CN="Susan Williams":MAILTO:Susan.Williams@findingfreedom.solutions
END:VEVENT
BEGIN:VEVENT
DTSTART;TZID=America/Denver:20280310T180000
DTEND;TZID=America/Denver:20280310T210000
DTSTAMP:20260424T151915
CREATED:20210115T183653Z
LAST-MODIFIED:20210115T183653Z
UID:7356-1836324000-1836334800@findingfreedom.solutions
SUMMARY:Community Evening - in person and on Zoom
DESCRIPTION:Join us for our Community Evening 6pm onwards – newcomers welcome. We begin in-person with a shared meal together – if you can\, bring a main dish\, side dish\, or dessert. Our online community joins from 7.15pm MDT with worship\, testimonies\, and sharing. Our evening will wrap-up between 8.30 – 9:00pm. \nLocation varies – 26th May 2023 we are at 161 Barnes Rd\, Belgrade \nIf you can’t be there in person\, use this Zoom link from 7:15pm MDT onwards. (Zoom link: https://us02web.zoom.us/j/755395152?pwd=TmM4a0xYTG9TOUI4K2dXT0M5RHlPZz09#success)
URL:https://findingfreedom.solutions/event/community-evening-virtual-2021-10-01-2021-10-15/2028-03-10/
ORGANIZER;CN="Susan Williams":MAILTO:Susan.Williams@findingfreedom.solutions
END:VEVENT
BEGIN:VEVENT
DTSTART;TZID=America/Denver:20280324T180000
DTEND;TZID=America/Denver:20280324T210000
DTSTAMP:20260424T151915
CREATED:20210115T183653Z
LAST-MODIFIED:20210115T183653Z
UID:7365-1837533600-1837544400@findingfreedom.solutions
SUMMARY:Community Evening - in person and on Zoom
DESCRIPTION:Join us for our Community Evening 6pm onwards – newcomers welcome. We begin in-person with a shared meal together – if you can\, bring a main dish\, side dish\, or dessert. Our online community joins from 7.15pm MDT with worship\, testimonies\, and sharing. Our evening will wrap-up between 8.30 – 9:00pm. \nLocation varies – 26th May 2023 we are at 161 Barnes Rd\, Belgrade \nIf you can’t be there in person\, use this Zoom link from 7:15pm MDT onwards. (Zoom link: https://us02web.zoom.us/j/755395152?pwd=TmM4a0xYTG9TOUI4K2dXT0M5RHlPZz09#success)
URL:https://findingfreedom.solutions/event/community-evening-virtual-2021-10-01-2021-10-15/2028-03-24/
ORGANIZER;CN="Susan Williams":MAILTO:Susan.Williams@findingfreedom.solutions
END:VEVENT
BEGIN:VEVENT
DTSTART;TZID=America/Denver:20280407T180000
DTEND;TZID=America/Denver:20280407T210000
DTSTAMP:20260424T151915
CREATED:20210115T183653Z
LAST-MODIFIED:20210115T183653Z
UID:7371-1838743200-1838754000@findingfreedom.solutions
SUMMARY:Community Evening - in person and on Zoom
DESCRIPTION:Join us for our Community Evening 6pm onwards – newcomers welcome. We begin in-person with a shared meal together – if you can\, bring a main dish\, side dish\, or dessert. Our online community joins from 7.15pm MDT with worship\, testimonies\, and sharing. Our evening will wrap-up between 8.30 – 9:00pm. \nLocation varies – 26th May 2023 we are at 161 Barnes Rd\, Belgrade \nIf you can’t be there in person\, use this Zoom link from 7:15pm MDT onwards. (Zoom link: https://us02web.zoom.us/j/755395152?pwd=TmM4a0xYTG9TOUI4K2dXT0M5RHlPZz09#success)
URL:https://findingfreedom.solutions/event/community-evening-virtual-2021-10-01-2021-10-15/2028-04-07/
ORGANIZER;CN="Susan Williams":MAILTO:Susan.Williams@findingfreedom.solutions
END:VEVENT
BEGIN:VEVENT
DTSTART;TZID=America/Denver:20280421T180000
DTEND;TZID=America/Denver:20280421T210000
DTSTAMP:20260424T151915
CREATED:20210115T183653Z
LAST-MODIFIED:20210115T183653Z
UID:7383-1839952800-1839963600@findingfreedom.solutions
SUMMARY:Community Evening - in person and on Zoom
DESCRIPTION:Join us for our Community Evening 6pm onwards – newcomers welcome. We begin in-person with a shared meal together – if you can\, bring a main dish\, side dish\, or dessert. Our online community joins from 7.15pm MDT with worship\, testimonies\, and sharing. Our evening will wrap-up between 8.30 – 9:00pm. \nLocation varies – 26th May 2023 we are at 161 Barnes Rd\, Belgrade \nIf you can’t be there in person\, use this Zoom link from 7:15pm MDT onwards. (Zoom link: https://us02web.zoom.us/j/755395152?pwd=TmM4a0xYTG9TOUI4K2dXT0M5RHlPZz09#success)
URL:https://findingfreedom.solutions/event/community-evening-virtual-2021-10-01-2021-10-15/2028-04-21/
ORGANIZER;CN="Susan Williams":MAILTO:Susan.Williams@findingfreedom.solutions
END:VEVENT
END:VCALENDAR