BEGIN:VCALENDAR
VERSION:2.0
PRODID:-//Finding Freedom - ECPv6.15.20//NONSGML v1.0//EN
CALSCALE:GREGORIAN
METHOD:PUBLISH
X-ORIGINAL-URL:https://findingfreedom.solutions
X-WR-CALDESC:Events for Finding Freedom
REFRESH-INTERVAL;VALUE=DURATION:PT1H
X-Robots-Tag:noindex
X-PUBLISHED-TTL:PT1H
BEGIN:VTIMEZONE
TZID:America/Denver
BEGIN:DAYLIGHT
TZOFFSETFROM:-0700
TZOFFSETTO:-0600
TZNAME:MDT
DTSTART:20190310T090000
END:DAYLIGHT
BEGIN:STANDARD
TZOFFSETFROM:-0600
TZOFFSETTO:-0700
TZNAME:MST
DTSTART:20191103T080000
END:STANDARD
BEGIN:DAYLIGHT
TZOFFSETFROM:-0700
TZOFFSETTO:-0600
TZNAME:MDT
DTSTART:20200308T090000
END:DAYLIGHT
BEGIN:STANDARD
TZOFFSETFROM:-0600
TZOFFSETTO:-0700
TZNAME:MST
DTSTART:20201101T080000
END:STANDARD
BEGIN:DAYLIGHT
TZOFFSETFROM:-0700
TZOFFSETTO:-0600
TZNAME:MDT
DTSTART:20210314T090000
END:DAYLIGHT
BEGIN:STANDARD
TZOFFSETFROM:-0600
TZOFFSETTO:-0700
TZNAME:MST
DTSTART:20211107T080000
END:STANDARD
END:VTIMEZONE
BEGIN:VEVENT
DTSTART;TZID=America/Denver:20200908T183000
DTEND;TZID=America/Denver:20200908T203000
DTSTAMP:20260425T202359
CREATED:20200903T164324Z
LAST-MODIFIED:20221117T181714Z
UID:2611-1599589800-1599597000@findingfreedom.solutions
SUMMARY:Men's Open Group
DESCRIPTION:Gentlemen\, if you want some help on your journey into more healing\, wholeness\, or relationship with Christ or want to see what such a journey might look like\, this is a great place for you! This evening is an open forum for you to come as you are. There is no pressure to come with an issue or question. \nWe meet in person at The Landing (2419 E Cameron Bridge Road\, Bozeman) and also online.  Zoom link here. All men are welcome to join. \n 
URL:https://findingfreedom.solutions/event/mens-open-group-2/2020-09-08/
LOCATION:The Landing – Home of Finding Freedom\, 2419 E. Cameron Bridge Rd\, Bozeman\, MT\, 59718
ORGANIZER;CN="Peter Holmes":MAILTO:Peter.Holmes@findingfreedom.solutions
END:VEVENT
BEGIN:VEVENT
DTSTART;TZID=America/Denver:20200901T061500
DTEND;TZID=America/Denver:20200901T073000
DTSTAMP:20260425T202359
CREATED:20200903T185425Z
LAST-MODIFIED:20221117T181601Z
UID:2640-1598940900-1598945400@findingfreedom.solutions
SUMMARY:Men's Prayer Meeting
DESCRIPTION:Join us every Tuesday morning at 6:15am for a weekly time of sharing and prayer. Come in person to The Landing (2149 East Cameron Bridge Road in Bozeman) or join online. Zoom link here. All men are welcome! \n 
URL:https://findingfreedom.solutions/event/mens-prayer-meeting-3/2020-09-01/
LOCATION:Finding Freedom\, 2419 E. Cameron Bridge Road\, Bozeman\, MT\, 59718\, United States
ORGANIZER;CN="Peter Holmes":MAILTO:Peter.Holmes@findingfreedom.solutions
END:VEVENT
BEGIN:VEVENT
DTSTART;TZID=America/Denver:20200602T061500
DTEND;TZID=America/Denver:20200602T073000
DTSTAMP:20260425T202359
CREATED:20200528T180014Z
LAST-MODIFIED:20200903T185226Z
UID:2316-1591078500-1591083000@findingfreedom.solutions
SUMMARY:Men's Prayer Meeting
DESCRIPTION:Join us every Tuesday morning at 6:15am in the Gallatin Room (formerly Guest Central) at The Commons for a weekly men’s prayer meeting.  All men are welcome!
URL:https://findingfreedom.solutions/event/mens-prayer-meeting-2/2020-06-02/
LOCATION:The Commons\, 1794 Baxter Lane East\, Bozeman\, MT\, 59718\, United States
ORGANIZER;CN="Peter Holmes":MAILTO:Peter.Holmes@findingfreedom.solutions
END:VEVENT
BEGIN:VEVENT
DTSTART;TZID=America/Denver:20200519T063000
DTEND;TZID=America/Denver:20200519T203000
DTSTAMP:20260425T202359
CREATED:20200218T191752Z
LAST-MODIFIED:20200903T164016Z
UID:1979-1589869800-1589920200@findingfreedom.solutions
SUMMARY:Men's Open Group (virtual)
DESCRIPTION:Men\, if you are wanting some help on your discipleship journey or want to see what a Rapha Journey can look like\, this is a great place for you! This evening is an open forum for men to come as you are. There is no pressure to come with an issue/question/agenda. \nThis is a virtual gathering on Zoom every Tuesday evening from 6:30-8:30pm. All men are welcome! \nHere is the Zoom link for this gathering.\nIf you are unfamiliar with the Zoom platform please try logging on at 6:15pm.\nIf you have any problems\, get in touch with Jim via text at 406-581-4386 and he will offer you some support.
URL:https://findingfreedom.solutions/event/mens-open-group-manhattan/2020-05-19/
ORGANIZER;CN="Peter Holmes":MAILTO:Peter.Holmes@findingfreedom.solutions
END:VEVENT
BEGIN:VEVENT
DTSTART;TZID=America/Denver:20200331T063000
DTEND;TZID=America/Denver:20200331T203000
DTSTAMP:20260425T202359
CREATED:20200218T191752Z
LAST-MODIFIED:20200318T023901Z
UID:1983-1585636200-1585686600@findingfreedom.solutions
SUMMARY:Men's Open Group - Manhattan - CANCELED
DESCRIPTION:Men\, if you are wanting some help on your discipleship journey or want to see what a Rapha Journey can look like\, this is a great place for you! This evening is an open forum for men to come as you are. There is no pressure to come with an issue/question/agenda. \nWe are now running two Men’s Open Groups\, one in Bozeman and one in Manhattan\, each meeting on alternate Tuesday evenings at 6:30pm.  Come to one or both\, all men are welcome! \nIf you are interested in being updated by email regarding the venue of each meeting\, please email Jim at jim.panten@findingfreedom.solutions.
URL:https://findingfreedom.solutions/event/mens-open-group-manhattan-2020-03-31/
ORGANIZER;CN="Peter Holmes":MAILTO:Peter.Holmes@findingfreedom.solutions
END:VEVENT
BEGIN:VEVENT
DTSTART;TZID=America/Denver:20200331T061500
DTEND;TZID=America/Denver:20200331T073000
DTSTAMP:20260425T202359
CREATED:20200208T185059Z
LAST-MODIFIED:20200327T221918Z
UID:1863-1585635300-1585639800@findingfreedom.solutions
SUMMARY:Men's Prayer Meeting (virtual)
DESCRIPTION:The men’s prayer gathering is still underway on Tuesday mornings at 6:15am. \nWe will be moving this to a virtual meeting.\nHere is the Zoom link for this gathering.\nIf you are unfamiliar with the Zoom platform please try logging on at 6am.\nIf you have any problems\, get in touch with Jeni via text at 406-581-0545 and she will offer you some support. All men are welcome!
URL:https://findingfreedom.solutions/event/mens-prayer-meeting-2020-03-31/2020-03-31/
LOCATION:MT\, United States
ORGANIZER;CN="Peter Holmes":MAILTO:Peter.Holmes@findingfreedom.solutions
END:VEVENT
BEGIN:VEVENT
DTSTART;TZID=America/Denver:20200324T063000
DTEND;TZID=America/Denver:20200324T203000
DTSTAMP:20260425T202359
CREATED:20191227T192342Z
LAST-MODIFIED:20200318T023708Z
UID:1345-1585031400-1585081800@findingfreedom.solutions
SUMMARY:Men's Open Group - Bozeman - CANCELLED
DESCRIPTION:Men\, if you are wanting some help on your discipleship journey or want to see what a Rapha Journey can look like\, this is a great place for you! This evening is an open forum for men to come as you are. There is no pressure to come with an issue/question/agenda. \nWe are now running two Men’s Open Groups\, one in Bozeman and one in Manhattan\, each meeting on alternate Tuesday evenings at 6:30pm.  Come to one or both\, all men are welcome! \nIf you are interested in being updated by email regarding the venue of each meeting\, please email Jim at jim.panten@findingfreedom.solutions.
URL:https://findingfreedom.solutions/event/mens-open-group-2020-03-24/
ORGANIZER;CN="Peter Holmes":MAILTO:Peter.Holmes@findingfreedom.solutions
END:VEVENT
BEGIN:VEVENT
DTSTART;TZID=America/Denver:20200317T063000
DTEND;TZID=America/Denver:20200317T203000
DTSTAMP:20260425T202359
CREATED:20200218T191752Z
LAST-MODIFIED:20200318T023633Z
UID:1982-1584426600-1584477000@findingfreedom.solutions
SUMMARY:Men's Open Group - Manhattan - CANCELLED
DESCRIPTION:Men\, if you are wanting some help on your discipleship journey or want to see what a Rapha Journey can look like\, this is a great place for you! This evening is an open forum for men to come as you are. There is no pressure to come with an issue/question/agenda. \nWe are now running two Men’s Open Groups\, one in Bozeman and one in Manhattan\, each meeting on alternate Tuesday evenings at 6:30pm.  Come to one or both\, all men are welcome! \nIf you are interested in being updated by email regarding the venue of each meeting\, please email Jim at jim.panten@findingfreedom.solutions.
URL:https://findingfreedom.solutions/event/mens-open-group-manhattan-2020-03-17/
ORGANIZER;CN="Peter Holmes":MAILTO:Peter.Holmes@findingfreedom.solutions
END:VEVENT
BEGIN:VEVENT
DTSTART;TZID=America/Denver:20200211T063000
DTEND;TZID=America/Denver:20200211T203000
DTSTAMP:20260425T202359
CREATED:20191227T192342Z
LAST-MODIFIED:20200327T220414Z
UID:1329-1581402600-1581453000@findingfreedom.solutions
SUMMARY:Men's Open Group - Bozeman
DESCRIPTION:Men\, if you are wanting some help on your discipleship journey or want to see what a Rapha Journey can look like\, this is a great place for you! This evening is an open forum for men to come as you are. There is no pressure to come with an issue/question/agenda. \nWe are now running two Men’s Open Groups\, one in Bozeman and one in Manhattan\, each meeting on alternate Tuesday evenings at 6:30pm.  Come to one or both\, all men are welcome! \nIf you are interested in being updated by email regarding the venue of each meeting\, please email Jim at jim.panten@findingfreedom.solutions.
URL:https://findingfreedom.solutions/event/mens-open-group/2020-02-11/
ORGANIZER;CN="Peter Holmes":MAILTO:Peter.Holmes@findingfreedom.solutions
END:VEVENT
BEGIN:VEVENT
DTSTART;TZID=America/Denver:20200211T061500
DTEND;TZID=America/Denver:20200211T073000
DTSTAMP:20260425T202359
CREATED:20200208T185059Z
LAST-MODIFIED:20200327T220542Z
UID:1855-1581401700-1581406200@findingfreedom.solutions
SUMMARY:Men's Prayer Meeting
DESCRIPTION:Join us every Tuesday morning at 6:15am in the Gallatin Room (formerly Guest Central) at The Commons for a weekly men’s prayer meeting.  All men are welcome!
URL:https://findingfreedom.solutions/event/mens-prayer-meeting/2020-02-11/
LOCATION:The Commons\, 1794 Baxter Lane East\, Bozeman\, MT\, 59718\, United States
ORGANIZER;CN="Peter Holmes":MAILTO:Peter.Holmes@findingfreedom.solutions
END:VEVENT
END:VCALENDAR