BEGIN:VCALENDAR
VERSION:2.0
PRODID:-//Finding Freedom - ECPv6.15.20//NONSGML v1.0//EN
CALSCALE:GREGORIAN
METHOD:PUBLISH
X-WR-CALNAME:Finding Freedom
X-ORIGINAL-URL:https://findingfreedom.solutions
X-WR-CALDESC:Events for Finding Freedom
REFRESH-INTERVAL;VALUE=DURATION:PT1H
X-Robots-Tag:noindex
X-PUBLISHED-TTL:PT1H
BEGIN:VTIMEZONE
TZID:America/Denver
BEGIN:DAYLIGHT
TZOFFSETFROM:-0700
TZOFFSETTO:-0600
TZNAME:MDT
DTSTART:20230312T090000
END:DAYLIGHT
BEGIN:STANDARD
TZOFFSETFROM:-0600
TZOFFSETTO:-0700
TZNAME:MST
DTSTART:20231105T080000
END:STANDARD
BEGIN:DAYLIGHT
TZOFFSETFROM:-0700
TZOFFSETTO:-0600
TZNAME:MDT
DTSTART:20240310T090000
END:DAYLIGHT
BEGIN:STANDARD
TZOFFSETFROM:-0600
TZOFFSETTO:-0700
TZNAME:MST
DTSTART:20241103T080000
END:STANDARD
BEGIN:DAYLIGHT
TZOFFSETFROM:-0700
TZOFFSETTO:-0600
TZNAME:MDT
DTSTART:20250309T090000
END:DAYLIGHT
BEGIN:STANDARD
TZOFFSETFROM:-0600
TZOFFSETTO:-0700
TZNAME:MST
DTSTART:20251102T080000
END:STANDARD
END:VTIMEZONE
BEGIN:VEVENT
DTSTART;TZID=America/Denver:20241105T061500
DTEND;TZID=America/Denver:20241105T073000
DTSTAMP:20260425T103735
CREATED:20200903T185425Z
LAST-MODIFIED:20221117T175658Z
UID:4339-1730787300-1730791800@findingfreedom.solutions
SUMMARY:Men's Prayer Meeting
DESCRIPTION:Join us every Tuesday morning at 6:15am for a weekly time of sharing and prayer. Come in person to The Landing (2149 East Cameron Bridge Road in Bozeman) or join online. Zoom link here. All men are welcome! \n 
URL:https://findingfreedom.solutions/event/mens-prayer-meeting-3/2024-11-05/
LOCATION:Finding Freedom\, 2419 E. Cameron Bridge Road\, Bozeman\, MT\, 59718\, United States
ORGANIZER;CN="Peter Holmes":MAILTO:Peter.Holmes@findingfreedom.solutions
END:VEVENT
BEGIN:VEVENT
DTSTART;TZID=America/Denver:20241105T183000
DTEND;TZID=America/Denver:20241105T203000
DTSTAMP:20260425T103735
CREATED:20200903T164324Z
LAST-MODIFIED:20221117T175509Z
UID:4340-1730831400-1730838600@findingfreedom.solutions
SUMMARY:Men's Open Group
DESCRIPTION:Gentlemen\, if you want some help on your journey into more healing\, wholeness\, or relationship with Christ or want to see what such a journey might look like\, this is a great place for you! This evening is an open forum for you to come as you are. There is no pressure to come with an issue or question. \nWe meet in person at The Landing (2419 E Cameron Bridge Road\, Bozeman) and also online.  Zoom link here. All men are welcome to join. \n 
URL:https://findingfreedom.solutions/event/mens-open-group-2/2024-11-05/
LOCATION:Montana
ORGANIZER;CN="Peter Holmes":MAILTO:Peter.Holmes@findingfreedom.solutions
END:VEVENT
BEGIN:VEVENT
DTSTART;TZID=America/Denver:20241108T180000
DTEND;TZID=America/Denver:20241108T210000
DTSTAMP:20260425T103735
CREATED:20210115T183653Z
LAST-MODIFIED:20230521T161722Z
UID:4343-1731088800-1731099600@findingfreedom.solutions
SUMMARY:Community Evening
DESCRIPTION:Join us for our Community Evening! We will begin the evening with a shared meal together – if you can\, bring a main dish\, side dish\, or dessert. Dinner will begin at 6pm MST\, but you are welcome to arrive anytime throughout the evening. Worship\, a message\, testimonies\, and sharing starts at 7:15pm and our evening will wrap-up sometime between 8.30 – 9:00pm. \nWe meet at The Landing in Bozeman. If you can’t be there in person\, use this Zoom link from 7:15pm MDT onwards. (Zoom link: https://us02web.zoom.us/j/755395152?pwd=TmM4a0xYTG9TOUI4K2dXT0M5RHlPZz09#success)
URL:https://findingfreedom.solutions/event/community-evening-virtual-2021-10-01-2021-10-15/2024-11-08/
LOCATION:The Landing – Home of Finding Freedom\, 2419 E. Cameron Bridge Rd\, Bozeman\, MT\, 59718
ORGANIZER;CN="Susan Williams":MAILTO:Susan.Williams@findingfreedom.solutions
END:VEVENT
BEGIN:VEVENT
DTSTART;TZID=America/Denver:20241108T183000
DTEND;TZID=America/Denver:20241108T203000
DTSTAMP:20260425T103735
CREATED:20210115T183653Z
LAST-MODIFIED:20210115T183653Z
UID:4342-1731090600-1731097800@findingfreedom.solutions
SUMMARY:Community Evening (virtual)
DESCRIPTION:Although we can’t have our normal Community Evening we do still want to gather together as a community\, virtually.  We will be using Zoom as the meeting platform.  Our time together will include space for sharing our personal and corporate challenges and celebrations\, prayer\, and Peter has something from the Lord to share with us. \nYou can use this Zoom link to log on to the meeting.  If you are unfamiliar with the Zoom platform please try logging on at 6pm. If you have any problems\, get in touch with Jeni via text at 406-581-0545 and she will offer you some support.
URL:https://findingfreedom.solutions/event/community-evening-virtual/2024-11-08/
LOCATION:Montana
END:VEVENT
BEGIN:VEVENT
DTSTART;TZID=America/Denver:20241112T061500
DTEND;TZID=America/Denver:20241112T073000
DTSTAMP:20260425T103735
CREATED:20200903T185425Z
LAST-MODIFIED:20221117T175658Z
UID:4344-1731392100-1731396600@findingfreedom.solutions
SUMMARY:Men's Prayer Meeting
DESCRIPTION:Join us every Tuesday morning at 6:15am for a weekly time of sharing and prayer. Come in person to The Landing (2149 East Cameron Bridge Road in Bozeman) or join online. Zoom link here. All men are welcome! \n 
URL:https://findingfreedom.solutions/event/mens-prayer-meeting-3/2024-11-12/
LOCATION:Finding Freedom\, 2419 E. Cameron Bridge Road\, Bozeman\, MT\, 59718\, United States
ORGANIZER;CN="Peter Holmes":MAILTO:Peter.Holmes@findingfreedom.solutions
END:VEVENT
BEGIN:VEVENT
DTSTART;TZID=America/Denver:20241112T183000
DTEND;TZID=America/Denver:20241112T203000
DTSTAMP:20260425T103735
CREATED:20200903T164324Z
LAST-MODIFIED:20221117T175509Z
UID:4345-1731436200-1731443400@findingfreedom.solutions
SUMMARY:Men's Open Group
DESCRIPTION:Gentlemen\, if you want some help on your journey into more healing\, wholeness\, or relationship with Christ or want to see what such a journey might look like\, this is a great place for you! This evening is an open forum for you to come as you are. There is no pressure to come with an issue or question. \nWe meet in person at The Landing (2419 E Cameron Bridge Road\, Bozeman) and also online.  Zoom link here. All men are welcome to join. \n 
URL:https://findingfreedom.solutions/event/mens-open-group-2/2024-11-12/
LOCATION:Montana
ORGANIZER;CN="Peter Holmes":MAILTO:Peter.Holmes@findingfreedom.solutions
END:VEVENT
BEGIN:VEVENT
DTSTART;TZID=America/Denver:20241119T061500
DTEND;TZID=America/Denver:20241119T073000
DTSTAMP:20260425T103735
CREATED:20200903T185425Z
LAST-MODIFIED:20200903T185425Z
UID:4992-1731996900-1732001400@findingfreedom.solutions
SUMMARY:Men's Prayer Meeting
DESCRIPTION:Join us every Tuesday morning at 6:15am for a weekly time of sharing and prayer. Come in person to The Landing (2149 East Cameron Bridge Road in Bozeman) or join online. Zoom link here. All men are welcome! \n 
URL:https://findingfreedom.solutions/event/mens-prayer-meeting-3/2024-11-19/
LOCATION:Finding Freedom\, 2419 E. Cameron Bridge Road\, Bozeman\, MT\, 59718\, United States
ORGANIZER;CN="Peter Holmes":MAILTO:Peter.Holmes@findingfreedom.solutions
END:VEVENT
BEGIN:VEVENT
DTSTART;TZID=America/Denver:20241119T183000
DTEND;TZID=America/Denver:20241119T203000
DTSTAMP:20260425T103735
CREATED:20200903T164324Z
LAST-MODIFIED:20200903T164324Z
UID:4993-1732041000-1732048200@findingfreedom.solutions
SUMMARY:Men's Open Group
DESCRIPTION:Gentlemen\, if you want some help on your journey into more healing\, wholeness\, or relationship with Christ or want to see what such a journey might look like\, this is a great place for you! This evening is an open forum for you to come as you are. There is no pressure to come with an issue or question. \nWe meet in person at The Landing (2419 E Cameron Bridge Road\, Bozeman) and also online.  Zoom link here. All men are welcome to join. \n 
URL:https://findingfreedom.solutions/event/mens-open-group-2/2024-11-19/
LOCATION:The Landing – Home of Finding Freedom\, 2419 E. Cameron Bridge Rd\, Bozeman\, MT\, 59718
ORGANIZER;CN="Peter Holmes":MAILTO:Peter.Holmes@findingfreedom.solutions
END:VEVENT
BEGIN:VEVENT
DTSTART;TZID=America/Denver:20241122T180000
DTEND;TZID=America/Denver:20241122T210000
DTSTAMP:20260425T103735
CREATED:20210115T183653Z
LAST-MODIFIED:20230521T161722Z
UID:4996-1732298400-1732309200@findingfreedom.solutions
SUMMARY:Community Evening
DESCRIPTION:Join us for our Community Evening! We will begin the evening with a shared meal together – if you can\, bring a main dish\, side dish\, or dessert. Dinner will begin at 6pm MST\, but you are welcome to arrive anytime throughout the evening. Worship\, a message\, testimonies\, and sharing starts at 7:15pm and our evening will wrap-up sometime between 8.30 – 9:00pm. \nWe meet at The Landing in Bozeman. If you can’t be there in person\, use this Zoom link from 7:15pm MDT onwards. (Zoom link: https://us02web.zoom.us/j/755395152?pwd=TmM4a0xYTG9TOUI4K2dXT0M5RHlPZz09#success)
URL:https://findingfreedom.solutions/event/community-evening-virtual-2021-10-01-2021-10-15/2024-11-22/
LOCATION:The Landing – Home of Finding Freedom\, 2419 E. Cameron Bridge Rd\, Bozeman\, MT\, 59718
ORGANIZER;CN="Susan Williams":MAILTO:Susan.Williams@findingfreedom.solutions
END:VEVENT
BEGIN:VEVENT
DTSTART;TZID=America/Denver:20241122T183000
DTEND;TZID=America/Denver:20241122T203000
DTSTAMP:20260425T103735
CREATED:20210115T183653Z
LAST-MODIFIED:20210115T183653Z
UID:4995-1732300200-1732307400@findingfreedom.solutions
SUMMARY:Community Evening (virtual)
DESCRIPTION:Although we can’t have our normal Community Evening we do still want to gather together as a community\, virtually.  We will be using Zoom as the meeting platform.  Our time together will include space for sharing our personal and corporate challenges and celebrations\, prayer\, and Peter has something from the Lord to share with us. \nYou can use this Zoom link to log on to the meeting.  If you are unfamiliar with the Zoom platform please try logging on at 6pm. If you have any problems\, get in touch with Jeni via text at 406-581-0545 and she will offer you some support.
URL:https://findingfreedom.solutions/event/community-evening-virtual/2024-11-22/
LOCATION:Montana
END:VEVENT
BEGIN:VEVENT
DTSTART;TZID=America/Denver:20241126T061500
DTEND;TZID=America/Denver:20241126T073000
DTSTAMP:20260425T103735
CREATED:20200903T185425Z
LAST-MODIFIED:20200903T185425Z
UID:5001-1732601700-1732606200@findingfreedom.solutions
SUMMARY:Men's Prayer Meeting
DESCRIPTION:Join us every Tuesday morning at 6:15am for a weekly time of sharing and prayer. Come in person to The Landing (2149 East Cameron Bridge Road in Bozeman) or join online. Zoom link here. All men are welcome! \n 
URL:https://findingfreedom.solutions/event/mens-prayer-meeting-3/2024-11-26/
LOCATION:Finding Freedom\, 2419 E. Cameron Bridge Road\, Bozeman\, MT\, 59718\, United States
ORGANIZER;CN="Peter Holmes":MAILTO:Peter.Holmes@findingfreedom.solutions
END:VEVENT
BEGIN:VEVENT
DTSTART;TZID=America/Denver:20241126T183000
DTEND;TZID=America/Denver:20241126T203000
DTSTAMP:20260425T103735
CREATED:20200903T164324Z
LAST-MODIFIED:20200903T164324Z
UID:5002-1732645800-1732653000@findingfreedom.solutions
SUMMARY:Men's Open Group
DESCRIPTION:Gentlemen\, if you want some help on your journey into more healing\, wholeness\, or relationship with Christ or want to see what such a journey might look like\, this is a great place for you! This evening is an open forum for you to come as you are. There is no pressure to come with an issue or question. \nWe meet in person at The Landing (2419 E Cameron Bridge Road\, Bozeman) and also online.  Zoom link here. All men are welcome to join. \n 
URL:https://findingfreedom.solutions/event/mens-open-group-2/2024-11-26/
LOCATION:The Landing – Home of Finding Freedom\, 2419 E. Cameron Bridge Rd\, Bozeman\, MT\, 59718
ORGANIZER;CN="Peter Holmes":MAILTO:Peter.Holmes@findingfreedom.solutions
END:VEVENT
END:VCALENDAR