BEGIN:VCALENDAR
VERSION:2.0
PRODID:-//Finding Freedom - ECPv6.15.20//NONSGML v1.0//EN
CALSCALE:GREGORIAN
METHOD:PUBLISH
X-WR-CALNAME:Finding Freedom
X-ORIGINAL-URL:https://findingfreedom.solutions
X-WR-CALDESC:Events for Finding Freedom
REFRESH-INTERVAL;VALUE=DURATION:PT1H
X-Robots-Tag:noindex
X-PUBLISHED-TTL:PT1H
BEGIN:VTIMEZONE
TZID:America/Denver
BEGIN:DAYLIGHT
TZOFFSETFROM:-0700
TZOFFSETTO:-0600
TZNAME:MDT
DTSTART:20270314T090000
END:DAYLIGHT
BEGIN:STANDARD
TZOFFSETFROM:-0600
TZOFFSETTO:-0700
TZNAME:MST
DTSTART:20271107T080000
END:STANDARD
BEGIN:DAYLIGHT
TZOFFSETFROM:-0700
TZOFFSETTO:-0600
TZNAME:MDT
DTSTART:20280312T090000
END:DAYLIGHT
BEGIN:STANDARD
TZOFFSETFROM:-0600
TZOFFSETTO:-0700
TZNAME:MST
DTSTART:20281105T080000
END:STANDARD
BEGIN:DAYLIGHT
TZOFFSETFROM:-0700
TZOFFSETTO:-0600
TZNAME:MDT
DTSTART:20290311T090000
END:DAYLIGHT
BEGIN:STANDARD
TZOFFSETFROM:-0600
TZOFFSETTO:-0700
TZNAME:MST
DTSTART:20291104T080000
END:STANDARD
END:VTIMEZONE
BEGIN:VEVENT
DTSTART;TZID=America/Denver:20280104T061500
DTEND;TZID=America/Denver:20280104T073000
DTSTAMP:20260425T222408
CREATED:20200903T185425Z
LAST-MODIFIED:20200903T185425Z
UID:7327-1830579300-1830583800@findingfreedom.solutions
SUMMARY:Men's Prayer Meeting
DESCRIPTION:Join us every Tuesday morning at 6:15am for a weekly time of sharing and prayer. Come in person to The Landing (2149 East Cameron Bridge Road in Bozeman) or join online. Zoom link here. All men are welcome! \n 
URL:https://findingfreedom.solutions/event/mens-prayer-meeting-3/2028-01-04/
LOCATION:Finding Freedom\, 2419 E. Cameron Bridge Road\, Bozeman\, MT\, 59718\, United States
ORGANIZER;CN="Peter Holmes":MAILTO:Peter.Holmes@findingfreedom.solutions
END:VEVENT
BEGIN:VEVENT
DTSTART;TZID=America/Denver:20280104T183000
DTEND;TZID=America/Denver:20280104T203000
DTSTAMP:20260425T222408
CREATED:20200903T164324Z
LAST-MODIFIED:20200903T164324Z
UID:7328-1830623400-1830630600@findingfreedom.solutions
SUMMARY:Men's Open Group
DESCRIPTION:Gentlemen\, if you want some help on your journey into more healing\, wholeness\, or relationship with Christ or want to see what such a journey might look like\, this is a great place for you! This evening is an open forum for you to come as you are. There is no pressure to come with an issue or question. \nWe meet in person at The Landing (2419 E Cameron Bridge Road\, Bozeman) and also online.  Zoom link here. All men are welcome to join. \n 
URL:https://findingfreedom.solutions/event/mens-open-group-2/2028-01-04/
LOCATION:The Landing – Home of Finding Freedom\, 2419 E. Cameron Bridge Rd\, Bozeman\, MT\, 59718
ORGANIZER;CN="Peter Holmes":MAILTO:Peter.Holmes@findingfreedom.solutions
END:VEVENT
BEGIN:VEVENT
DTSTART;TZID=America/Denver:20280111T061500
DTEND;TZID=America/Denver:20280111T073000
DTSTAMP:20260425T222408
CREATED:20200903T185425Z
LAST-MODIFIED:20200903T185425Z
UID:7329-1831184100-1831188600@findingfreedom.solutions
SUMMARY:Men's Prayer Meeting
DESCRIPTION:Join us every Tuesday morning at 6:15am for a weekly time of sharing and prayer. Come in person to The Landing (2149 East Cameron Bridge Road in Bozeman) or join online. Zoom link here. All men are welcome! \n 
URL:https://findingfreedom.solutions/event/mens-prayer-meeting-3/2028-01-11/
LOCATION:Finding Freedom\, 2419 E. Cameron Bridge Road\, Bozeman\, MT\, 59718\, United States
ORGANIZER;CN="Peter Holmes":MAILTO:Peter.Holmes@findingfreedom.solutions
END:VEVENT
BEGIN:VEVENT
DTSTART;TZID=America/Denver:20280111T183000
DTEND;TZID=America/Denver:20280111T203000
DTSTAMP:20260425T222408
CREATED:20200903T164324Z
LAST-MODIFIED:20200903T164324Z
UID:7330-1831228200-1831235400@findingfreedom.solutions
SUMMARY:Men's Open Group
DESCRIPTION:Gentlemen\, if you want some help on your journey into more healing\, wholeness\, or relationship with Christ or want to see what such a journey might look like\, this is a great place for you! This evening is an open forum for you to come as you are. There is no pressure to come with an issue or question. \nWe meet in person at The Landing (2419 E Cameron Bridge Road\, Bozeman) and also online.  Zoom link here. All men are welcome to join. \n 
URL:https://findingfreedom.solutions/event/mens-open-group-2/2028-01-11/
LOCATION:The Landing – Home of Finding Freedom\, 2419 E. Cameron Bridge Rd\, Bozeman\, MT\, 59718
ORGANIZER;CN="Peter Holmes":MAILTO:Peter.Holmes@findingfreedom.solutions
END:VEVENT
BEGIN:VEVENT
DTSTART;TZID=America/Denver:20280114T180000
DTEND;TZID=America/Denver:20280114T210000
DTSTAMP:20260425T222408
CREATED:20210115T183653Z
LAST-MODIFIED:20210115T183653Z
UID:7332-1831485600-1831496400@findingfreedom.solutions
SUMMARY:Community Evening - in person and on Zoom
DESCRIPTION:Join us for our Community Evening 6pm onwards – newcomers welcome. We begin in-person with a shared meal together – if you can\, bring a main dish\, side dish\, or dessert. Our online community joins from 7.15pm MDT with worship\, testimonies\, and sharing. Our evening will wrap-up between 8.30 – 9:00pm. \nLocation varies – 26th May 2023 we are at 161 Barnes Rd\, Belgrade \nIf you can’t be there in person\, use this Zoom link from 7:15pm MDT onwards. (Zoom link: https://us02web.zoom.us/j/755395152?pwd=TmM4a0xYTG9TOUI4K2dXT0M5RHlPZz09#success)
URL:https://findingfreedom.solutions/event/community-evening-virtual-2021-10-01-2021-10-15/2028-01-14/
LOCATION:Montana
ORGANIZER;CN="Susan Williams":MAILTO:Susan.Williams@findingfreedom.solutions
END:VEVENT
BEGIN:VEVENT
DTSTART;TZID=America/Denver:20280114T183000
DTEND;TZID=America/Denver:20280114T203000
DTSTAMP:20260425T222408
CREATED:20210115T183653Z
LAST-MODIFIED:20210115T183653Z
UID:7331-1831487400-1831494600@findingfreedom.solutions
SUMMARY:Community Evening (virtual)
DESCRIPTION:Although we can’t have our normal Community Evening we do still want to gather together as a community\, virtually.  We will be using Zoom as the meeting platform.  Our time together will include space for sharing our personal and corporate challenges and celebrations\, prayer\, and Peter has something from the Lord to share with us. \nYou can use this Zoom link to log on to the meeting.  If you are unfamiliar with the Zoom platform please try logging on at 6pm. If you have any problems\, get in touch with Jeni via text at 406-581-0545 and she will offer you some support.
URL:https://findingfreedom.solutions/event/community-evening-virtual/2028-01-14/
LOCATION:Montana
END:VEVENT
BEGIN:VEVENT
DTSTART;TZID=America/Denver:20280118T061500
DTEND;TZID=America/Denver:20280118T073000
DTSTAMP:20260425T222408
CREATED:20200903T185425Z
LAST-MODIFIED:20200903T185425Z
UID:7333-1831788900-1831793400@findingfreedom.solutions
SUMMARY:Men's Prayer Meeting
DESCRIPTION:Join us every Tuesday morning at 6:15am for a weekly time of sharing and prayer. Come in person to The Landing (2149 East Cameron Bridge Road in Bozeman) or join online. Zoom link here. All men are welcome! \n 
URL:https://findingfreedom.solutions/event/mens-prayer-meeting-3/2028-01-18/
LOCATION:Finding Freedom\, 2419 E. Cameron Bridge Road\, Bozeman\, MT\, 59718\, United States
ORGANIZER;CN="Peter Holmes":MAILTO:Peter.Holmes@findingfreedom.solutions
END:VEVENT
BEGIN:VEVENT
DTSTART;TZID=America/Denver:20280118T183000
DTEND;TZID=America/Denver:20280118T203000
DTSTAMP:20260425T222408
CREATED:20200903T164324Z
LAST-MODIFIED:20200903T164324Z
UID:7334-1831833000-1831840200@findingfreedom.solutions
SUMMARY:Men's Open Group
DESCRIPTION:Gentlemen\, if you want some help on your journey into more healing\, wholeness\, or relationship with Christ or want to see what such a journey might look like\, this is a great place for you! This evening is an open forum for you to come as you are. There is no pressure to come with an issue or question. \nWe meet in person at The Landing (2419 E Cameron Bridge Road\, Bozeman) and also online.  Zoom link here. All men are welcome to join. \n 
URL:https://findingfreedom.solutions/event/mens-open-group-2/2028-01-18/
LOCATION:The Landing – Home of Finding Freedom\, 2419 E. Cameron Bridge Rd\, Bozeman\, MT\, 59718
ORGANIZER;CN="Peter Holmes":MAILTO:Peter.Holmes@findingfreedom.solutions
END:VEVENT
BEGIN:VEVENT
DTSTART;TZID=America/Denver:20280125T061500
DTEND;TZID=America/Denver:20280125T073000
DTSTAMP:20260425T222408
CREATED:20200903T185425Z
LAST-MODIFIED:20200903T185425Z
UID:7335-1832393700-1832398200@findingfreedom.solutions
SUMMARY:Men's Prayer Meeting
DESCRIPTION:Join us every Tuesday morning at 6:15am for a weekly time of sharing and prayer. Come in person to The Landing (2149 East Cameron Bridge Road in Bozeman) or join online. Zoom link here. All men are welcome! \n 
URL:https://findingfreedom.solutions/event/mens-prayer-meeting-3/2028-01-25/
LOCATION:Finding Freedom\, 2419 E. Cameron Bridge Road\, Bozeman\, MT\, 59718\, United States
ORGANIZER;CN="Peter Holmes":MAILTO:Peter.Holmes@findingfreedom.solutions
END:VEVENT
BEGIN:VEVENT
DTSTART;TZID=America/Denver:20280125T183000
DTEND;TZID=America/Denver:20280125T203000
DTSTAMP:20260425T222408
CREATED:20200903T164324Z
LAST-MODIFIED:20200903T164324Z
UID:7336-1832437800-1832445000@findingfreedom.solutions
SUMMARY:Men's Open Group
DESCRIPTION:Gentlemen\, if you want some help on your journey into more healing\, wholeness\, or relationship with Christ or want to see what such a journey might look like\, this is a great place for you! This evening is an open forum for you to come as you are. There is no pressure to come with an issue or question. \nWe meet in person at The Landing (2419 E Cameron Bridge Road\, Bozeman) and also online.  Zoom link here. All men are welcome to join. \n 
URL:https://findingfreedom.solutions/event/mens-open-group-2/2028-01-25/
LOCATION:The Landing – Home of Finding Freedom\, 2419 E. Cameron Bridge Rd\, Bozeman\, MT\, 59718
ORGANIZER;CN="Peter Holmes":MAILTO:Peter.Holmes@findingfreedom.solutions
END:VEVENT
BEGIN:VEVENT
DTSTART;TZID=America/Denver:20280128T180000
DTEND;TZID=America/Denver:20280128T210000
DTSTAMP:20260425T222408
CREATED:20210115T183653Z
LAST-MODIFIED:20210115T183653Z
UID:7338-1832695200-1832706000@findingfreedom.solutions
SUMMARY:Community Evening - in person and on Zoom
DESCRIPTION:Join us for our Community Evening 6pm onwards – newcomers welcome. We begin in-person with a shared meal together – if you can\, bring a main dish\, side dish\, or dessert. Our online community joins from 7.15pm MDT with worship\, testimonies\, and sharing. Our evening will wrap-up between 8.30 – 9:00pm. \nLocation varies – 26th May 2023 we are at 161 Barnes Rd\, Belgrade \nIf you can’t be there in person\, use this Zoom link from 7:15pm MDT onwards. (Zoom link: https://us02web.zoom.us/j/755395152?pwd=TmM4a0xYTG9TOUI4K2dXT0M5RHlPZz09#success)
URL:https://findingfreedom.solutions/event/community-evening-virtual-2021-10-01-2021-10-15/2028-01-28/
LOCATION:Montana
ORGANIZER;CN="Susan Williams":MAILTO:Susan.Williams@findingfreedom.solutions
END:VEVENT
BEGIN:VEVENT
DTSTART;TZID=America/Denver:20280128T183000
DTEND;TZID=America/Denver:20280128T203000
DTSTAMP:20260425T222408
CREATED:20210115T183653Z
LAST-MODIFIED:20210115T183653Z
UID:7337-1832697000-1832704200@findingfreedom.solutions
SUMMARY:Community Evening (virtual)
DESCRIPTION:Although we can’t have our normal Community Evening we do still want to gather together as a community\, virtually.  We will be using Zoom as the meeting platform.  Our time together will include space for sharing our personal and corporate challenges and celebrations\, prayer\, and Peter has something from the Lord to share with us. \nYou can use this Zoom link to log on to the meeting.  If you are unfamiliar with the Zoom platform please try logging on at 6pm. If you have any problems\, get in touch with Jeni via text at 406-581-0545 and she will offer you some support.
URL:https://findingfreedom.solutions/event/community-evening-virtual/2028-01-28/
LOCATION:Montana
END:VEVENT
BEGIN:VEVENT
DTSTART;TZID=America/Denver:20280201T061500
DTEND;TZID=America/Denver:20280201T073000
DTSTAMP:20260425T222408
CREATED:20200903T185425Z
LAST-MODIFIED:20200903T185425Z
UID:7339-1832998500-1833003000@findingfreedom.solutions
SUMMARY:Men's Prayer Meeting
DESCRIPTION:Join us every Tuesday morning at 6:15am for a weekly time of sharing and prayer. Come in person to The Landing (2149 East Cameron Bridge Road in Bozeman) or join online. Zoom link here. All men are welcome! \n 
URL:https://findingfreedom.solutions/event/mens-prayer-meeting-3/2028-02-01/
LOCATION:Finding Freedom\, 2419 E. Cameron Bridge Road\, Bozeman\, MT\, 59718\, United States
ORGANIZER;CN="Peter Holmes":MAILTO:Peter.Holmes@findingfreedom.solutions
END:VEVENT
BEGIN:VEVENT
DTSTART;TZID=America/Denver:20280201T183000
DTEND;TZID=America/Denver:20280201T203000
DTSTAMP:20260425T222408
CREATED:20200903T164324Z
LAST-MODIFIED:20200903T164324Z
UID:7340-1833042600-1833049800@findingfreedom.solutions
SUMMARY:Men's Open Group
DESCRIPTION:Gentlemen\, if you want some help on your journey into more healing\, wholeness\, or relationship with Christ or want to see what such a journey might look like\, this is a great place for you! This evening is an open forum for you to come as you are. There is no pressure to come with an issue or question. \nWe meet in person at The Landing (2419 E Cameron Bridge Road\, Bozeman) and also online.  Zoom link here. All men are welcome to join. \n 
URL:https://findingfreedom.solutions/event/mens-open-group-2/2028-02-01/
LOCATION:The Landing – Home of Finding Freedom\, 2419 E. Cameron Bridge Rd\, Bozeman\, MT\, 59718
ORGANIZER;CN="Peter Holmes":MAILTO:Peter.Holmes@findingfreedom.solutions
END:VEVENT
BEGIN:VEVENT
DTSTART;TZID=America/Denver:20280208T061500
DTEND;TZID=America/Denver:20280208T073000
DTSTAMP:20260425T222408
CREATED:20200903T185425Z
LAST-MODIFIED:20200903T185425Z
UID:7341-1833603300-1833607800@findingfreedom.solutions
SUMMARY:Men's Prayer Meeting
DESCRIPTION:Join us every Tuesday morning at 6:15am for a weekly time of sharing and prayer. Come in person to The Landing (2149 East Cameron Bridge Road in Bozeman) or join online. Zoom link here. All men are welcome! \n 
URL:https://findingfreedom.solutions/event/mens-prayer-meeting-3/2028-02-08/
LOCATION:Finding Freedom\, 2419 E. Cameron Bridge Road\, Bozeman\, MT\, 59718\, United States
ORGANIZER;CN="Peter Holmes":MAILTO:Peter.Holmes@findingfreedom.solutions
END:VEVENT
BEGIN:VEVENT
DTSTART;TZID=America/Denver:20280208T183000
DTEND;TZID=America/Denver:20280208T203000
DTSTAMP:20260425T222408
CREATED:20200903T164324Z
LAST-MODIFIED:20200903T164324Z
UID:7342-1833647400-1833654600@findingfreedom.solutions
SUMMARY:Men's Open Group
DESCRIPTION:Gentlemen\, if you want some help on your journey into more healing\, wholeness\, or relationship with Christ or want to see what such a journey might look like\, this is a great place for you! This evening is an open forum for you to come as you are. There is no pressure to come with an issue or question. \nWe meet in person at The Landing (2419 E Cameron Bridge Road\, Bozeman) and also online.  Zoom link here. All men are welcome to join. \n 
URL:https://findingfreedom.solutions/event/mens-open-group-2/2028-02-08/
LOCATION:The Landing – Home of Finding Freedom\, 2419 E. Cameron Bridge Rd\, Bozeman\, MT\, 59718
ORGANIZER;CN="Peter Holmes":MAILTO:Peter.Holmes@findingfreedom.solutions
END:VEVENT
BEGIN:VEVENT
DTSTART;TZID=America/Denver:20280211T180000
DTEND;TZID=America/Denver:20280211T210000
DTSTAMP:20260425T222408
CREATED:20210115T183653Z
LAST-MODIFIED:20210115T183653Z
UID:7344-1833904800-1833915600@findingfreedom.solutions
SUMMARY:Community Evening - in person and on Zoom
DESCRIPTION:Join us for our Community Evening 6pm onwards – newcomers welcome. We begin in-person with a shared meal together – if you can\, bring a main dish\, side dish\, or dessert. Our online community joins from 7.15pm MDT with worship\, testimonies\, and sharing. Our evening will wrap-up between 8.30 – 9:00pm. \nLocation varies – 26th May 2023 we are at 161 Barnes Rd\, Belgrade \nIf you can’t be there in person\, use this Zoom link from 7:15pm MDT onwards. (Zoom link: https://us02web.zoom.us/j/755395152?pwd=TmM4a0xYTG9TOUI4K2dXT0M5RHlPZz09#success)
URL:https://findingfreedom.solutions/event/community-evening-virtual-2021-10-01-2021-10-15/2028-02-11/
LOCATION:Montana
ORGANIZER;CN="Susan Williams":MAILTO:Susan.Williams@findingfreedom.solutions
END:VEVENT
BEGIN:VEVENT
DTSTART;TZID=America/Denver:20280211T183000
DTEND;TZID=America/Denver:20280211T203000
DTSTAMP:20260425T222408
CREATED:20210115T183653Z
LAST-MODIFIED:20210115T183653Z
UID:7343-1833906600-1833913800@findingfreedom.solutions
SUMMARY:Community Evening (virtual)
DESCRIPTION:Although we can’t have our normal Community Evening we do still want to gather together as a community\, virtually.  We will be using Zoom as the meeting platform.  Our time together will include space for sharing our personal and corporate challenges and celebrations\, prayer\, and Peter has something from the Lord to share with us. \nYou can use this Zoom link to log on to the meeting.  If you are unfamiliar with the Zoom platform please try logging on at 6pm. If you have any problems\, get in touch with Jeni via text at 406-581-0545 and she will offer you some support.
URL:https://findingfreedom.solutions/event/community-evening-virtual/2028-02-11/
LOCATION:Montana
END:VEVENT
BEGIN:VEVENT
DTSTART;TZID=America/Denver:20280215T061500
DTEND;TZID=America/Denver:20280215T073000
DTSTAMP:20260425T222408
CREATED:20200903T185425Z
LAST-MODIFIED:20200903T185425Z
UID:7345-1834208100-1834212600@findingfreedom.solutions
SUMMARY:Men's Prayer Meeting
DESCRIPTION:Join us every Tuesday morning at 6:15am for a weekly time of sharing and prayer. Come in person to The Landing (2149 East Cameron Bridge Road in Bozeman) or join online. Zoom link here. All men are welcome! \n 
URL:https://findingfreedom.solutions/event/mens-prayer-meeting-3/2028-02-15/
LOCATION:Finding Freedom\, 2419 E. Cameron Bridge Road\, Bozeman\, MT\, 59718\, United States
ORGANIZER;CN="Peter Holmes":MAILTO:Peter.Holmes@findingfreedom.solutions
END:VEVENT
BEGIN:VEVENT
DTSTART;TZID=America/Denver:20280215T183000
DTEND;TZID=America/Denver:20280215T203000
DTSTAMP:20260425T222408
CREATED:20200903T164324Z
LAST-MODIFIED:20200903T164324Z
UID:7346-1834252200-1834259400@findingfreedom.solutions
SUMMARY:Men's Open Group
DESCRIPTION:Gentlemen\, if you want some help on your journey into more healing\, wholeness\, or relationship with Christ or want to see what such a journey might look like\, this is a great place for you! This evening is an open forum for you to come as you are. There is no pressure to come with an issue or question. \nWe meet in person at The Landing (2419 E Cameron Bridge Road\, Bozeman) and also online.  Zoom link here. All men are welcome to join. \n 
URL:https://findingfreedom.solutions/event/mens-open-group-2/2028-02-15/
LOCATION:The Landing – Home of Finding Freedom\, 2419 E. Cameron Bridge Rd\, Bozeman\, MT\, 59718
ORGANIZER;CN="Peter Holmes":MAILTO:Peter.Holmes@findingfreedom.solutions
END:VEVENT
BEGIN:VEVENT
DTSTART;TZID=America/Denver:20280222T061500
DTEND;TZID=America/Denver:20280222T073000
DTSTAMP:20260425T222408
CREATED:20200903T185425Z
LAST-MODIFIED:20200903T185425Z
UID:7347-1834812900-1834817400@findingfreedom.solutions
SUMMARY:Men's Prayer Meeting
DESCRIPTION:Join us every Tuesday morning at 6:15am for a weekly time of sharing and prayer. Come in person to The Landing (2149 East Cameron Bridge Road in Bozeman) or join online. Zoom link here. All men are welcome! \n 
URL:https://findingfreedom.solutions/event/mens-prayer-meeting-3/2028-02-22/
LOCATION:Finding Freedom\, 2419 E. Cameron Bridge Road\, Bozeman\, MT\, 59718\, United States
ORGANIZER;CN="Peter Holmes":MAILTO:Peter.Holmes@findingfreedom.solutions
END:VEVENT
BEGIN:VEVENT
DTSTART;TZID=America/Denver:20280222T183000
DTEND;TZID=America/Denver:20280222T203000
DTSTAMP:20260425T222408
CREATED:20200903T164324Z
LAST-MODIFIED:20200903T164324Z
UID:7348-1834857000-1834864200@findingfreedom.solutions
SUMMARY:Men's Open Group
DESCRIPTION:Gentlemen\, if you want some help on your journey into more healing\, wholeness\, or relationship with Christ or want to see what such a journey might look like\, this is a great place for you! This evening is an open forum for you to come as you are. There is no pressure to come with an issue or question. \nWe meet in person at The Landing (2419 E Cameron Bridge Road\, Bozeman) and also online.  Zoom link here. All men are welcome to join. \n 
URL:https://findingfreedom.solutions/event/mens-open-group-2/2028-02-22/
LOCATION:The Landing – Home of Finding Freedom\, 2419 E. Cameron Bridge Rd\, Bozeman\, MT\, 59718
ORGANIZER;CN="Peter Holmes":MAILTO:Peter.Holmes@findingfreedom.solutions
END:VEVENT
BEGIN:VEVENT
DTSTART;TZID=America/Denver:20280225T180000
DTEND;TZID=America/Denver:20280225T210000
DTSTAMP:20260425T222408
CREATED:20210115T183653Z
LAST-MODIFIED:20210115T183653Z
UID:7350-1835114400-1835125200@findingfreedom.solutions
SUMMARY:Community Evening - in person and on Zoom
DESCRIPTION:Join us for our Community Evening 6pm onwards – newcomers welcome. We begin in-person with a shared meal together – if you can\, bring a main dish\, side dish\, or dessert. Our online community joins from 7.15pm MDT with worship\, testimonies\, and sharing. Our evening will wrap-up between 8.30 – 9:00pm. \nLocation varies – 26th May 2023 we are at 161 Barnes Rd\, Belgrade \nIf you can’t be there in person\, use this Zoom link from 7:15pm MDT onwards. (Zoom link: https://us02web.zoom.us/j/755395152?pwd=TmM4a0xYTG9TOUI4K2dXT0M5RHlPZz09#success)
URL:https://findingfreedom.solutions/event/community-evening-virtual-2021-10-01-2021-10-15/2028-02-25/
LOCATION:Montana
ORGANIZER;CN="Susan Williams":MAILTO:Susan.Williams@findingfreedom.solutions
END:VEVENT
BEGIN:VEVENT
DTSTART;TZID=America/Denver:20280225T183000
DTEND;TZID=America/Denver:20280225T203000
DTSTAMP:20260425T222408
CREATED:20210115T183653Z
LAST-MODIFIED:20210115T183653Z
UID:7349-1835116200-1835123400@findingfreedom.solutions
SUMMARY:Community Evening (virtual)
DESCRIPTION:Although we can’t have our normal Community Evening we do still want to gather together as a community\, virtually.  We will be using Zoom as the meeting platform.  Our time together will include space for sharing our personal and corporate challenges and celebrations\, prayer\, and Peter has something from the Lord to share with us. \nYou can use this Zoom link to log on to the meeting.  If you are unfamiliar with the Zoom platform please try logging on at 6pm. If you have any problems\, get in touch with Jeni via text at 406-581-0545 and she will offer you some support.
URL:https://findingfreedom.solutions/event/community-evening-virtual/2028-02-25/
LOCATION:Montana
END:VEVENT
BEGIN:VEVENT
DTSTART;TZID=America/Denver:20280229T061500
DTEND;TZID=America/Denver:20280229T073000
DTSTAMP:20260425T222408
CREATED:20200903T185425Z
LAST-MODIFIED:20200903T185425Z
UID:7351-1835417700-1835422200@findingfreedom.solutions
SUMMARY:Men's Prayer Meeting
DESCRIPTION:Join us every Tuesday morning at 6:15am for a weekly time of sharing and prayer. Come in person to The Landing (2149 East Cameron Bridge Road in Bozeman) or join online. Zoom link here. All men are welcome! \n 
URL:https://findingfreedom.solutions/event/mens-prayer-meeting-3/2028-02-29/
LOCATION:Finding Freedom\, 2419 E. Cameron Bridge Road\, Bozeman\, MT\, 59718\, United States
ORGANIZER;CN="Peter Holmes":MAILTO:Peter.Holmes@findingfreedom.solutions
END:VEVENT
BEGIN:VEVENT
DTSTART;TZID=America/Denver:20280229T183000
DTEND;TZID=America/Denver:20280229T203000
DTSTAMP:20260425T222408
CREATED:20200903T164324Z
LAST-MODIFIED:20200903T164324Z
UID:7352-1835461800-1835469000@findingfreedom.solutions
SUMMARY:Men's Open Group
DESCRIPTION:Gentlemen\, if you want some help on your journey into more healing\, wholeness\, or relationship with Christ or want to see what such a journey might look like\, this is a great place for you! This evening is an open forum for you to come as you are. There is no pressure to come with an issue or question. \nWe meet in person at The Landing (2419 E Cameron Bridge Road\, Bozeman) and also online.  Zoom link here. All men are welcome to join. \n 
URL:https://findingfreedom.solutions/event/mens-open-group-2/2028-02-29/
LOCATION:The Landing – Home of Finding Freedom\, 2419 E. Cameron Bridge Rd\, Bozeman\, MT\, 59718
ORGANIZER;CN="Peter Holmes":MAILTO:Peter.Holmes@findingfreedom.solutions
END:VEVENT
BEGIN:VEVENT
DTSTART;TZID=America/Denver:20280307T061500
DTEND;TZID=America/Denver:20280307T073000
DTSTAMP:20260425T222408
CREATED:20200903T185425Z
LAST-MODIFIED:20200903T185425Z
UID:7353-1836022500-1836027000@findingfreedom.solutions
SUMMARY:Men's Prayer Meeting
DESCRIPTION:Join us every Tuesday morning at 6:15am for a weekly time of sharing and prayer. Come in person to The Landing (2149 East Cameron Bridge Road in Bozeman) or join online. Zoom link here. All men are welcome! \n 
URL:https://findingfreedom.solutions/event/mens-prayer-meeting-3/2028-03-07/
LOCATION:Finding Freedom\, 2419 E. Cameron Bridge Road\, Bozeman\, MT\, 59718\, United States
ORGANIZER;CN="Peter Holmes":MAILTO:Peter.Holmes@findingfreedom.solutions
END:VEVENT
BEGIN:VEVENT
DTSTART;TZID=America/Denver:20280307T183000
DTEND;TZID=America/Denver:20280307T203000
DTSTAMP:20260425T222409
CREATED:20200903T164324Z
LAST-MODIFIED:20200903T164324Z
UID:7354-1836066600-1836073800@findingfreedom.solutions
SUMMARY:Men's Open Group
DESCRIPTION:Gentlemen\, if you want some help on your journey into more healing\, wholeness\, or relationship with Christ or want to see what such a journey might look like\, this is a great place for you! This evening is an open forum for you to come as you are. There is no pressure to come with an issue or question. \nWe meet in person at The Landing (2419 E Cameron Bridge Road\, Bozeman) and also online.  Zoom link here. All men are welcome to join. \n 
URL:https://findingfreedom.solutions/event/mens-open-group-2/2028-03-07/
LOCATION:The Landing – Home of Finding Freedom\, 2419 E. Cameron Bridge Rd\, Bozeman\, MT\, 59718
ORGANIZER;CN="Peter Holmes":MAILTO:Peter.Holmes@findingfreedom.solutions
END:VEVENT
BEGIN:VEVENT
DTSTART;TZID=America/Denver:20280310T180000
DTEND;TZID=America/Denver:20280310T210000
DTSTAMP:20260425T222409
CREATED:20210115T183653Z
LAST-MODIFIED:20210115T183653Z
UID:7356-1836324000-1836334800@findingfreedom.solutions
SUMMARY:Community Evening - in person and on Zoom
DESCRIPTION:Join us for our Community Evening 6pm onwards – newcomers welcome. We begin in-person with a shared meal together – if you can\, bring a main dish\, side dish\, or dessert. Our online community joins from 7.15pm MDT with worship\, testimonies\, and sharing. Our evening will wrap-up between 8.30 – 9:00pm. \nLocation varies – 26th May 2023 we are at 161 Barnes Rd\, Belgrade \nIf you can’t be there in person\, use this Zoom link from 7:15pm MDT onwards. (Zoom link: https://us02web.zoom.us/j/755395152?pwd=TmM4a0xYTG9TOUI4K2dXT0M5RHlPZz09#success)
URL:https://findingfreedom.solutions/event/community-evening-virtual-2021-10-01-2021-10-15/2028-03-10/
LOCATION:Montana
ORGANIZER;CN="Susan Williams":MAILTO:Susan.Williams@findingfreedom.solutions
END:VEVENT
BEGIN:VEVENT
DTSTART;TZID=America/Denver:20280310T183000
DTEND;TZID=America/Denver:20280310T203000
DTSTAMP:20260425T222409
CREATED:20210115T183653Z
LAST-MODIFIED:20210115T183653Z
UID:7355-1836325800-1836333000@findingfreedom.solutions
SUMMARY:Community Evening (virtual)
DESCRIPTION:Although we can’t have our normal Community Evening we do still want to gather together as a community\, virtually.  We will be using Zoom as the meeting platform.  Our time together will include space for sharing our personal and corporate challenges and celebrations\, prayer\, and Peter has something from the Lord to share with us. \nYou can use this Zoom link to log on to the meeting.  If you are unfamiliar with the Zoom platform please try logging on at 6pm. If you have any problems\, get in touch with Jeni via text at 406-581-0545 and she will offer you some support.
URL:https://findingfreedom.solutions/event/community-evening-virtual/2028-03-10/
LOCATION:Montana
END:VEVENT
END:VCALENDAR