BEGIN:VCALENDAR
VERSION:2.0
PRODID:-//Finding Freedom - ECPv6.15.20//NONSGML v1.0//EN
CALSCALE:GREGORIAN
METHOD:PUBLISH
X-WR-CALNAME:Finding Freedom
X-ORIGINAL-URL:https://findingfreedom.solutions
X-WR-CALDESC:Events for Finding Freedom
REFRESH-INTERVAL;VALUE=DURATION:PT1H
X-Robots-Tag:noindex
X-PUBLISHED-TTL:PT1H
BEGIN:VTIMEZONE
TZID:America/Denver
BEGIN:DAYLIGHT
TZOFFSETFROM:-0700
TZOFFSETTO:-0600
TZNAME:MDT
DTSTART:20260308T090000
END:DAYLIGHT
BEGIN:STANDARD
TZOFFSETFROM:-0600
TZOFFSETTO:-0700
TZNAME:MST
DTSTART:20261101T080000
END:STANDARD
BEGIN:DAYLIGHT
TZOFFSETFROM:-0700
TZOFFSETTO:-0600
TZNAME:MDT
DTSTART:20270314T090000
END:DAYLIGHT
BEGIN:STANDARD
TZOFFSETFROM:-0600
TZOFFSETTO:-0700
TZNAME:MST
DTSTART:20271107T080000
END:STANDARD
BEGIN:DAYLIGHT
TZOFFSETFROM:-0700
TZOFFSETTO:-0600
TZNAME:MDT
DTSTART:20280312T090000
END:DAYLIGHT
BEGIN:STANDARD
TZOFFSETFROM:-0600
TZOFFSETTO:-0700
TZNAME:MST
DTSTART:20281105T080000
END:STANDARD
END:VTIMEZONE
BEGIN:VEVENT
DTSTART;TZID=America/Denver:20270924T180000
DTEND;TZID=America/Denver:20270924T210000
DTSTAMP:20260425T223049
CREATED:20210115T183653Z
LAST-MODIFIED:20210115T183653Z
UID:7252-1821808800-1821819600@findingfreedom.solutions
SUMMARY:Community Evening - in person and on Zoom
DESCRIPTION:Join us for our Community Evening 6pm onwards – newcomers welcome. We begin in-person with a shared meal together – if you can\, bring a main dish\, side dish\, or dessert. Our online community joins from 7.15pm MDT with worship\, testimonies\, and sharing. Our evening will wrap-up between 8.30 – 9:00pm. \nLocation varies – 26th May 2023 we are at 161 Barnes Rd\, Belgrade \nIf you can’t be there in person\, use this Zoom link from 7:15pm MDT onwards. (Zoom link: https://us02web.zoom.us/j/755395152?pwd=TmM4a0xYTG9TOUI4K2dXT0M5RHlPZz09#success)
URL:https://findingfreedom.solutions/event/community-evening-virtual-2021-10-01-2021-10-15/2027-09-24/
ORGANIZER;CN="Susan Williams":MAILTO:Susan.Williams@findingfreedom.solutions
END:VEVENT
BEGIN:VEVENT
DTSTART;TZID=America/Denver:20270924T183000
DTEND;TZID=America/Denver:20270924T203000
DTSTAMP:20260425T223049
CREATED:20210115T183653Z
LAST-MODIFIED:20210115T183653Z
UID:7251-1821810600-1821817800@findingfreedom.solutions
SUMMARY:Community Evening (virtual)
DESCRIPTION:Although we can’t have our normal Community Evening we do still want to gather together as a community\, virtually.  We will be using Zoom as the meeting platform.  Our time together will include space for sharing our personal and corporate challenges and celebrations\, prayer\, and Peter has something from the Lord to share with us. \nYou can use this Zoom link to log on to the meeting.  If you are unfamiliar with the Zoom platform please try logging on at 6pm. If you have any problems\, get in touch with Jeni via text at 406-581-0545 and she will offer you some support.
URL:https://findingfreedom.solutions/event/community-evening-virtual/2027-09-24/
END:VEVENT
BEGIN:VEVENT
DTSTART;TZID=America/Denver:20270928T061500
DTEND;TZID=America/Denver:20270928T073000
DTSTAMP:20260425T223049
CREATED:20200903T185425Z
LAST-MODIFIED:20200903T185425Z
UID:7253-1822112100-1822116600@findingfreedom.solutions
SUMMARY:Men's Prayer Meeting
DESCRIPTION:Join us every Tuesday morning at 6:15am for a weekly time of sharing and prayer. Come in person to The Landing (2149 East Cameron Bridge Road in Bozeman) or join online. Zoom link here. All men are welcome! \n 
URL:https://findingfreedom.solutions/event/mens-prayer-meeting-3/2027-09-28/
LOCATION:Finding Freedom\, 2419 E. Cameron Bridge Road\, Bozeman\, MT\, 59718\, United States
ORGANIZER;CN="Peter Holmes":MAILTO:Peter.Holmes@findingfreedom.solutions
END:VEVENT
BEGIN:VEVENT
DTSTART;TZID=America/Denver:20270928T183000
DTEND;TZID=America/Denver:20270928T203000
DTSTAMP:20260425T223049
CREATED:20200903T164324Z
LAST-MODIFIED:20200903T164324Z
UID:7254-1822156200-1822163400@findingfreedom.solutions
SUMMARY:Men's Open Group
DESCRIPTION:Gentlemen\, if you want some help on your journey into more healing\, wholeness\, or relationship with Christ or want to see what such a journey might look like\, this is a great place for you! This evening is an open forum for you to come as you are. There is no pressure to come with an issue or question. \nWe meet in person at The Landing (2419 E Cameron Bridge Road\, Bozeman) and also online.  Zoom link here. All men are welcome to join. \n 
URL:https://findingfreedom.solutions/event/mens-open-group-2/2027-09-28/
LOCATION:The Landing – Home of Finding Freedom\, 2419 E. Cameron Bridge Rd\, Bozeman\, MT\, 59718
ORGANIZER;CN="Peter Holmes":MAILTO:Peter.Holmes@findingfreedom.solutions
END:VEVENT
BEGIN:VEVENT
DTSTART;TZID=America/Denver:20271005T061500
DTEND;TZID=America/Denver:20271005T073000
DTSTAMP:20260425T223049
CREATED:20200903T185425Z
LAST-MODIFIED:20200903T185425Z
UID:7255-1822716900-1822721400@findingfreedom.solutions
SUMMARY:Men's Prayer Meeting
DESCRIPTION:Join us every Tuesday morning at 6:15am for a weekly time of sharing and prayer. Come in person to The Landing (2149 East Cameron Bridge Road in Bozeman) or join online. Zoom link here. All men are welcome! \n 
URL:https://findingfreedom.solutions/event/mens-prayer-meeting-3/2027-10-05/
LOCATION:Finding Freedom\, 2419 E. Cameron Bridge Road\, Bozeman\, MT\, 59718\, United States
ORGANIZER;CN="Peter Holmes":MAILTO:Peter.Holmes@findingfreedom.solutions
END:VEVENT
BEGIN:VEVENT
DTSTART;TZID=America/Denver:20271005T183000
DTEND;TZID=America/Denver:20271005T203000
DTSTAMP:20260425T223049
CREATED:20200903T164324Z
LAST-MODIFIED:20200903T164324Z
UID:7256-1822761000-1822768200@findingfreedom.solutions
SUMMARY:Men's Open Group
DESCRIPTION:Gentlemen\, if you want some help on your journey into more healing\, wholeness\, or relationship with Christ or want to see what such a journey might look like\, this is a great place for you! This evening is an open forum for you to come as you are. There is no pressure to come with an issue or question. \nWe meet in person at The Landing (2419 E Cameron Bridge Road\, Bozeman) and also online.  Zoom link here. All men are welcome to join. \n 
URL:https://findingfreedom.solutions/event/mens-open-group-2/2027-10-05/
LOCATION:The Landing – Home of Finding Freedom\, 2419 E. Cameron Bridge Rd\, Bozeman\, MT\, 59718
ORGANIZER;CN="Peter Holmes":MAILTO:Peter.Holmes@findingfreedom.solutions
END:VEVENT
BEGIN:VEVENT
DTSTART;TZID=America/Denver:20271008T180000
DTEND;TZID=America/Denver:20271008T210000
DTSTAMP:20260425T223049
CREATED:20210115T183653Z
LAST-MODIFIED:20210115T183653Z
UID:7258-1823018400-1823029200@findingfreedom.solutions
SUMMARY:Community Evening - in person and on Zoom
DESCRIPTION:Join us for our Community Evening 6pm onwards – newcomers welcome. We begin in-person with a shared meal together – if you can\, bring a main dish\, side dish\, or dessert. Our online community joins from 7.15pm MDT with worship\, testimonies\, and sharing. Our evening will wrap-up between 8.30 – 9:00pm. \nLocation varies – 26th May 2023 we are at 161 Barnes Rd\, Belgrade \nIf you can’t be there in person\, use this Zoom link from 7:15pm MDT onwards. (Zoom link: https://us02web.zoom.us/j/755395152?pwd=TmM4a0xYTG9TOUI4K2dXT0M5RHlPZz09#success)
URL:https://findingfreedom.solutions/event/community-evening-virtual-2021-10-01-2021-10-15/2027-10-08/
ORGANIZER;CN="Susan Williams":MAILTO:Susan.Williams@findingfreedom.solutions
END:VEVENT
BEGIN:VEVENT
DTSTART;TZID=America/Denver:20271008T183000
DTEND;TZID=America/Denver:20271008T203000
DTSTAMP:20260425T223049
CREATED:20210115T183653Z
LAST-MODIFIED:20210115T183653Z
UID:7257-1823020200-1823027400@findingfreedom.solutions
SUMMARY:Community Evening (virtual)
DESCRIPTION:Although we can’t have our normal Community Evening we do still want to gather together as a community\, virtually.  We will be using Zoom as the meeting platform.  Our time together will include space for sharing our personal and corporate challenges and celebrations\, prayer\, and Peter has something from the Lord to share with us. \nYou can use this Zoom link to log on to the meeting.  If you are unfamiliar with the Zoom platform please try logging on at 6pm. If you have any problems\, get in touch with Jeni via text at 406-581-0545 and she will offer you some support.
URL:https://findingfreedom.solutions/event/community-evening-virtual/2027-10-08/
END:VEVENT
BEGIN:VEVENT
DTSTART;TZID=America/Denver:20271012T061500
DTEND;TZID=America/Denver:20271012T073000
DTSTAMP:20260425T223049
CREATED:20200903T185425Z
LAST-MODIFIED:20200903T185425Z
UID:7259-1823321700-1823326200@findingfreedom.solutions
SUMMARY:Men's Prayer Meeting
DESCRIPTION:Join us every Tuesday morning at 6:15am for a weekly time of sharing and prayer. Come in person to The Landing (2149 East Cameron Bridge Road in Bozeman) or join online. Zoom link here. All men are welcome! \n 
URL:https://findingfreedom.solutions/event/mens-prayer-meeting-3/2027-10-12/
LOCATION:Finding Freedom\, 2419 E. Cameron Bridge Road\, Bozeman\, MT\, 59718\, United States
ORGANIZER;CN="Peter Holmes":MAILTO:Peter.Holmes@findingfreedom.solutions
END:VEVENT
BEGIN:VEVENT
DTSTART;TZID=America/Denver:20271012T183000
DTEND;TZID=America/Denver:20271012T203000
DTSTAMP:20260425T223049
CREATED:20200903T164324Z
LAST-MODIFIED:20200903T164324Z
UID:7260-1823365800-1823373000@findingfreedom.solutions
SUMMARY:Men's Open Group
DESCRIPTION:Gentlemen\, if you want some help on your journey into more healing\, wholeness\, or relationship with Christ or want to see what such a journey might look like\, this is a great place for you! This evening is an open forum for you to come as you are. There is no pressure to come with an issue or question. \nWe meet in person at The Landing (2419 E Cameron Bridge Road\, Bozeman) and also online.  Zoom link here. All men are welcome to join. \n 
URL:https://findingfreedom.solutions/event/mens-open-group-2/2027-10-12/
LOCATION:The Landing – Home of Finding Freedom\, 2419 E. Cameron Bridge Rd\, Bozeman\, MT\, 59718
ORGANIZER;CN="Peter Holmes":MAILTO:Peter.Holmes@findingfreedom.solutions
END:VEVENT
BEGIN:VEVENT
DTSTART;TZID=America/Denver:20271019T061500
DTEND;TZID=America/Denver:20271019T073000
DTSTAMP:20260425T223049
CREATED:20200903T185425Z
LAST-MODIFIED:20200903T185425Z
UID:7261-1823926500-1823931000@findingfreedom.solutions
SUMMARY:Men's Prayer Meeting
DESCRIPTION:Join us every Tuesday morning at 6:15am for a weekly time of sharing and prayer. Come in person to The Landing (2149 East Cameron Bridge Road in Bozeman) or join online. Zoom link here. All men are welcome! \n 
URL:https://findingfreedom.solutions/event/mens-prayer-meeting-3/2027-10-19/
LOCATION:Finding Freedom\, 2419 E. Cameron Bridge Road\, Bozeman\, MT\, 59718\, United States
ORGANIZER;CN="Peter Holmes":MAILTO:Peter.Holmes@findingfreedom.solutions
END:VEVENT
BEGIN:VEVENT
DTSTART;TZID=America/Denver:20271019T183000
DTEND;TZID=America/Denver:20271019T203000
DTSTAMP:20260425T223049
CREATED:20200903T164324Z
LAST-MODIFIED:20200903T164324Z
UID:7262-1823970600-1823977800@findingfreedom.solutions
SUMMARY:Men's Open Group
DESCRIPTION:Gentlemen\, if you want some help on your journey into more healing\, wholeness\, or relationship with Christ or want to see what such a journey might look like\, this is a great place for you! This evening is an open forum for you to come as you are. There is no pressure to come with an issue or question. \nWe meet in person at The Landing (2419 E Cameron Bridge Road\, Bozeman) and also online.  Zoom link here. All men are welcome to join. \n 
URL:https://findingfreedom.solutions/event/mens-open-group-2/2027-10-19/
LOCATION:The Landing – Home of Finding Freedom\, 2419 E. Cameron Bridge Rd\, Bozeman\, MT\, 59718
ORGANIZER;CN="Peter Holmes":MAILTO:Peter.Holmes@findingfreedom.solutions
END:VEVENT
BEGIN:VEVENT
DTSTART;TZID=America/Denver:20271022T180000
DTEND;TZID=America/Denver:20271022T210000
DTSTAMP:20260425T223049
CREATED:20210115T183653Z
LAST-MODIFIED:20210115T183653Z
UID:7264-1824228000-1824238800@findingfreedom.solutions
SUMMARY:Community Evening - in person and on Zoom
DESCRIPTION:Join us for our Community Evening 6pm onwards – newcomers welcome. We begin in-person with a shared meal together – if you can\, bring a main dish\, side dish\, or dessert. Our online community joins from 7.15pm MDT with worship\, testimonies\, and sharing. Our evening will wrap-up between 8.30 – 9:00pm. \nLocation varies – 26th May 2023 we are at 161 Barnes Rd\, Belgrade \nIf you can’t be there in person\, use this Zoom link from 7:15pm MDT onwards. (Zoom link: https://us02web.zoom.us/j/755395152?pwd=TmM4a0xYTG9TOUI4K2dXT0M5RHlPZz09#success)
URL:https://findingfreedom.solutions/event/community-evening-virtual-2021-10-01-2021-10-15/2027-10-22/
ORGANIZER;CN="Susan Williams":MAILTO:Susan.Williams@findingfreedom.solutions
END:VEVENT
BEGIN:VEVENT
DTSTART;TZID=America/Denver:20271022T183000
DTEND;TZID=America/Denver:20271022T203000
DTSTAMP:20260425T223049
CREATED:20210115T183653Z
LAST-MODIFIED:20210115T183653Z
UID:7263-1824229800-1824237000@findingfreedom.solutions
SUMMARY:Community Evening (virtual)
DESCRIPTION:Although we can’t have our normal Community Evening we do still want to gather together as a community\, virtually.  We will be using Zoom as the meeting platform.  Our time together will include space for sharing our personal and corporate challenges and celebrations\, prayer\, and Peter has something from the Lord to share with us. \nYou can use this Zoom link to log on to the meeting.  If you are unfamiliar with the Zoom platform please try logging on at 6pm. If you have any problems\, get in touch with Jeni via text at 406-581-0545 and she will offer you some support.
URL:https://findingfreedom.solutions/event/community-evening-virtual/2027-10-22/
END:VEVENT
BEGIN:VEVENT
DTSTART;TZID=America/Denver:20271026T061500
DTEND;TZID=America/Denver:20271026T073000
DTSTAMP:20260425T223049
CREATED:20200903T185425Z
LAST-MODIFIED:20200903T185425Z
UID:7265-1824531300-1824535800@findingfreedom.solutions
SUMMARY:Men's Prayer Meeting
DESCRIPTION:Join us every Tuesday morning at 6:15am for a weekly time of sharing and prayer. Come in person to The Landing (2149 East Cameron Bridge Road in Bozeman) or join online. Zoom link here. All men are welcome! \n 
URL:https://findingfreedom.solutions/event/mens-prayer-meeting-3/2027-10-26/
LOCATION:Finding Freedom\, 2419 E. Cameron Bridge Road\, Bozeman\, MT\, 59718\, United States
ORGANIZER;CN="Peter Holmes":MAILTO:Peter.Holmes@findingfreedom.solutions
END:VEVENT
BEGIN:VEVENT
DTSTART;TZID=America/Denver:20271026T183000
DTEND;TZID=America/Denver:20271026T203000
DTSTAMP:20260425T223049
CREATED:20200903T164324Z
LAST-MODIFIED:20200903T164324Z
UID:7266-1824575400-1824582600@findingfreedom.solutions
SUMMARY:Men's Open Group
DESCRIPTION:Gentlemen\, if you want some help on your journey into more healing\, wholeness\, or relationship with Christ or want to see what such a journey might look like\, this is a great place for you! This evening is an open forum for you to come as you are. There is no pressure to come with an issue or question. \nWe meet in person at The Landing (2419 E Cameron Bridge Road\, Bozeman) and also online.  Zoom link here. All men are welcome to join. \n 
URL:https://findingfreedom.solutions/event/mens-open-group-2/2027-10-26/
LOCATION:The Landing – Home of Finding Freedom\, 2419 E. Cameron Bridge Rd\, Bozeman\, MT\, 59718
ORGANIZER;CN="Peter Holmes":MAILTO:Peter.Holmes@findingfreedom.solutions
END:VEVENT
BEGIN:VEVENT
DTSTART;TZID=America/Denver:20271102T061500
DTEND;TZID=America/Denver:20271102T073000
DTSTAMP:20260425T223049
CREATED:20200903T185425Z
LAST-MODIFIED:20200903T185425Z
UID:7267-1825136100-1825140600@findingfreedom.solutions
SUMMARY:Men's Prayer Meeting
DESCRIPTION:Join us every Tuesday morning at 6:15am for a weekly time of sharing and prayer. Come in person to The Landing (2149 East Cameron Bridge Road in Bozeman) or join online. Zoom link here. All men are welcome! \n 
URL:https://findingfreedom.solutions/event/mens-prayer-meeting-3/2027-11-02/
LOCATION:Finding Freedom\, 2419 E. Cameron Bridge Road\, Bozeman\, MT\, 59718\, United States
ORGANIZER;CN="Peter Holmes":MAILTO:Peter.Holmes@findingfreedom.solutions
END:VEVENT
BEGIN:VEVENT
DTSTART;TZID=America/Denver:20271102T183000
DTEND;TZID=America/Denver:20271102T203000
DTSTAMP:20260425T223049
CREATED:20200903T164324Z
LAST-MODIFIED:20200903T164324Z
UID:7268-1825180200-1825187400@findingfreedom.solutions
SUMMARY:Men's Open Group
DESCRIPTION:Gentlemen\, if you want some help on your journey into more healing\, wholeness\, or relationship with Christ or want to see what such a journey might look like\, this is a great place for you! This evening is an open forum for you to come as you are. There is no pressure to come with an issue or question. \nWe meet in person at The Landing (2419 E Cameron Bridge Road\, Bozeman) and also online.  Zoom link here. All men are welcome to join. \n 
URL:https://findingfreedom.solutions/event/mens-open-group-2/2027-11-02/
LOCATION:The Landing – Home of Finding Freedom\, 2419 E. Cameron Bridge Rd\, Bozeman\, MT\, 59718
ORGANIZER;CN="Peter Holmes":MAILTO:Peter.Holmes@findingfreedom.solutions
END:VEVENT
BEGIN:VEVENT
DTSTART;TZID=America/Denver:20271105T180000
DTEND;TZID=America/Denver:20271105T210000
DTSTAMP:20260425T223049
CREATED:20210115T183653Z
LAST-MODIFIED:20210115T183653Z
UID:7270-1825437600-1825448400@findingfreedom.solutions
SUMMARY:Community Evening - in person and on Zoom
DESCRIPTION:Join us for our Community Evening 6pm onwards – newcomers welcome. We begin in-person with a shared meal together – if you can\, bring a main dish\, side dish\, or dessert. Our online community joins from 7.15pm MDT with worship\, testimonies\, and sharing. Our evening will wrap-up between 8.30 – 9:00pm. \nLocation varies – 26th May 2023 we are at 161 Barnes Rd\, Belgrade \nIf you can’t be there in person\, use this Zoom link from 7:15pm MDT onwards. (Zoom link: https://us02web.zoom.us/j/755395152?pwd=TmM4a0xYTG9TOUI4K2dXT0M5RHlPZz09#success)
URL:https://findingfreedom.solutions/event/community-evening-virtual-2021-10-01-2021-10-15/2027-11-05/
ORGANIZER;CN="Susan Williams":MAILTO:Susan.Williams@findingfreedom.solutions
END:VEVENT
BEGIN:VEVENT
DTSTART;TZID=America/Denver:20271105T183000
DTEND;TZID=America/Denver:20271105T203000
DTSTAMP:20260425T223049
CREATED:20210115T183653Z
LAST-MODIFIED:20210115T183653Z
UID:7269-1825439400-1825446600@findingfreedom.solutions
SUMMARY:Community Evening (virtual)
DESCRIPTION:Although we can’t have our normal Community Evening we do still want to gather together as a community\, virtually.  We will be using Zoom as the meeting platform.  Our time together will include space for sharing our personal and corporate challenges and celebrations\, prayer\, and Peter has something from the Lord to share with us. \nYou can use this Zoom link to log on to the meeting.  If you are unfamiliar with the Zoom platform please try logging on at 6pm. If you have any problems\, get in touch with Jeni via text at 406-581-0545 and she will offer you some support.
URL:https://findingfreedom.solutions/event/community-evening-virtual/2027-11-05/
END:VEVENT
BEGIN:VEVENT
DTSTART;TZID=America/Denver:20271109T061500
DTEND;TZID=America/Denver:20271109T073000
DTSTAMP:20260425T223049
CREATED:20200903T185425Z
LAST-MODIFIED:20200903T185425Z
UID:7271-1825740900-1825745400@findingfreedom.solutions
SUMMARY:Men's Prayer Meeting
DESCRIPTION:Join us every Tuesday morning at 6:15am for a weekly time of sharing and prayer. Come in person to The Landing (2149 East Cameron Bridge Road in Bozeman) or join online. Zoom link here. All men are welcome! \n 
URL:https://findingfreedom.solutions/event/mens-prayer-meeting-3/2027-11-09/
LOCATION:Finding Freedom\, 2419 E. Cameron Bridge Road\, Bozeman\, MT\, 59718\, United States
ORGANIZER;CN="Peter Holmes":MAILTO:Peter.Holmes@findingfreedom.solutions
END:VEVENT
BEGIN:VEVENT
DTSTART;TZID=America/Denver:20271109T183000
DTEND;TZID=America/Denver:20271109T203000
DTSTAMP:20260425T223049
CREATED:20200903T164324Z
LAST-MODIFIED:20200903T164324Z
UID:7272-1825785000-1825792200@findingfreedom.solutions
SUMMARY:Men's Open Group
DESCRIPTION:Gentlemen\, if you want some help on your journey into more healing\, wholeness\, or relationship with Christ or want to see what such a journey might look like\, this is a great place for you! This evening is an open forum for you to come as you are. There is no pressure to come with an issue or question. \nWe meet in person at The Landing (2419 E Cameron Bridge Road\, Bozeman) and also online.  Zoom link here. All men are welcome to join. \n 
URL:https://findingfreedom.solutions/event/mens-open-group-2/2027-11-09/
LOCATION:The Landing – Home of Finding Freedom\, 2419 E. Cameron Bridge Rd\, Bozeman\, MT\, 59718
ORGANIZER;CN="Peter Holmes":MAILTO:Peter.Holmes@findingfreedom.solutions
END:VEVENT
BEGIN:VEVENT
DTSTART;TZID=America/Denver:20271116T061500
DTEND;TZID=America/Denver:20271116T073000
DTSTAMP:20260425T223049
CREATED:20200903T185425Z
LAST-MODIFIED:20200903T185425Z
UID:7273-1826345700-1826350200@findingfreedom.solutions
SUMMARY:Men's Prayer Meeting
DESCRIPTION:Join us every Tuesday morning at 6:15am for a weekly time of sharing and prayer. Come in person to The Landing (2149 East Cameron Bridge Road in Bozeman) or join online. Zoom link here. All men are welcome! \n 
URL:https://findingfreedom.solutions/event/mens-prayer-meeting-3/2027-11-16/
LOCATION:Finding Freedom\, 2419 E. Cameron Bridge Road\, Bozeman\, MT\, 59718\, United States
ORGANIZER;CN="Peter Holmes":MAILTO:Peter.Holmes@findingfreedom.solutions
END:VEVENT
BEGIN:VEVENT
DTSTART;TZID=America/Denver:20271116T183000
DTEND;TZID=America/Denver:20271116T203000
DTSTAMP:20260425T223049
CREATED:20200903T164324Z
LAST-MODIFIED:20200903T164324Z
UID:7274-1826389800-1826397000@findingfreedom.solutions
SUMMARY:Men's Open Group
DESCRIPTION:Gentlemen\, if you want some help on your journey into more healing\, wholeness\, or relationship with Christ or want to see what such a journey might look like\, this is a great place for you! This evening is an open forum for you to come as you are. There is no pressure to come with an issue or question. \nWe meet in person at The Landing (2419 E Cameron Bridge Road\, Bozeman) and also online.  Zoom link here. All men are welcome to join. \n 
URL:https://findingfreedom.solutions/event/mens-open-group-2/2027-11-16/
LOCATION:The Landing – Home of Finding Freedom\, 2419 E. Cameron Bridge Rd\, Bozeman\, MT\, 59718
ORGANIZER;CN="Peter Holmes":MAILTO:Peter.Holmes@findingfreedom.solutions
END:VEVENT
BEGIN:VEVENT
DTSTART;TZID=America/Denver:20271119T180000
DTEND;TZID=America/Denver:20271119T210000
DTSTAMP:20260425T223049
CREATED:20210115T183653Z
LAST-MODIFIED:20210115T183653Z
UID:7276-1826647200-1826658000@findingfreedom.solutions
SUMMARY:Community Evening - in person and on Zoom
DESCRIPTION:Join us for our Community Evening 6pm onwards – newcomers welcome. We begin in-person with a shared meal together – if you can\, bring a main dish\, side dish\, or dessert. Our online community joins from 7.15pm MDT with worship\, testimonies\, and sharing. Our evening will wrap-up between 8.30 – 9:00pm. \nLocation varies – 26th May 2023 we are at 161 Barnes Rd\, Belgrade \nIf you can’t be there in person\, use this Zoom link from 7:15pm MDT onwards. (Zoom link: https://us02web.zoom.us/j/755395152?pwd=TmM4a0xYTG9TOUI4K2dXT0M5RHlPZz09#success)
URL:https://findingfreedom.solutions/event/community-evening-virtual-2021-10-01-2021-10-15/2027-11-19/
ORGANIZER;CN="Susan Williams":MAILTO:Susan.Williams@findingfreedom.solutions
END:VEVENT
BEGIN:VEVENT
DTSTART;TZID=America/Denver:20271119T183000
DTEND;TZID=America/Denver:20271119T203000
DTSTAMP:20260425T223049
CREATED:20210115T183653Z
LAST-MODIFIED:20210115T183653Z
UID:7275-1826649000-1826656200@findingfreedom.solutions
SUMMARY:Community Evening (virtual)
DESCRIPTION:Although we can’t have our normal Community Evening we do still want to gather together as a community\, virtually.  We will be using Zoom as the meeting platform.  Our time together will include space for sharing our personal and corporate challenges and celebrations\, prayer\, and Peter has something from the Lord to share with us. \nYou can use this Zoom link to log on to the meeting.  If you are unfamiliar with the Zoom platform please try logging on at 6pm. If you have any problems\, get in touch with Jeni via text at 406-581-0545 and she will offer you some support.
URL:https://findingfreedom.solutions/event/community-evening-virtual/2027-11-19/
END:VEVENT
BEGIN:VEVENT
DTSTART;TZID=America/Denver:20271123T061500
DTEND;TZID=America/Denver:20271123T073000
DTSTAMP:20260425T223049
CREATED:20200903T185425Z
LAST-MODIFIED:20200903T185425Z
UID:7277-1826950500-1826955000@findingfreedom.solutions
SUMMARY:Men's Prayer Meeting
DESCRIPTION:Join us every Tuesday morning at 6:15am for a weekly time of sharing and prayer. Come in person to The Landing (2149 East Cameron Bridge Road in Bozeman) or join online. Zoom link here. All men are welcome! \n 
URL:https://findingfreedom.solutions/event/mens-prayer-meeting-3/2027-11-23/
LOCATION:Finding Freedom\, 2419 E. Cameron Bridge Road\, Bozeman\, MT\, 59718\, United States
ORGANIZER;CN="Peter Holmes":MAILTO:Peter.Holmes@findingfreedom.solutions
END:VEVENT
BEGIN:VEVENT
DTSTART;TZID=America/Denver:20271123T183000
DTEND;TZID=America/Denver:20271123T203000
DTSTAMP:20260425T223049
CREATED:20200903T164324Z
LAST-MODIFIED:20200903T164324Z
UID:7278-1826994600-1827001800@findingfreedom.solutions
SUMMARY:Men's Open Group
DESCRIPTION:Gentlemen\, if you want some help on your journey into more healing\, wholeness\, or relationship with Christ or want to see what such a journey might look like\, this is a great place for you! This evening is an open forum for you to come as you are. There is no pressure to come with an issue or question. \nWe meet in person at The Landing (2419 E Cameron Bridge Road\, Bozeman) and also online.  Zoom link here. All men are welcome to join. \n 
URL:https://findingfreedom.solutions/event/mens-open-group-2/2027-11-23/
LOCATION:The Landing – Home of Finding Freedom\, 2419 E. Cameron Bridge Rd\, Bozeman\, MT\, 59718
ORGANIZER;CN="Peter Holmes":MAILTO:Peter.Holmes@findingfreedom.solutions
END:VEVENT
BEGIN:VEVENT
DTSTART;TZID=America/Denver:20271130T061500
DTEND;TZID=America/Denver:20271130T073000
DTSTAMP:20260425T223049
CREATED:20200903T185425Z
LAST-MODIFIED:20200903T185425Z
UID:7279-1827555300-1827559800@findingfreedom.solutions
SUMMARY:Men's Prayer Meeting
DESCRIPTION:Join us every Tuesday morning at 6:15am for a weekly time of sharing and prayer. Come in person to The Landing (2149 East Cameron Bridge Road in Bozeman) or join online. Zoom link here. All men are welcome! \n 
URL:https://findingfreedom.solutions/event/mens-prayer-meeting-3/2027-11-30/
LOCATION:Finding Freedom\, 2419 E. Cameron Bridge Road\, Bozeman\, MT\, 59718\, United States
ORGANIZER;CN="Peter Holmes":MAILTO:Peter.Holmes@findingfreedom.solutions
END:VEVENT
BEGIN:VEVENT
DTSTART;TZID=America/Denver:20271130T183000
DTEND;TZID=America/Denver:20271130T203000
DTSTAMP:20260425T223049
CREATED:20200903T164324Z
LAST-MODIFIED:20200903T164324Z
UID:7280-1827599400-1827606600@findingfreedom.solutions
SUMMARY:Men's Open Group
DESCRIPTION:Gentlemen\, if you want some help on your journey into more healing\, wholeness\, or relationship with Christ or want to see what such a journey might look like\, this is a great place for you! This evening is an open forum for you to come as you are. There is no pressure to come with an issue or question. \nWe meet in person at The Landing (2419 E Cameron Bridge Road\, Bozeman) and also online.  Zoom link here. All men are welcome to join. \n 
URL:https://findingfreedom.solutions/event/mens-open-group-2/2027-11-30/
LOCATION:The Landing – Home of Finding Freedom\, 2419 E. Cameron Bridge Rd\, Bozeman\, MT\, 59718
ORGANIZER;CN="Peter Holmes":MAILTO:Peter.Holmes@findingfreedom.solutions
END:VEVENT
END:VCALENDAR