BEGIN:VCALENDAR
VERSION:2.0
PRODID:-//Finding Freedom - ECPv6.15.20//NONSGML v1.0//EN
CALSCALE:GREGORIAN
METHOD:PUBLISH
X-WR-CALNAME:Finding Freedom
X-ORIGINAL-URL:https://findingfreedom.solutions
X-WR-CALDESC:Events for Finding Freedom
REFRESH-INTERVAL;VALUE=DURATION:PT1H
X-Robots-Tag:noindex
X-PUBLISHED-TTL:PT1H
BEGIN:VTIMEZONE
TZID:America/Denver
BEGIN:DAYLIGHT
TZOFFSETFROM:-0700
TZOFFSETTO:-0600
TZNAME:MDT
DTSTART:20240310T090000
END:DAYLIGHT
BEGIN:STANDARD
TZOFFSETFROM:-0600
TZOFFSETTO:-0700
TZNAME:MST
DTSTART:20241103T080000
END:STANDARD
BEGIN:DAYLIGHT
TZOFFSETFROM:-0700
TZOFFSETTO:-0600
TZNAME:MDT
DTSTART:20250309T090000
END:DAYLIGHT
BEGIN:STANDARD
TZOFFSETFROM:-0600
TZOFFSETTO:-0700
TZNAME:MST
DTSTART:20251102T080000
END:STANDARD
BEGIN:DAYLIGHT
TZOFFSETFROM:-0700
TZOFFSETTO:-0600
TZNAME:MDT
DTSTART:20260308T090000
END:DAYLIGHT
BEGIN:STANDARD
TZOFFSETFROM:-0600
TZOFFSETTO:-0700
TZNAME:MST
DTSTART:20261101T080000
END:STANDARD
END:VTIMEZONE
BEGIN:VEVENT
DTSTART;TZID=America/Denver:20250228T180000
DTEND;TZID=America/Denver:20250228T210000
DTSTAMP:20260425T091132
CREATED:20210115T183653Z
LAST-MODIFIED:20210115T183653Z
UID:5197-1740765600-1740776400@findingfreedom.solutions
SUMMARY:Community Evening
DESCRIPTION:Join us for our Community Evening! We will begin the evening with a shared meal together – if you can\, bring a main dish\, side dish\, or dessert. Dinner will begin at 6pm MST\, but you are welcome to arrive anytime throughout the evening. Worship\, a message\, testimonies\, and sharing starts at 7:15pm and our evening will wrap-up sometime between 8.30 – 9:00pm. \nWe meet at The Landing in Bozeman. If you can’t be there in person\, use this Zoom link from 7:15pm MDT onwards. (Zoom link: https://us02web.zoom.us/j/755395152?pwd=TmM4a0xYTG9TOUI4K2dXT0M5RHlPZz09#success)
URL:https://findingfreedom.solutions/event/community-evening-virtual-2021-10-01-2021-10-15/2025-02-28/
LOCATION:The Landing – Home of Finding Freedom\, 2419 E. Cameron Bridge Rd\, Bozeman\, MT\, 59718
ORGANIZER;CN="Susan Williams":MAILTO:Susan.Williams@findingfreedom.solutions
END:VEVENT
BEGIN:VEVENT
DTSTART;TZID=America/Denver:20250228T183000
DTEND;TZID=America/Denver:20250228T203000
DTSTAMP:20260425T091132
CREATED:20210115T183653Z
LAST-MODIFIED:20210115T183653Z
UID:5196-1740767400-1740774600@findingfreedom.solutions
SUMMARY:Community Evening (virtual)
DESCRIPTION:Although we can’t have our normal Community Evening we do still want to gather together as a community\, virtually.  We will be using Zoom as the meeting platform.  Our time together will include space for sharing our personal and corporate challenges and celebrations\, prayer\, and Peter has something from the Lord to share with us. \nYou can use this Zoom link to log on to the meeting.  If you are unfamiliar with the Zoom platform please try logging on at 6pm. If you have any problems\, get in touch with Jeni via text at 406-581-0545 and she will offer you some support.
URL:https://findingfreedom.solutions/event/community-evening-virtual/2025-02-28/
LOCATION:Montana
END:VEVENT
BEGIN:VEVENT
DTSTART;TZID=America/Denver:20250304T061500
DTEND;TZID=America/Denver:20250304T073000
DTSTAMP:20260425T091132
CREATED:20200903T185425Z
LAST-MODIFIED:20200903T185425Z
UID:5198-1741068900-1741073400@findingfreedom.solutions
SUMMARY:Men's Prayer Meeting
DESCRIPTION:Join us every Tuesday morning at 6:15am for a weekly time of sharing and prayer. Come in person to The Landing (2149 East Cameron Bridge Road in Bozeman) or join online. Zoom link here. All men are welcome! \n 
URL:https://findingfreedom.solutions/event/mens-prayer-meeting-3/2025-03-04/
LOCATION:Finding Freedom\, 2419 E. Cameron Bridge Road\, Bozeman\, MT\, 59718\, United States
ORGANIZER;CN="Peter Holmes":MAILTO:Peter.Holmes@findingfreedom.solutions
END:VEVENT
BEGIN:VEVENT
DTSTART;TZID=America/Denver:20250304T183000
DTEND;TZID=America/Denver:20250304T203000
DTSTAMP:20260425T091132
CREATED:20200903T164324Z
LAST-MODIFIED:20200903T164324Z
UID:5199-1741113000-1741120200@findingfreedom.solutions
SUMMARY:Men's Open Group
DESCRIPTION:Gentlemen\, if you want some help on your journey into more healing\, wholeness\, or relationship with Christ or want to see what such a journey might look like\, this is a great place for you! This evening is an open forum for you to come as you are. There is no pressure to come with an issue or question. \nWe meet in person at The Landing (2419 E Cameron Bridge Road\, Bozeman) and also online.  Zoom link here. All men are welcome to join. \n 
URL:https://findingfreedom.solutions/event/mens-open-group-2/2025-03-04/
LOCATION:The Landing – Home of Finding Freedom\, 2419 E. Cameron Bridge Rd\, Bozeman\, MT\, 59718
ORGANIZER;CN="Peter Holmes":MAILTO:Peter.Holmes@findingfreedom.solutions
END:VEVENT
BEGIN:VEVENT
DTSTART;TZID=America/Denver:20250311T061500
DTEND;TZID=America/Denver:20250311T073000
DTSTAMP:20260425T091132
CREATED:20200903T185425Z
LAST-MODIFIED:20200903T185425Z
UID:5206-1741673700-1741678200@findingfreedom.solutions
SUMMARY:Men's Prayer Meeting
DESCRIPTION:Join us every Tuesday morning at 6:15am for a weekly time of sharing and prayer. Come in person to The Landing (2149 East Cameron Bridge Road in Bozeman) or join online. Zoom link here. All men are welcome! \n 
URL:https://findingfreedom.solutions/event/mens-prayer-meeting-3/2025-03-11/
LOCATION:Finding Freedom\, 2419 E. Cameron Bridge Road\, Bozeman\, MT\, 59718\, United States
ORGANIZER;CN="Peter Holmes":MAILTO:Peter.Holmes@findingfreedom.solutions
END:VEVENT
BEGIN:VEVENT
DTSTART;TZID=America/Denver:20250311T183000
DTEND;TZID=America/Denver:20250311T203000
DTSTAMP:20260425T091132
CREATED:20200903T164324Z
LAST-MODIFIED:20200903T164324Z
UID:5207-1741717800-1741725000@findingfreedom.solutions
SUMMARY:Men's Open Group
DESCRIPTION:Gentlemen\, if you want some help on your journey into more healing\, wholeness\, or relationship with Christ or want to see what such a journey might look like\, this is a great place for you! This evening is an open forum for you to come as you are. There is no pressure to come with an issue or question. \nWe meet in person at The Landing (2419 E Cameron Bridge Road\, Bozeman) and also online.  Zoom link here. All men are welcome to join. \n 
URL:https://findingfreedom.solutions/event/mens-open-group-2/2025-03-11/
LOCATION:The Landing – Home of Finding Freedom\, 2419 E. Cameron Bridge Rd\, Bozeman\, MT\, 59718
ORGANIZER;CN="Peter Holmes":MAILTO:Peter.Holmes@findingfreedom.solutions
END:VEVENT
BEGIN:VEVENT
DTSTART;TZID=America/Denver:20250314T180000
DTEND;TZID=America/Denver:20250314T210000
DTSTAMP:20260425T091132
CREATED:20210115T183653Z
LAST-MODIFIED:20210115T183653Z
UID:5261-1741975200-1741986000@findingfreedom.solutions
SUMMARY:Community Evening
DESCRIPTION:Join us for our Community Evening! We will begin the evening with a shared meal together – if you can\, bring a main dish\, side dish\, or dessert. Dinner will begin at 6pm MST\, but you are welcome to arrive anytime throughout the evening. Worship\, a message\, testimonies\, and sharing starts at 7:15pm and our evening will wrap-up sometime between 8.30 – 9:00pm. \nWe meet at The Landing in Bozeman. If you can’t be there in person\, use this Zoom link from 7:15pm MDT onwards. (Zoom link: https://us02web.zoom.us/j/755395152?pwd=TmM4a0xYTG9TOUI4K2dXT0M5RHlPZz09#success)
URL:https://findingfreedom.solutions/event/community-evening-virtual-2021-10-01-2021-10-15/2025-03-14/
LOCATION:The Landing – Home of Finding Freedom\, 2419 E. Cameron Bridge Rd\, Bozeman\, MT\, 59718
ORGANIZER;CN="Susan Williams":MAILTO:Susan.Williams@findingfreedom.solutions
END:VEVENT
BEGIN:VEVENT
DTSTART;TZID=America/Denver:20250314T183000
DTEND;TZID=America/Denver:20250314T203000
DTSTAMP:20260425T091132
CREATED:20210115T183653Z
LAST-MODIFIED:20210115T183653Z
UID:5260-1741977000-1741984200@findingfreedom.solutions
SUMMARY:Community Evening (virtual)
DESCRIPTION:Although we can’t have our normal Community Evening we do still want to gather together as a community\, virtually.  We will be using Zoom as the meeting platform.  Our time together will include space for sharing our personal and corporate challenges and celebrations\, prayer\, and Peter has something from the Lord to share with us. \nYou can use this Zoom link to log on to the meeting.  If you are unfamiliar with the Zoom platform please try logging on at 6pm. If you have any problems\, get in touch with Jeni via text at 406-581-0545 and she will offer you some support.
URL:https://findingfreedom.solutions/event/community-evening-virtual/2025-03-14/
LOCATION:Montana
END:VEVENT
BEGIN:VEVENT
DTSTART;TZID=America/Denver:20250318T061500
DTEND;TZID=America/Denver:20250318T073000
DTSTAMP:20260425T091132
CREATED:20200903T185425Z
LAST-MODIFIED:20200903T185425Z
UID:5262-1742278500-1742283000@findingfreedom.solutions
SUMMARY:Men's Prayer Meeting
DESCRIPTION:Join us every Tuesday morning at 6:15am for a weekly time of sharing and prayer. Come in person to The Landing (2149 East Cameron Bridge Road in Bozeman) or join online. Zoom link here. All men are welcome! \n 
URL:https://findingfreedom.solutions/event/mens-prayer-meeting-3/2025-03-18/
LOCATION:Finding Freedom\, 2419 E. Cameron Bridge Road\, Bozeman\, MT\, 59718\, United States
ORGANIZER;CN="Peter Holmes":MAILTO:Peter.Holmes@findingfreedom.solutions
END:VEVENT
BEGIN:VEVENT
DTSTART;TZID=America/Denver:20250318T183000
DTEND;TZID=America/Denver:20250318T203000
DTSTAMP:20260425T091132
CREATED:20200903T164324Z
LAST-MODIFIED:20200903T164324Z
UID:5263-1742322600-1742329800@findingfreedom.solutions
SUMMARY:Men's Open Group
DESCRIPTION:Gentlemen\, if you want some help on your journey into more healing\, wholeness\, or relationship with Christ or want to see what such a journey might look like\, this is a great place for you! This evening is an open forum for you to come as you are. There is no pressure to come with an issue or question. \nWe meet in person at The Landing (2419 E Cameron Bridge Road\, Bozeman) and also online.  Zoom link here. All men are welcome to join. \n 
URL:https://findingfreedom.solutions/event/mens-open-group-2/2025-03-18/
LOCATION:The Landing – Home of Finding Freedom\, 2419 E. Cameron Bridge Rd\, Bozeman\, MT\, 59718
ORGANIZER;CN="Peter Holmes":MAILTO:Peter.Holmes@findingfreedom.solutions
END:VEVENT
BEGIN:VEVENT
DTSTART;TZID=America/Denver:20250325T061500
DTEND;TZID=America/Denver:20250325T073000
DTSTAMP:20260425T091132
CREATED:20200903T185425Z
LAST-MODIFIED:20200903T185425Z
UID:5281-1742883300-1742887800@findingfreedom.solutions
SUMMARY:Men's Prayer Meeting
DESCRIPTION:Join us every Tuesday morning at 6:15am for a weekly time of sharing and prayer. Come in person to The Landing (2149 East Cameron Bridge Road in Bozeman) or join online. Zoom link here. All men are welcome! \n 
URL:https://findingfreedom.solutions/event/mens-prayer-meeting-3/2025-03-25/
LOCATION:Finding Freedom\, 2419 E. Cameron Bridge Road\, Bozeman\, MT\, 59718\, United States
ORGANIZER;CN="Peter Holmes":MAILTO:Peter.Holmes@findingfreedom.solutions
END:VEVENT
BEGIN:VEVENT
DTSTART;TZID=America/Denver:20250325T183000
DTEND;TZID=America/Denver:20250325T203000
DTSTAMP:20260425T091132
CREATED:20200903T164324Z
LAST-MODIFIED:20200903T164324Z
UID:5282-1742927400-1742934600@findingfreedom.solutions
SUMMARY:Men's Open Group
DESCRIPTION:Gentlemen\, if you want some help on your journey into more healing\, wholeness\, or relationship with Christ or want to see what such a journey might look like\, this is a great place for you! This evening is an open forum for you to come as you are. There is no pressure to come with an issue or question. \nWe meet in person at The Landing (2419 E Cameron Bridge Road\, Bozeman) and also online.  Zoom link here. All men are welcome to join. \n 
URL:https://findingfreedom.solutions/event/mens-open-group-2/2025-03-25/
LOCATION:The Landing – Home of Finding Freedom\, 2419 E. Cameron Bridge Rd\, Bozeman\, MT\, 59718
ORGANIZER;CN="Peter Holmes":MAILTO:Peter.Holmes@findingfreedom.solutions
END:VEVENT
BEGIN:VEVENT
DTSTART;TZID=America/Denver:20250328T180000
DTEND;TZID=America/Denver:20250328T210000
DTSTAMP:20260425T091132
CREATED:20210115T183653Z
LAST-MODIFIED:20210115T183653Z
UID:5292-1743184800-1743195600@findingfreedom.solutions
SUMMARY:Community Evening
DESCRIPTION:Join us for our Community Evening! We will begin the evening with a shared meal together – if you can\, bring a main dish\, side dish\, or dessert. Dinner will begin at 6pm MST\, but you are welcome to arrive anytime throughout the evening. Worship\, a message\, testimonies\, and sharing starts at 7:15pm and our evening will wrap-up sometime between 8.30 – 9:00pm. \nWe meet at The Landing in Bozeman. If you can’t be there in person\, use this Zoom link from 7:15pm MDT onwards. (Zoom link: https://us02web.zoom.us/j/755395152?pwd=TmM4a0xYTG9TOUI4K2dXT0M5RHlPZz09#success)
URL:https://findingfreedom.solutions/event/community-evening-virtual-2021-10-01-2021-10-15/2025-03-28/
LOCATION:The Landing – Home of Finding Freedom\, 2419 E. Cameron Bridge Rd\, Bozeman\, MT\, 59718
ORGANIZER;CN="Susan Williams":MAILTO:Susan.Williams@findingfreedom.solutions
END:VEVENT
BEGIN:VEVENT
DTSTART;TZID=America/Denver:20250328T183000
DTEND;TZID=America/Denver:20250328T203000
DTSTAMP:20260425T091132
CREATED:20210115T183653Z
LAST-MODIFIED:20210115T183653Z
UID:5291-1743186600-1743193800@findingfreedom.solutions
SUMMARY:Community Evening (virtual)
DESCRIPTION:Although we can’t have our normal Community Evening we do still want to gather together as a community\, virtually.  We will be using Zoom as the meeting platform.  Our time together will include space for sharing our personal and corporate challenges and celebrations\, prayer\, and Peter has something from the Lord to share with us. \nYou can use this Zoom link to log on to the meeting.  If you are unfamiliar with the Zoom platform please try logging on at 6pm. If you have any problems\, get in touch with Jeni via text at 406-581-0545 and she will offer you some support.
URL:https://findingfreedom.solutions/event/community-evening-virtual/2025-03-28/
LOCATION:Montana
END:VEVENT
BEGIN:VEVENT
DTSTART;TZID=America/Denver:20250401T061500
DTEND;TZID=America/Denver:20250401T073000
DTSTAMP:20260425T091132
CREATED:20200903T185425Z
LAST-MODIFIED:20200903T185425Z
UID:5294-1743488100-1743492600@findingfreedom.solutions
SUMMARY:Men's Prayer Meeting
DESCRIPTION:Join us every Tuesday morning at 6:15am for a weekly time of sharing and prayer. Come in person to The Landing (2149 East Cameron Bridge Road in Bozeman) or join online. Zoom link here. All men are welcome! \n 
URL:https://findingfreedom.solutions/event/mens-prayer-meeting-3/2025-04-01/
LOCATION:Finding Freedom\, 2419 E. Cameron Bridge Road\, Bozeman\, MT\, 59718\, United States
ORGANIZER;CN="Peter Holmes":MAILTO:Peter.Holmes@findingfreedom.solutions
END:VEVENT
BEGIN:VEVENT
DTSTART;TZID=America/Denver:20250401T183000
DTEND;TZID=America/Denver:20250401T203000
DTSTAMP:20260425T091132
CREATED:20200903T164324Z
LAST-MODIFIED:20200903T164324Z
UID:5295-1743532200-1743539400@findingfreedom.solutions
SUMMARY:Men's Open Group
DESCRIPTION:Gentlemen\, if you want some help on your journey into more healing\, wholeness\, or relationship with Christ or want to see what such a journey might look like\, this is a great place for you! This evening is an open forum for you to come as you are. There is no pressure to come with an issue or question. \nWe meet in person at The Landing (2419 E Cameron Bridge Road\, Bozeman) and also online.  Zoom link here. All men are welcome to join. \n 
URL:https://findingfreedom.solutions/event/mens-open-group-2/2025-04-01/
LOCATION:The Landing – Home of Finding Freedom\, 2419 E. Cameron Bridge Rd\, Bozeman\, MT\, 59718
ORGANIZER;CN="Peter Holmes":MAILTO:Peter.Holmes@findingfreedom.solutions
END:VEVENT
BEGIN:VEVENT
DTSTART;TZID=America/Denver:20250408T061500
DTEND;TZID=America/Denver:20250408T073000
DTSTAMP:20260425T091132
CREATED:20200903T185425Z
LAST-MODIFIED:20200903T185425Z
UID:5296-1744092900-1744097400@findingfreedom.solutions
SUMMARY:Men's Prayer Meeting
DESCRIPTION:Join us every Tuesday morning at 6:15am for a weekly time of sharing and prayer. Come in person to The Landing (2149 East Cameron Bridge Road in Bozeman) or join online. Zoom link here. All men are welcome! \n 
URL:https://findingfreedom.solutions/event/mens-prayer-meeting-3/2025-04-08/
LOCATION:Finding Freedom\, 2419 E. Cameron Bridge Road\, Bozeman\, MT\, 59718\, United States
ORGANIZER;CN="Peter Holmes":MAILTO:Peter.Holmes@findingfreedom.solutions
END:VEVENT
BEGIN:VEVENT
DTSTART;TZID=America/Denver:20250408T183000
DTEND;TZID=America/Denver:20250408T203000
DTSTAMP:20260425T091132
CREATED:20200903T164324Z
LAST-MODIFIED:20200903T164324Z
UID:5297-1744137000-1744144200@findingfreedom.solutions
SUMMARY:Men's Open Group
DESCRIPTION:Gentlemen\, if you want some help on your journey into more healing\, wholeness\, or relationship with Christ or want to see what such a journey might look like\, this is a great place for you! This evening is an open forum for you to come as you are. There is no pressure to come with an issue or question. \nWe meet in person at The Landing (2419 E Cameron Bridge Road\, Bozeman) and also online.  Zoom link here. All men are welcome to join. \n 
URL:https://findingfreedom.solutions/event/mens-open-group-2/2025-04-08/
LOCATION:The Landing – Home of Finding Freedom\, 2419 E. Cameron Bridge Rd\, Bozeman\, MT\, 59718
ORGANIZER;CN="Peter Holmes":MAILTO:Peter.Holmes@findingfreedom.solutions
END:VEVENT
BEGIN:VEVENT
DTSTART;TZID=America/Denver:20250411T180000
DTEND;TZID=America/Denver:20250411T210000
DTSTAMP:20260425T091132
CREATED:20210115T183653Z
LAST-MODIFIED:20210115T183653Z
UID:5299-1744394400-1744405200@findingfreedom.solutions
SUMMARY:Community Evening
DESCRIPTION:Join us for our Community Evening! We will begin the evening with a shared meal together – if you can\, bring a main dish\, side dish\, or dessert. Dinner will begin at 6pm MST\, but you are welcome to arrive anytime throughout the evening. Worship\, a message\, testimonies\, and sharing starts at 7:15pm and our evening will wrap-up sometime between 8.30 – 9:00pm. \nWe meet at The Landing in Bozeman. If you can’t be there in person\, use this Zoom link from 7:15pm MDT onwards. (Zoom link: https://us02web.zoom.us/j/755395152?pwd=TmM4a0xYTG9TOUI4K2dXT0M5RHlPZz09#success)
URL:https://findingfreedom.solutions/event/community-evening-virtual-2021-10-01-2021-10-15/2025-04-11/
LOCATION:The Landing – Home of Finding Freedom\, 2419 E. Cameron Bridge Rd\, Bozeman\, MT\, 59718
ORGANIZER;CN="Susan Williams":MAILTO:Susan.Williams@findingfreedom.solutions
END:VEVENT
BEGIN:VEVENT
DTSTART;TZID=America/Denver:20250411T183000
DTEND;TZID=America/Denver:20250411T203000
DTSTAMP:20260425T091132
CREATED:20210115T183653Z
LAST-MODIFIED:20210115T183653Z
UID:5298-1744396200-1744403400@findingfreedom.solutions
SUMMARY:Community Evening (virtual)
DESCRIPTION:Although we can’t have our normal Community Evening we do still want to gather together as a community\, virtually.  We will be using Zoom as the meeting platform.  Our time together will include space for sharing our personal and corporate challenges and celebrations\, prayer\, and Peter has something from the Lord to share with us. \nYou can use this Zoom link to log on to the meeting.  If you are unfamiliar with the Zoom platform please try logging on at 6pm. If you have any problems\, get in touch with Jeni via text at 406-581-0545 and she will offer you some support.
URL:https://findingfreedom.solutions/event/community-evening-virtual/2025-04-11/
LOCATION:Montana
END:VEVENT
BEGIN:VEVENT
DTSTART;TZID=America/Denver:20250415T061500
DTEND;TZID=America/Denver:20250415T073000
DTSTAMP:20260425T091132
CREATED:20200903T185425Z
LAST-MODIFIED:20200903T185425Z
UID:5300-1744697700-1744702200@findingfreedom.solutions
SUMMARY:Men's Prayer Meeting
DESCRIPTION:Join us every Tuesday morning at 6:15am for a weekly time of sharing and prayer. Come in person to The Landing (2149 East Cameron Bridge Road in Bozeman) or join online. Zoom link here. All men are welcome! \n 
URL:https://findingfreedom.solutions/event/mens-prayer-meeting-3/2025-04-15/
LOCATION:Finding Freedom\, 2419 E. Cameron Bridge Road\, Bozeman\, MT\, 59718\, United States
ORGANIZER;CN="Peter Holmes":MAILTO:Peter.Holmes@findingfreedom.solutions
END:VEVENT
BEGIN:VEVENT
DTSTART;TZID=America/Denver:20250415T183000
DTEND;TZID=America/Denver:20250415T203000
DTSTAMP:20260425T091132
CREATED:20200903T164324Z
LAST-MODIFIED:20200903T164324Z
UID:5301-1744741800-1744749000@findingfreedom.solutions
SUMMARY:Men's Open Group
DESCRIPTION:Gentlemen\, if you want some help on your journey into more healing\, wholeness\, or relationship with Christ or want to see what such a journey might look like\, this is a great place for you! This evening is an open forum for you to come as you are. There is no pressure to come with an issue or question. \nWe meet in person at The Landing (2419 E Cameron Bridge Road\, Bozeman) and also online.  Zoom link here. All men are welcome to join. \n 
URL:https://findingfreedom.solutions/event/mens-open-group-2/2025-04-15/
LOCATION:The Landing – Home of Finding Freedom\, 2419 E. Cameron Bridge Rd\, Bozeman\, MT\, 59718
ORGANIZER;CN="Peter Holmes":MAILTO:Peter.Holmes@findingfreedom.solutions
END:VEVENT
BEGIN:VEVENT
DTSTART;TZID=America/Denver:20250422T061500
DTEND;TZID=America/Denver:20250422T073000
DTSTAMP:20260425T091132
CREATED:20200903T185425Z
LAST-MODIFIED:20200903T185425Z
UID:5302-1745302500-1745307000@findingfreedom.solutions
SUMMARY:Men's Prayer Meeting
DESCRIPTION:Join us every Tuesday morning at 6:15am for a weekly time of sharing and prayer. Come in person to The Landing (2149 East Cameron Bridge Road in Bozeman) or join online. Zoom link here. All men are welcome! \n 
URL:https://findingfreedom.solutions/event/mens-prayer-meeting-3/2025-04-22/
LOCATION:Finding Freedom\, 2419 E. Cameron Bridge Road\, Bozeman\, MT\, 59718\, United States
ORGANIZER;CN="Peter Holmes":MAILTO:Peter.Holmes@findingfreedom.solutions
END:VEVENT
BEGIN:VEVENT
DTSTART;TZID=America/Denver:20250422T183000
DTEND;TZID=America/Denver:20250422T203000
DTSTAMP:20260425T091132
CREATED:20200903T164324Z
LAST-MODIFIED:20200903T164324Z
UID:5303-1745346600-1745353800@findingfreedom.solutions
SUMMARY:Men's Open Group
DESCRIPTION:Gentlemen\, if you want some help on your journey into more healing\, wholeness\, or relationship with Christ or want to see what such a journey might look like\, this is a great place for you! This evening is an open forum for you to come as you are. There is no pressure to come with an issue or question. \nWe meet in person at The Landing (2419 E Cameron Bridge Road\, Bozeman) and also online.  Zoom link here. All men are welcome to join. \n 
URL:https://findingfreedom.solutions/event/mens-open-group-2/2025-04-22/
LOCATION:The Landing – Home of Finding Freedom\, 2419 E. Cameron Bridge Rd\, Bozeman\, MT\, 59718
ORGANIZER;CN="Peter Holmes":MAILTO:Peter.Holmes@findingfreedom.solutions
END:VEVENT
BEGIN:VEVENT
DTSTART;TZID=America/Denver:20250425T180000
DTEND;TZID=America/Denver:20250425T210000
DTSTAMP:20260425T091132
CREATED:20210115T183653Z
LAST-MODIFIED:20210115T183653Z
UID:5305-1745604000-1745614800@findingfreedom.solutions
SUMMARY:Community Evening
DESCRIPTION:Join us for our Community Evening! We will begin the evening with a shared meal together – if you can\, bring a main dish\, side dish\, or dessert. Dinner will begin at 6pm MST\, but you are welcome to arrive anytime throughout the evening. Worship\, a message\, testimonies\, and sharing starts at 7:15pm and our evening will wrap-up sometime between 8.30 – 9:00pm. \nWe meet at The Landing in Bozeman. If you can’t be there in person\, use this Zoom link from 7:15pm MDT onwards. (Zoom link: https://us02web.zoom.us/j/755395152?pwd=TmM4a0xYTG9TOUI4K2dXT0M5RHlPZz09#success)
URL:https://findingfreedom.solutions/event/community-evening-virtual-2021-10-01-2021-10-15/2025-04-25/
LOCATION:The Landing – Home of Finding Freedom\, 2419 E. Cameron Bridge Rd\, Bozeman\, MT\, 59718
ORGANIZER;CN="Susan Williams":MAILTO:Susan.Williams@findingfreedom.solutions
END:VEVENT
BEGIN:VEVENT
DTSTART;TZID=America/Denver:20250425T183000
DTEND;TZID=America/Denver:20250425T203000
DTSTAMP:20260425T091132
CREATED:20210115T183653Z
LAST-MODIFIED:20210115T183653Z
UID:5304-1745605800-1745613000@findingfreedom.solutions
SUMMARY:Community Evening (virtual)
DESCRIPTION:Although we can’t have our normal Community Evening we do still want to gather together as a community\, virtually.  We will be using Zoom as the meeting platform.  Our time together will include space for sharing our personal and corporate challenges and celebrations\, prayer\, and Peter has something from the Lord to share with us. \nYou can use this Zoom link to log on to the meeting.  If you are unfamiliar with the Zoom platform please try logging on at 6pm. If you have any problems\, get in touch with Jeni via text at 406-581-0545 and she will offer you some support.
URL:https://findingfreedom.solutions/event/community-evening-virtual/2025-04-25/
LOCATION:Montana
END:VEVENT
BEGIN:VEVENT
DTSTART;TZID=America/Denver:20250429T061500
DTEND;TZID=America/Denver:20250429T073000
DTSTAMP:20260425T091132
CREATED:20200903T185425Z
LAST-MODIFIED:20200903T185425Z
UID:5312-1745907300-1745911800@findingfreedom.solutions
SUMMARY:Men's Prayer Meeting
DESCRIPTION:Join us every Tuesday morning at 6:15am for a weekly time of sharing and prayer. Come in person to The Landing (2149 East Cameron Bridge Road in Bozeman) or join online. Zoom link here. All men are welcome! \n 
URL:https://findingfreedom.solutions/event/mens-prayer-meeting-3/2025-04-29/
LOCATION:Finding Freedom\, 2419 E. Cameron Bridge Road\, Bozeman\, MT\, 59718\, United States
ORGANIZER;CN="Peter Holmes":MAILTO:Peter.Holmes@findingfreedom.solutions
END:VEVENT
BEGIN:VEVENT
DTSTART;TZID=America/Denver:20250429T183000
DTEND;TZID=America/Denver:20250429T203000
DTSTAMP:20260425T091132
CREATED:20200903T164324Z
LAST-MODIFIED:20200903T164324Z
UID:5313-1745951400-1745958600@findingfreedom.solutions
SUMMARY:Men's Open Group
DESCRIPTION:Gentlemen\, if you want some help on your journey into more healing\, wholeness\, or relationship with Christ or want to see what such a journey might look like\, this is a great place for you! This evening is an open forum for you to come as you are. There is no pressure to come with an issue or question. \nWe meet in person at The Landing (2419 E Cameron Bridge Road\, Bozeman) and also online.  Zoom link here. All men are welcome to join. \n 
URL:https://findingfreedom.solutions/event/mens-open-group-2/2025-04-29/
LOCATION:The Landing – Home of Finding Freedom\, 2419 E. Cameron Bridge Rd\, Bozeman\, MT\, 59718
ORGANIZER;CN="Peter Holmes":MAILTO:Peter.Holmes@findingfreedom.solutions
END:VEVENT
BEGIN:VEVENT
DTSTART;TZID=America/Denver:20250506T061500
DTEND;TZID=America/Denver:20250506T073000
DTSTAMP:20260425T091132
CREATED:20200903T185425Z
LAST-MODIFIED:20200903T185425Z
UID:5314-1746512100-1746516600@findingfreedom.solutions
SUMMARY:Men's Prayer Meeting
DESCRIPTION:Join us every Tuesday morning at 6:15am for a weekly time of sharing and prayer. Come in person to The Landing (2149 East Cameron Bridge Road in Bozeman) or join online. Zoom link here. All men are welcome! \n 
URL:https://findingfreedom.solutions/event/mens-prayer-meeting-3/2025-05-06/
LOCATION:Finding Freedom\, 2419 E. Cameron Bridge Road\, Bozeman\, MT\, 59718\, United States
ORGANIZER;CN="Peter Holmes":MAILTO:Peter.Holmes@findingfreedom.solutions
END:VEVENT
BEGIN:VEVENT
DTSTART;TZID=America/Denver:20250506T183000
DTEND;TZID=America/Denver:20250506T203000
DTSTAMP:20260425T091132
CREATED:20200903T164324Z
LAST-MODIFIED:20200903T164324Z
UID:5315-1746556200-1746563400@findingfreedom.solutions
SUMMARY:Men's Open Group
DESCRIPTION:Gentlemen\, if you want some help on your journey into more healing\, wholeness\, or relationship with Christ or want to see what such a journey might look like\, this is a great place for you! This evening is an open forum for you to come as you are. There is no pressure to come with an issue or question. \nWe meet in person at The Landing (2419 E Cameron Bridge Road\, Bozeman) and also online.  Zoom link here. All men are welcome to join. \n 
URL:https://findingfreedom.solutions/event/mens-open-group-2/2025-05-06/
LOCATION:The Landing – Home of Finding Freedom\, 2419 E. Cameron Bridge Rd\, Bozeman\, MT\, 59718
ORGANIZER;CN="Peter Holmes":MAILTO:Peter.Holmes@findingfreedom.solutions
END:VEVENT
END:VCALENDAR