BEGIN:VCALENDAR
VERSION:2.0
PRODID:-//Finding Freedom - ECPv6.15.20//NONSGML v1.0//EN
CALSCALE:GREGORIAN
METHOD:PUBLISH
X-WR-CALNAME:Finding Freedom
X-ORIGINAL-URL:https://findingfreedom.solutions
X-WR-CALDESC:Events for Finding Freedom
REFRESH-INTERVAL;VALUE=DURATION:PT1H
X-Robots-Tag:noindex
X-PUBLISHED-TTL:PT1H
BEGIN:VTIMEZONE
TZID:America/Denver
BEGIN:DAYLIGHT
TZOFFSETFROM:-0700
TZOFFSETTO:-0600
TZNAME:MDT
DTSTART:20250309T090000
END:DAYLIGHT
BEGIN:STANDARD
TZOFFSETFROM:-0600
TZOFFSETTO:-0700
TZNAME:MST
DTSTART:20251102T080000
END:STANDARD
BEGIN:DAYLIGHT
TZOFFSETFROM:-0700
TZOFFSETTO:-0600
TZNAME:MDT
DTSTART:20260308T090000
END:DAYLIGHT
BEGIN:STANDARD
TZOFFSETFROM:-0600
TZOFFSETTO:-0700
TZNAME:MST
DTSTART:20261101T080000
END:STANDARD
BEGIN:DAYLIGHT
TZOFFSETFROM:-0700
TZOFFSETTO:-0600
TZNAME:MDT
DTSTART:20270314T090000
END:DAYLIGHT
BEGIN:STANDARD
TZOFFSETFROM:-0600
TZOFFSETTO:-0700
TZNAME:MST
DTSTART:20271107T080000
END:STANDARD
END:VTIMEZONE
BEGIN:VEVENT
DTSTART;TZID=America/Denver:20260424T180000
DTEND;TZID=America/Denver:20260424T210000
DTSTAMP:20260423T063822
CREATED:20210115T183653Z
LAST-MODIFIED:20210115T183653Z
UID:5586-1777053600-1777064400@findingfreedom.solutions
SUMMARY:Community Evening - in person and on Zoom
DESCRIPTION:Join us for our Community Evening 6pm onwards – newcomers welcome. We begin in-person with a shared meal together – if you can\, bring a main dish\, side dish\, or dessert. Our online community joins from 7.15pm MDT with worship\, testimonies\, and sharing. Our evening will wrap-up between 8.30 – 9:00pm. \nLocation varies – 26th May 2023 we are at 161 Barnes Rd\, Belgrade \nIf you can’t be there in person\, use this Zoom link from 7:15pm MDT onwards. (Zoom link: https://us02web.zoom.us/j/755395152?pwd=TmM4a0xYTG9TOUI4K2dXT0M5RHlPZz09#success)
URL:https://findingfreedom.solutions/event/community-evening-virtual-2021-10-01-2021-10-15/2026-04-24/
LOCATION:Montana
ORGANIZER;CN="Susan Williams":MAILTO:Susan.Williams@findingfreedom.solutions
END:VEVENT
BEGIN:VEVENT
DTSTART;TZID=America/Denver:20260424T183000
DTEND;TZID=America/Denver:20260424T203000
DTSTAMP:20260423T063822
CREATED:20210115T183653Z
LAST-MODIFIED:20210115T183653Z
UID:5585-1777055400-1777062600@findingfreedom.solutions
SUMMARY:Community Evening (virtual)
DESCRIPTION:Although we can’t have our normal Community Evening we do still want to gather together as a community\, virtually.  We will be using Zoom as the meeting platform.  Our time together will include space for sharing our personal and corporate challenges and celebrations\, prayer\, and Peter has something from the Lord to share with us. \nYou can use this Zoom link to log on to the meeting.  If you are unfamiliar with the Zoom platform please try logging on at 6pm. If you have any problems\, get in touch with Jeni via text at 406-581-0545 and she will offer you some support.
URL:https://findingfreedom.solutions/event/community-evening-virtual/2026-04-24/
LOCATION:Montana
END:VEVENT
BEGIN:VEVENT
DTSTART;TZID=America/Denver:20260428T061500
DTEND;TZID=America/Denver:20260428T073000
DTSTAMP:20260423T063822
CREATED:20200903T185425Z
LAST-MODIFIED:20200903T185425Z
UID:5594-1777356900-1777361400@findingfreedom.solutions
SUMMARY:Men's Prayer Meeting
DESCRIPTION:Join us every Tuesday morning at 6:15am for a weekly time of sharing and prayer. Come in person to The Landing (2149 East Cameron Bridge Road in Bozeman) or join online. Zoom link here. All men are welcome! \n 
URL:https://findingfreedom.solutions/event/mens-prayer-meeting-3/2026-04-28/
LOCATION:Finding Freedom\, 2419 E. Cameron Bridge Road\, Bozeman\, MT\, 59718\, United States
ORGANIZER;CN="Peter Holmes":MAILTO:Peter.Holmes@findingfreedom.solutions
END:VEVENT
BEGIN:VEVENT
DTSTART;TZID=America/Denver:20260428T183000
DTEND;TZID=America/Denver:20260428T203000
DTSTAMP:20260423T063822
CREATED:20200903T164324Z
LAST-MODIFIED:20200903T164324Z
UID:5595-1777401000-1777408200@findingfreedom.solutions
SUMMARY:Men's Open Group
DESCRIPTION:Gentlemen\, if you want some help on your journey into more healing\, wholeness\, or relationship with Christ or want to see what such a journey might look like\, this is a great place for you! This evening is an open forum for you to come as you are. There is no pressure to come with an issue or question. \nWe meet in person at The Landing (2419 E Cameron Bridge Road\, Bozeman) and also online.  Zoom link here. All men are welcome to join. \n 
URL:https://findingfreedom.solutions/event/mens-open-group-2/2026-04-28/
LOCATION:The Landing – Home of Finding Freedom\, 2419 E. Cameron Bridge Rd\, Bozeman\, MT\, 59718
ORGANIZER;CN="Peter Holmes":MAILTO:Peter.Holmes@findingfreedom.solutions
END:VEVENT
END:VCALENDAR