BEGIN:VCALENDAR
VERSION:2.0
PRODID:-//Finding Freedom - ECPv6.15.20//NONSGML v1.0//EN
CALSCALE:GREGORIAN
METHOD:PUBLISH
X-ORIGINAL-URL:https://findingfreedom.solutions
X-WR-CALDESC:Events for Finding Freedom
REFRESH-INTERVAL;VALUE=DURATION:PT1H
X-Robots-Tag:noindex
X-PUBLISHED-TTL:PT1H
BEGIN:VTIMEZONE
TZID:America/Denver
BEGIN:DAYLIGHT
TZOFFSETFROM:-0700
TZOFFSETTO:-0600
TZNAME:MDT
DTSTART:20200308T090000
END:DAYLIGHT
BEGIN:STANDARD
TZOFFSETFROM:-0600
TZOFFSETTO:-0700
TZNAME:MST
DTSTART:20201101T080000
END:STANDARD
BEGIN:DAYLIGHT
TZOFFSETFROM:-0700
TZOFFSETTO:-0600
TZNAME:MDT
DTSTART:20210314T090000
END:DAYLIGHT
BEGIN:STANDARD
TZOFFSETFROM:-0600
TZOFFSETTO:-0700
TZNAME:MST
DTSTART:20211107T080000
END:STANDARD
BEGIN:DAYLIGHT
TZOFFSETFROM:-0700
TZOFFSETTO:-0600
TZNAME:MDT
DTSTART:20220313T090000
END:DAYLIGHT
BEGIN:STANDARD
TZOFFSETFROM:-0600
TZOFFSETTO:-0700
TZNAME:MST
DTSTART:20221106T080000
END:STANDARD
END:VTIMEZONE
BEGIN:VEVENT
DTSTART;TZID=America/Denver:20211008T183000
DTEND;TZID=America/Denver:20211008T210000
DTSTAMP:20260424T160232
CREATED:20210930T211054Z
LAST-MODIFIED:20210930T211334Z
UID:3783-1633717800-1633726800@findingfreedom.solutions
SUMMARY:Workshop - Dismantling the Power of Addiction: A message of hope and healing
DESCRIPTION:Almost anything deeply enjoyable has the potential to be addictive. For as long as human beings have had ways to feel good\, we have struggled to know when it’s time to stop. For many the consequences are devastating. For some they are fatal. \nIt has been suggested that there are over 500 possible addictions. These range from the relatively healthy (e.g. exercise\, TV\, social media)\, to those with deeply destructive consequences (e.g. smoking\, adrenaline\, street drugs\, alcohol). Most of us will know someone whose life has been deeply impacted by their own addiction or by that of a close friend or family member. And many of us carry our own almost-innocuous addictions. \nSo what is really happening when the addictive craving takes over\, and\, in spite of someone’s best intention\, their ‘habit’ becomes irresistible? What happens in the brain? What part do our feelings play? How come one addiction morphs so easily into another? Such understanding is essential to help us carry a message of hope for those in desperate need. \nThere is no magic program that guarantees a cure. But Pastors Peter Holmes and Susan Williams will map the key elements of transformative change to not only bring freedom from addictions but also healing from their hidden drives. \nAt the end of this 7-session workshop\, you will leave with: \n\na message of hope for everyone you meet who is the victim of addictive behavior\nan understanding of the addictions you are most vulnerable to and how to avoid them\nthe way addiction is shaped by brain chemistry and how that can be changed\na Biblical perspective on addiction and its hidden drives\npractical steps to help someone wanting to find freedom from their addictions\n\nThis workshop is in-person at The Commons\, and live-streamed Friday\, October 8\, from 6:30-9:00pm and Saturday\, October 9\, from 9:00am-1:00pm. Snacks\, coffee and tea will be available. \nClick here to register for this workshop. 
URL:https://findingfreedom.solutions/event/workshop-dismantling-the-power-of-addiction-a-message-of-hope-and-healing/2021-10-08/
LOCATION:The Commons\, 1794 Baxter Lane East\, Bozeman\, MT\, 59718\, United States
END:VEVENT
END:VCALENDAR