BEGIN:VCALENDAR
VERSION:2.0
PRODID:-//Finding Freedom - ECPv6.15.20//NONSGML v1.0//EN
CALSCALE:GREGORIAN
METHOD:PUBLISH
X-WR-CALNAME:Finding Freedom
X-ORIGINAL-URL:https://findingfreedom.solutions
X-WR-CALDESC:Events for Finding Freedom
REFRESH-INTERVAL;VALUE=DURATION:PT1H
X-Robots-Tag:noindex
X-PUBLISHED-TTL:PT1H
BEGIN:VTIMEZONE
TZID:America/Denver
BEGIN:DAYLIGHT
TZOFFSETFROM:-0700
TZOFFSETTO:-0600
TZNAME:MDT
DTSTART:20190310T090000
END:DAYLIGHT
BEGIN:STANDARD
TZOFFSETFROM:-0600
TZOFFSETTO:-0700
TZNAME:MST
DTSTART:20191103T080000
END:STANDARD
BEGIN:DAYLIGHT
TZOFFSETFROM:-0700
TZOFFSETTO:-0600
TZNAME:MDT
DTSTART:20200308T090000
END:DAYLIGHT
BEGIN:STANDARD
TZOFFSETFROM:-0600
TZOFFSETTO:-0700
TZNAME:MST
DTSTART:20201101T080000
END:STANDARD
BEGIN:DAYLIGHT
TZOFFSETFROM:-0700
TZOFFSETTO:-0600
TZNAME:MDT
DTSTART:20210314T090000
END:DAYLIGHT
BEGIN:STANDARD
TZOFFSETFROM:-0600
TZOFFSETTO:-0700
TZNAME:MST
DTSTART:20211107T080000
END:STANDARD
END:VTIMEZONE
BEGIN:VEVENT
DTSTART;TZID=America/Denver:20200102T183000
DTEND;TZID=America/Denver:20200102T203000
DTSTAMP:20260424T214628
CREATED:20191227T192032Z
LAST-MODIFIED:20200617T195952Z
UID:1327-1577989800-1577997000@findingfreedom.solutions
SUMMARY:Women's First Thursday
DESCRIPTION:The First Thursday of every month our Women’s Leadership Team creates an evening for women to come together. Each month’s topic varies\, but there is always time for fellowship and community\, personal reflection\, and continuing to learn and grow with one another and to welcome more healing and redemption in our lives. \nThis is a great way to introduce Finding Freedom and the Rapha journey to new women so feel free to bring a friend\, all women are welcome!
URL:https://findingfreedom.solutions/event/womens-first-thursday/2020-01-02/
LOCATION:The Commons\, 1794 Baxter Lane East\, Bozeman\, MT\, 59718\, United States
END:VEVENT
END:VCALENDAR