BEGIN:VCALENDAR
VERSION:2.0
PRODID:-//Finding Freedom - ECPv6.15.20//NONSGML v1.0//EN
CALSCALE:GREGORIAN
METHOD:PUBLISH
X-ORIGINAL-URL:https://findingfreedom.solutions
X-WR-CALDESC:Events for Finding Freedom
REFRESH-INTERVAL;VALUE=DURATION:PT1H
X-Robots-Tag:noindex
X-PUBLISHED-TTL:PT1H
BEGIN:VTIMEZONE
TZID:America/Denver
BEGIN:DAYLIGHT
TZOFFSETFROM:-0700
TZOFFSETTO:-0600
TZNAME:MDT
DTSTART:20190310T090000
END:DAYLIGHT
BEGIN:STANDARD
TZOFFSETFROM:-0600
TZOFFSETTO:-0700
TZNAME:MST
DTSTART:20191103T080000
END:STANDARD
BEGIN:DAYLIGHT
TZOFFSETFROM:-0700
TZOFFSETTO:-0600
TZNAME:MDT
DTSTART:20200308T090000
END:DAYLIGHT
BEGIN:STANDARD
TZOFFSETFROM:-0600
TZOFFSETTO:-0700
TZNAME:MST
DTSTART:20201101T080000
END:STANDARD
BEGIN:DAYLIGHT
TZOFFSETFROM:-0700
TZOFFSETTO:-0600
TZNAME:MDT
DTSTART:20210314T090000
END:DAYLIGHT
BEGIN:STANDARD
TZOFFSETFROM:-0600
TZOFFSETTO:-0700
TZNAME:MST
DTSTART:20211107T080000
END:STANDARD
END:VTIMEZONE
BEGIN:VEVENT
DTSTART;TZID=America/Denver:20200519T063000
DTEND;TZID=America/Denver:20200519T203000
DTSTAMP:20260424T201658
CREATED:20200218T191752Z
LAST-MODIFIED:20200903T164016Z
UID:1979-1589869800-1589920200@findingfreedom.solutions
SUMMARY:Men's Open Group (virtual)
DESCRIPTION:Men\, if you are wanting some help on your discipleship journey or want to see what a Rapha Journey can look like\, this is a great place for you! This evening is an open forum for men to come as you are. There is no pressure to come with an issue/question/agenda. \nThis is a virtual gathering on Zoom every Tuesday evening from 6:30-8:30pm. All men are welcome! \nHere is the Zoom link for this gathering.\nIf you are unfamiliar with the Zoom platform please try logging on at 6:15pm.\nIf you have any problems\, get in touch with Jim via text at 406-581-4386 and he will offer you some support.
URL:https://findingfreedom.solutions/event/mens-open-group-manhattan/2020-05-19/
ORGANIZER;CN="Peter Holmes":MAILTO:Peter.Holmes@findingfreedom.solutions
END:VEVENT
END:VCALENDAR